Workbook

Sheet Dashboard
A1: Prior Authorization Dashboard
A3: As of Date | B3: 46271 | D3: Decision Due Soon Days | E3: 3 | G3: Expiration Warning Days | H3: 30
A6: Open Requests | B6: =COUNTIF('Authorization Tracker'!$H$6:$H$105,"Draft")+COUNTIF('Authorization Tracker'!$H$6:$H$105,"Submitted")+COUNTIF('Authorization Tracker'!$H$6:$H$105,"Payer Review")+COUNTIF('Authorization Tracker'!$H$6:$H$105,"Info Requested") | D6: Status | E6: Request Count | G6: Clinic | H6: Open Requests
A7: Overdue Decisions | B7: =COUNTIF('Authorization Tracker'!$W$6:$W$105,"Overdue decision") | D7: Draft | E7: =COUNTIF('Authorization Tracker'!$H$6:$H$105,D7) | G7: Cedar Grove Family Clinic | H7: =COUNTIFS('Authorization Tracker'!$B$6:$B$105,G7,'Authorization Tracker'!$H$6:$H$105,"Draft")+COUNTIFS('Authorization Tracker'!$B$6:$B$105,G7,'Authorization Tracker'!$H$6:$H$105,"Submitted")+COUNTIFS('Authorization Tracker'!$B$6:$B$105,G7,'Authorization Tracker'!$H$6:$H$105,"Payer Review")+COUNTIFS('Authorization Tracker'!$B$6:$B$105,G7,'Authorization Tracker'!$H$6:$H$105,"Info Requested")
A8: Decisions Due Soon | B8: =COUNTIF('Authorization Tracker'!$W$6:$W$105,"Decision due soon") | D8: Submitted | E8: =COUNTIF('Authorization Tracker'!$H$6:$H$105,D8) | G8: Northstar Specialty Center | H8: =COUNTIFS('Authorization Tracker'!$B$6:$B$105,G8,'Authorization Tracker'!$H$6:$H$105,"Draft")+COUNTIFS('Authorization Tracker'!$B$6:$B$105,G8,'Authorization Tracker'!$H$6:$H$105,"Submitted")+COUNTIFS('Authorization Tracker'!$B$6:$B$105,G8,'Authorization Tracker'!$H$6:$H$105,"Payer Review")+COUNTIFS('Authorization Tracker'!$B$6:$B$105,G8,'Authorization Tracker'!$H$6:$H$105,"Info Requested")
A9: Information Requested | B9: =COUNTIF('Authorization Tracker'!$H$6:$H$105,"Info Requested") | D9: Payer Review | E9: =COUNTIF('Authorization Tracker'!$H$6:$H$105,D9) | G9: Riverbend Medical Office | H9: =COUNTIFS('Authorization Tracker'!$B$6:$B$105,G9,'Authorization Tracker'!$H$6:$H$105,"Draft")+COUNTIFS('Authorization Tracker'!$B$6:$B$105,G9,'Authorization Tracker'!$H$6:$H$105,"Submitted")+COUNTIFS('Authorization Tracker'!$B$6:$B$105,G9,'Authorization Tracker'!$H$6:$H$105,"Payer Review")+COUNTIFS('Authorization Tracker'!$B$6:$B$105,G9,'Authorization Tracker'!$H$6:$H$105,"Info Requested")
A10: Approvals Expiring Soon | B10: =COUNTIF('Authorization Tracker'!$W$6:$W$105,"Authorization expiring soon") | D10: Info Requested | E10: =COUNTIF('Authorization Tracker'!$H$6:$H$105,D10) | G10: Summit View Clinic | H10: =COUNTIFS('Authorization Tracker'!$B$6:$B$105,G10,'Authorization Tracker'!$H$6:$H$105,"Draft")+COUNTIFS('Authorization Tracker'!$B$6:$B$105,G10,'Authorization Tracker'!$H$6:$H$105,"Submitted")+COUNTIFS('Authorization Tracker'!$B$6:$B$105,G10,'Authorization Tracker'!$H$6:$H$105,"Payer Review")+COUNTIFS('Authorization Tracker'!$B$6:$B$105,G10,'Authorization Tracker'!$H$6:$H$105,"Info Requested")
A11: Records With Data Issues | B11: =COUNTIF('Authorization Tracker'!$X$6:$X$105,"<>") | D11: Approved | E11: =COUNTIF('Authorization Tracker'!$H$6:$H$105,D11) | G11: Other / Unassigned | H11: =B6-SUM(H7:H10)
A12: Approval Rate | B12: =IF(COUNTIF('Authorization Tracker'!$H$6:$H$105,"Approved")+COUNTIF('Authorization Tracker'!$H$6:$H$105,"Denied")=0,"",COUNTIF('Authorization Tracker'!$H$6:$H$105,"Approved")/(COUNTIF('Authorization Tracker'!$H$6:$H$105,"Approved")+COUNTIF('Authorization Tracker'!$H$6:$H$105,"Denied"))) | D12: Denied | E12: =COUNTIF('Authorization Tracker'!$H$6:$H$105,D12) | H12: =""
B13: ="" | D13: Withdrawn | E13: =COUNTIF('Authorization Tracker'!$H$6:$H$105,D13) | H13: =""
B14: ="" | E14: ="" | H14: =""
B15: ="" | E15: ="" | H15: =""
B16: ="" | E16: ="" | H16: =""
B17: ="" | E17: ="" | H17: =""
B18: ="" | E18: ="" | H18: =""
B19: ="" | E19: ="" | H19: =""
B20: ="" | E20: ="" | H20: =""
B21: ="" | E21: ="" | H21: =""
B22: ="" | E22: ="" | H22: =""
B23: ="" | E23: ="" | H23: =""
B24: ="" | E24: ="" | H24: =""
B25: ="" | E25: ="" | H25: =""
... B101: ="" | E101: ="" | H101: =""

Sheet Authorization Tracker
A1: Prior Authorization Tracker
A2: Use authorization record IDs only. Do not enter patient names, birth dates, diagnoses, medical record numbers, or other direct patient identifiers.
A3: Blue cells are user inputs. Gray cells contain formulas. Dashboard alerts use the As of Date setting.
A5: Authorization Record ID | B5: Clinic | C5: Payer | D5: Service Category | E5: Request Type | F5: Submitted Date | G5: Decision Due Date | H5: Status | I5: Decision Date | J5: Authorization Number | K5: Service Start Date | L5: Service End Date | M5: Owner | N5: Priority | O5: Next Follow-Up Date | P5: Units Requested | Q5: Units Approved | R5: Denial Reason | S5: Operational Notes | T5: Request Age Days | U5: Days to Decision Due | V5: Days to Expiration | W5: Operational Alert | X5: Data Quality Check
A6: PA-FIC-260901 | B6: Cedar Grove Family Clinic | C6: Harbor Peak Health Plan | D6: Advanced Imaging | E6: Initial Request | F6: 46265 | G6: 46269 | H6: Payer Review | M6: Jordan Lee | N6: High | O6: 46273 | P6: 1 | S6: Payer portal shows review in progress. | T6: =IF(OR($A6="",$F6=""),"",MAX(0,Dashboard!$B$3-$F6)) | U6: =IF(OR($A6="",$G6="",OR($H6="Approved",$H6="Denied",$H6="Withdrawn")),"",$G6-Dashboard!$B$3) | V6: =IF(OR($A6="",$L6="",$H6<>"Approved"),"",$L6-Dashboard!$B$3) | W6: =IF($A6="","",IF($X6<>"","Data issue",IF(AND(OR($H6="Submitted",$H6="Payer Review",$H6="Info Requested"),$G6<Dashboard!$B$3),"Overdue decision",IF(AND($O6<>"",$O6<Dashboard!$B$3),"Follow-up overdue",IF(AND($G6>=Dashboard!$B$3,$G6<=Dashboard!$B$3+Dashboard!$E$3),"Decision due soon",IF(AND($H6="Approved",$L6<Dashboard!$B$3),"Authorization expired",IF(AND($H6="Approved",$L6<=Dashboard!$B$3+Dashboard!$H$3),"Authorization expiring soon",IF($H6="Info Requested","Information requested","")))))))) | X6: =IF($A6="","",IF(COUNTIF($A$6:$A$105,$A6)>1,"Duplicate record ID",IF($B6="","Missing clinic",IF($C6="","Missing payer",IF($D6="","Missing service category",IF($E6="","Missing request type",IF($H6="","Missing status",IF($M6="","Missing owner",IF($N6="","Missing priority","")))))))))
A7: PA-FIC-260902 | B7: Northstar Specialty Center | C7: Meridian Valley Assurance | D7: Outpatient Procedure | E7: Initial Request | F7: 46267 | G7: 46274 | H7: Submitted | M7: Casey Morgan | N7: Normal | O7: 46272 | P7: 1 | S7: Submission confirmation saved internally. | T7: =IF(OR($A7="",$F7=""),"",MAX(0,Dashboard!$B$3-$F7)) | U7: =IF(OR($A7="",$G7="",OR($H7="Approved",$H7="Denied",$H7="Withdrawn")),"",$G7-Dashboard!$B$3) | V7: =IF(OR($A7="",$L7="",$H7<>"Approved"),"",$L7-Dashboard!$B$3) | W7: =IF($A7="","",IF($X7<>"","Data issue",IF(AND(OR($H7="Submitted",$H7="Payer Review",$H7="Info Requested"),$G7<Dashboard!$B$3),"Overdue decision",IF(AND($O7<>"",$O7<Dashboard!$B$3),"Follow-up overdue",IF(AND($G7>=Dashboard!$B$3,$G7<=Dashboard!$B$3+Dashboard!$E$3),"Decision due soon",IF(AND($H7="Approved",$L7<Dashboard!$B$3),"Authorization expired",IF(AND($H7="Approved",$L7<=Dashboard!$B$3+Dashboard!$H$3),"Authorization expiring soon",IF($H7="Info Requested","Information requested","")))))))) | X7: =IF($A7="","",IF(COUNTIF($A$6:$A$105,$A7)>1,"Duplicate record ID",IF($B7="","Missing clinic",IF($C7="","Missing payer",IF($D7="","Missing service category",IF($E7="","Missing request type",IF($H7="","Missing status",IF($M7="","Missing owner",IF($N7="","Missing priority","")))))))))
A8: PA-FIC-260903 | B8: Riverbend Medical Office | C8: Blue Lantern Benefit Co. | D8: Therapy Services | E8: Renewal | F8: 46262 | G8: 46271 | H8: Info Requested | M8: Taylor Quinn | N8: High | O8: 46270 | P8: 12 | S8: Additional administrative documentation requested. | T8: =IF(OR($A8="",$F8=""),"",MAX(0,Dashboard!$B$3-$F8)) | U8: =IF(OR($A8="",$G8="",OR($H8="Approved",$H8="Denied",$H8="Withdrawn")),"",$G8-Dashboard!$B$3) | V8: =IF(OR($A8="",$L8="",$H8<>"Approved"),"",$L8-Dashboard!$B$3) | W8: =IF($A8="","",IF($X8<>"","Data issue",IF(AND(OR($H8="Submitted",$H8="Payer Review",$H8="Info Requested"),$G8<Dashboard!$B$3),"Overdue decision",IF(AND($O8<>"",$O8<Dashboard!$B$3),"Follow-up overdue",IF(AND($G8>=Dashboard!$B$3,$G8<=Dashboard!$B$3+Dashboard!$E$3),"Decision due soon",IF(AND($H8="Approved",$L8<Dashboard!$B$3),"Authorization expired",IF(AND($H8="Approved",$L8<=Dashboard!$B$3+Dashboard!$H$3),"Authorization expiring soon",IF($H8="Info Requested","Information requested","")))))))) | X8: =IF($A8="","",IF(COUNTIF($A$6:$A$105,$A8)>1,"Duplicate record ID",IF($B8="","Missing clinic",IF($C8="","Missing payer",IF($D8="","Missing service category",IF($E8="","Missing request type",IF($H8="","Missing status",IF($M8="","Missing owner",IF($N8="","Missing priority","")))))))))
A9: PA-FIC-260904 | B9: Summit View Clinic | C9: Redwood Horizon Health | D9: Durable Medical Equipment | E9: Initial Request | F9: 46259 | G9: 46268 | H9: Approved | I9: 46266 | J9: FIC-AUTH-84319 | K9: 46270 | L9: 46300 | M9: Morgan Reed | N9: Normal | P9: 1 | Q9: 1 | S9: Approval details entered from payer notice. | T9: =IF(OR($A9="",$F9=""),"",MAX(0,Dashboard!$B$3-$F9)) | U9: =IF(OR($A9="",$G9="",OR($H9="Approved",$H9="Denied",$H9="Withdrawn")),"",$G9-Dashboard!$B$3) | V9: =IF(OR($A9="",$L9="",$H9<>"Approved"),"",$L9-Dashboard!$B$3) | W9: =IF($A9="","",IF($X9<>"","Data issue",IF(AND(OR($H9="Submitted",$H9="Payer Review",$H9="Info Requested"),$G9<Dashboard!$B$3),"Overdue decision",IF(AND($O9<>"",$O9<Dashboard!$B$3),"Follow-up overdue",IF(AND($G9>=Dashboard!$B$3,$G9<=Dashboard!$B$3+Dashboard!$E$3),"Decision due soon",IF(AND($H9="Approved",$L9<Dashboard!$B$3),"Authorization expired",IF(AND($H9="Approved",$L9<=Dashboard!$B$3+Dashboard!$H$3),"Authorization expiring soon",IF($H9="Info Requested","Information requested","")))))))) | X9: =IF($A9="","",IF(COUNTIF($A$6:$A$105,$A9)>1,"Duplicate record ID",IF($B9="","Missing clinic",IF($C9="","Missing payer",IF($D9="","Missing service category",IF($E9="","Missing request type",IF($H9="","Missing status",IF($M9="","Missing owner",IF($N9="","Missing priority","")))))))))
A10: PA-FIC-260905 | B10: Cedar Grove Family Clinic | C10: Meridian Valley Assurance | D10: Specialty Medication | E10: Renewal | F10: 46254 | G10: 46262 | H10: Denied | I10: 46261 | M10: Avery Brooks | N10: High | P10: 3 | Q10: 0 | R10: Coverage Criteria Not Met | S10: Denial routed for administrative review. | T10: =IF(OR($A10="",$F10=""),"",MAX(0,Dashboard!$B$3-$F10)) | U10: =IF(OR($A10="",$G10="",OR($H10="Approved",$H10="Denied",$H10="Withdrawn")),"",$G10-Dashboard!$B$3) | V10: =IF(OR($A10="",$L10="",$H10<>"Approved"),"",$L10-Dashboard!$B$3) | W10: =IF($A10="","",IF($X10<>"","Data issue",IF(AND(OR($H10="Submitted",$H10="Payer Review",$H10="Info Requested"),$G10<Dashboard!$B$3),"Overdue decision",IF(AND($O10<>"",$O10<Dashboard!$B$3),"Follow-up overdue",IF(AND($G10>=Dashboard!$B$3,$G10<=Dashboard!$B$3+Dashboard!$E$3),"Decision due soon",IF(AND($H10="Approved",$L10<Dashboard!$B$3),"Authorization expired",IF(AND($H10="Approved",$L10<=Dashboard!$B$3+Dashboard!$H$3),"Authorization expiring soon",IF($H10="Info Requested","Information requested","")))))))) | X10: =IF($A10="","",IF(COUNTIF($A$6:$A$105,$A10)>1,"Duplicate record ID",IF($B10="","Missing clinic",IF($C10="","Missing payer",IF($D10="","Missing service category",IF($E10="","Missing request type",IF($H10="","Missing status",IF($M10="","Missing owner",IF($N10="","Missing priority","")))))))))
A11: PA-FIC-260906 | B11: Northstar Specialty Center | C11: Harbor Peak Health Plan | D11: Advanced Imaging | E11: Initial Request | F11: 46269 | G11: 46275 | H11: Draft | M11: Jordan Lee | N11: Normal | P11: 1 | S11: Awaiting completion of submission package. | T11: =IF(OR($A11="",$F11=""),"",MAX(0,Dashboard!$B$3-$F11)) | U11: =IF(OR($A11="",$G11="",OR($H11="Approved",$H11="Denied",$H11="Withdrawn")),"",$G11-Dashboard!$B$3) | V11: =IF(OR($A11="",$L11="",$H11<>"Approved"),"",$L11-Dashboard!$B$3) | W11: =IF($A11="","",IF($X11<>"","Data issue",IF(AND(OR($H11="Submitted",$H11="Payer Review",$H11="Info Requested"),$G11<Dashboard!$B$3),"Overdue decision",IF(AND($O11<>"",$O11<Dashboard!$B$3),"Follow-up overdue",IF(AND($G11>=Dashboard!$B$3,$G11<=Dashboard!$B$3+Dashboard!$E$3),"Decision due soon",IF(AND($H11="Approved",$L11<Dashboard!$B$3),"Authorization expired",IF(AND($H11="Approved",$L11<=Dashboard!$B$3+Dashboard!$H$3),"Authorization expiring soon",IF($H11="Info Requested","Information requested","")))))))) | X11: =IF($A11="","",IF(COUNTIF($A$6:$A$105,$A11)>1,"Duplicate record ID",IF($B11="","Missing clinic",IF($C11="","Missing payer",IF($D11="","Missing service category",IF($E11="","Missing request type",IF($H11="","Missing status",IF($M11="","Missing owner",IF($N11="","Missing priority","")))))))))
A12: PA-FIC-260907 | B12: Riverbend Medical Office | C12: Redwood Horizon Health | D12: Outpatient Procedure | E12: Urgent Request | F12: 46268 | G12: 46271 | H12: Submitted | M12: Casey Morgan | N12: Urgent | O12: 46271 | P12: 1 | S12: Urgent operational follow-up scheduled. | T12: =IF(OR($A12="",$F12=""),"",MAX(0,Dashboard!$B$3-$F12)) | U12: =IF(OR($A12="",$G12="",OR($H12="Approved",$H12="Denied",$H12="Withdrawn")),"",$G12-Dashboard!$B$3) | V12: =IF(OR($A12="",$L12="",$H12<>"Approved"),"",$L12-Dashboard!$B$3) | W12: =IF($A12="","",IF($X12<>"","Data issue",IF(AND(OR($H12="Submitted",$H12="Payer Review",$H12="Info Requested"),$G12<Dashboard!$B$3),"Overdue decision",IF(AND($O12<>"",$O12<Dashboard!$B$3),"Follow-up overdue",IF(AND($G12>=Dashboard!$B$3,$G12<=Dashboard!$B$3+Dashboard!$E$3),"Decision due soon",IF(AND($H12="Approved",$L12<Dashboard!$B$3),"Authorization expired",IF(AND($H12="Approved",$L12<=Dashboard!$B$3+Dashboard!$H$3),"Authorization expiring soon",IF($H12="Info Requested","Information requested","")))))))) | X12: =IF($A12="","",IF(COUNTIF($A$6:$A$105,$A12)>1,"Duplicate record ID",IF($B12="","Missing clinic",IF($C12="","Missing payer",IF($D12="","Missing service category",IF($E12="","Missing request type",IF($H12="","Missing status",IF($M12="","Missing owner",IF($N12="","Missing priority","")))))))))
A13: PA-FIC-260908 | B13: Summit View Clinic | C13: Blue Lantern Benefit Co. | D13: Therapy Services | E13: Initial Request | F13: 46244 | G13: 46252 | H13: Approved | I13: 46251 | J13: FIC-AUTH-27564 | K13: 46254 | L13: 46285 | M13: Taylor Quinn | N13: Normal | P13: 8 | Q13: 6 | S13: Approval includes fewer units than requested. | T13: =IF(OR($A13="",$F13=""),"",MAX(0,Dashboard!$B$3-$F13)) | U13: =IF(OR($A13="",$G13="",OR($H13="Approved",$H13="Denied",$H13="Withdrawn")),"",$G13-Dashboard!$B$3) | V13: =IF(OR($A13="",$L13="",$H13<>"Approved"),"",$L13-Dashboard!$B$3) | W13: =IF($A13="","",IF($X13<>"","Data issue",IF(AND(OR($H13="Submitted",$H13="Payer Review",$H13="Info Requested"),$G13<Dashboard!$B$3),"Overdue decision",IF(AND($O13<>"",$O13<Dashboard!$B$3),"Follow-up overdue",IF(AND($G13>=Dashboard!$B$3,$G13<=Dashboard!$B$3+Dashboard!$E$3),"Decision due soon",IF(AND($H13="Approved",$L13<Dashboard!$B$3),"Authorization expired",IF(AND($H13="Approved",$L13<=Dashboard!$B$3+Dashboard!$H$3),"Authorization expiring soon",IF($H13="Info Requested","Information requested","")))))))) | X13: =IF($A13="","",IF(COUNTIF($A$6:$A$105,$A13)>1,"Duplicate record ID",IF($B13="","Missing clinic",IF($C13="","Missing payer",IF($D13="","Missing service category",IF($E13="","Missing request type",IF($H13="","Missing status",IF($M13="","Missing owner",IF($N13="","Missing priority","")))))))))
A14: PA-FIC-260909 | B14: Cedar Grove Family Clinic | C14: Redwood Horizon Health | D14: Home Health Services | E14: Renewal | F14: 46263 | G14: 46272 | H14: Withdrawn | I14: 46267 | M14: Morgan Reed | N14: Low | P14: 6 | S14: Request withdrawn after office workflow review. | T14: =IF(OR($A14="",$F14=""),"",MAX(0,Dashboard!$B$3-$F14)) | U14: =IF(OR($A14="",$G14="",OR($H14="Approved",$H14="Denied",$H14="Withdrawn")),"",$G14-Dashboard!$B$3) | V14: =IF(OR($A14="",$L14="",$H14<>"Approved"),"",$L14-Dashboard!$B$3) | W14: =IF($A14="","",IF($X14<>"","Data issue",IF(AND(OR($H14="Submitted",$H14="Payer Review",$H14="Info Requested"),$G14<Dashboard!$B$3),"Overdue decision",IF(AND($O14<>"",$O14<Dashboard!$B$3),"Follow-up overdue",IF(AND($G14>=Dashboard!$B$3,$G14<=Dashboard!$B$3+Dashboard!$E$3),"Decision due soon",IF(AND($H14="Approved",$L14<Dashboard!$B$3),"Authorization expired",IF(AND($H14="Approved",$L14<=Dashboard!$B$3+Dashboard!$H$3),"Authorization expiring soon",IF($H14="Info Requested","Information requested","")))))))) | X14: =IF($A14="","",IF(COUNTIF($A$6:$A$105,$A14)>1,"Duplicate record ID",IF($B14="","Missing clinic",IF($C14="","Missing payer",IF($D14="","Missing service category",IF($E14="","Missing request type",IF($H14="","Missing status",IF($M14="","Missing owner",IF($N14="","Missing priority","")))))))))
A15: PA-FIC-260910 | B15: Northstar Specialty Center | C15: Meridian Valley Assurance | D15: Specialist Referral | E15: Initial Request | F15: 46266 | G15: 46273 | H15: Payer Review | M15: Avery Brooks | N15: Normal | O15: 46274 | P15: 1 | S15: Review status confirmed through fictional payer portal. | T15: =IF(OR($A15="",$F15=""),"",MAX(0,Dashboard!$B$3-$F15)) | U15: =IF(OR($A15="",$G15="",OR($H15="Approved",$H15="Denied",$H15="Withdrawn")),"",$G15-Dashboard!$B$3) | V15: =IF(OR($A15="",$L15="",$H15<>"Approved"),"",$L15-Dashboard!$B$3) | W15: =IF($A15="","",IF($X15<>"","Data issue",IF(AND(OR($H15="Submitted",$H15="Payer Review",$H15="Info Requested"),$G15<Dashboard!$B$3),"Overdue decision",IF(AND($O15<>"",$O15<Dashboard!$B$3),"Follow-up overdue",IF(AND($G15>=Dashboard!$B$3,$G15<=Dashboard!$B$3+Dashboard!$E$3),"Decision due soon",IF(AND($H15="Approved",$L15<Dashboard!$B$3),"Authorization expired",IF(AND($H15="Approved",$L15<=Dashboard!$B$3+Dashboard!$H$3),"Authorization expiring soon",IF($H15="Info Requested","Information requested","")))))))) | X15: =IF($A15="","",IF(COUNTIF($A$6:$A$105,$A15)>1,"Duplicate record ID",IF($B15="","Missing clinic",IF($C15="","Missing payer",IF($D15="","Missing service category",IF($E15="","Missing request type",IF($H15="","Missing status",IF($M15="","Missing owner",IF($N15="","Missing priority","")))))))))
T16: =IF(OR($A16="",$F16=""),"",MAX(0,Dashboard!$B$3-$F16)) | U16: =IF(OR($A16="",$G16="",OR($H16="Approved",$H16="Denied",$H16="Withdrawn")),"",$G16-Dashboard!$B$3) | V16: =IF(OR($A16="",$L16="",$H16<>"Approved"),"",$L16-Dashboard!$B$3) | W16: =IF($A16="","",IF($X16<>"","Data issue",IF(AND(OR($H16="Submitted",$H16="Payer Review",$H16="Info Requested"),$G16<Dashboard!$B$3),"Overdue decision",IF(AND($O16<>"",$O16<Dashboard!$B$3),"Follow-up overdue",IF(AND($G16>=Dashboard!$B$3,$G16<=Dashboard!$B$3+Dashboard!$E$3),"Decision due soon",IF(AND($H16="Approved",$L16<Dashboard!$B$3),"Authorization expired",IF(AND($H16="Approved",$L16<=Dashboard!$B$3+Dashboard!$H$3),"Authorization expiring soon",IF($H16="Info Requested","Information requested","")))))))) | X16: =IF($A16="","",IF(COUNTIF($A$6:$A$105,$A16)>1,"Duplicate record ID",IF($B16="","Missing clinic",IF($C16="","Missing payer",IF($D16="","Missing service category",IF($E16="","Missing request type",IF($H16="","Missing status",IF($M16="","Missing owner",IF($N16="","Missing priority","")))))))))
T17: =IF(OR($A17="",$F17=""),"",MAX(0,Dashboard!$B$3-$F17)) | U17: =IF(OR($A17="",$G17="",OR($H17="Approved",$H17="Denied",$H17="Withdrawn")),"",$G17-Dashboard!$B$3) | V17: =IF(OR($A17="",$L17="",$H17<>"Approved"),"",$L17-Dashboard!$B$3) | W17: =IF($A17="","",IF($X17<>"","Data issue",IF(AND(OR($H17="Submitted",$H17="Payer Review",$H17="Info Requested"),$G17<Dashboard!$B$3),"Overdue decision",IF(AND($O17<>"",$O17<Dashboard!$B$3),"Follow-up overdue",IF(AND($G17>=Dashboard!$B$3,$G17<=Dashboard!$B$3+Dashboard!$E$3),"Decision due soon",IF(AND($H17="Approved",$L17<Dashboard!$B$3),"Authorization expired",IF(AND($H17="Approved",$L17<=Dashboard!$B$3+Dashboard!$H$3),"Authorization expiring soon",IF($H17="Info Requested","Information requested","")))))))) | X17: =IF($A17="","",IF(COUNTIF($A$6:$A$105,$A17)>1,"Duplicate record ID",IF($B17="","Missing clinic",IF($C17="","Missing payer",IF($D17="","Missing service category",IF($E17="","Missing request type",IF($H17="","Missing status",IF($M17="","Missing owner",IF($N17="","Missing priority","")))))))))
T18: =IF(OR($A18="",$F18=""),"",MAX(0,Dashboard!$B$3-$F18)) | U18: =IF(OR($A18="",$G18="",OR($H18="Approved",$H18="Denied",$H18="Withdrawn")),"",$G18-Dashboard!$B$3) | V18: =IF(OR($A18="",$L18="",$H18<>"Approved"),"",$L18-Dashboard!$B$3) | W18: =IF($A18="","",IF($X18<>"","Data issue",IF(AND(OR($H18="Submitted",$H18="Payer Review",$H18="Info Requested"),$G18<Dashboard!$B$3),"Overdue decision",IF(AND($O18<>"",$O18<Dashboard!$B$3),"Follow-up overdue",IF(AND($G18>=Dashboard!$B$3,$G18<=Dashboard!$B$3+Dashboard!$E$3),"Decision due soon",IF(AND($H18="Approved",$L18<Dashboard!$B$3),"Authorization expired",IF(AND($H18="Approved",$L18<=Dashboard!$B$3+Dashboard!$H$3),"Authorization expiring soon",IF($H18="Info Requested","Information requested","")))))))) | X18: =IF($A18="","",IF(COUNTIF($A$6:$A$105,$A18)>1,"Duplicate record ID",IF($B18="","Missing clinic",IF($C18="","Missing payer",IF($D18="","Missing service category",IF($E18="","Missing request type",IF($H18="","Missing status",IF($M18="","Missing owner",IF($N18="","Missing priority","")))))))))
T19: =IF(OR($A19="",$F19=""),"",MAX(0,Dashboard!$B$3-$F19)) | U19: =IF(OR($A19="",$G19="",OR($H19="Approved",$H19="Denied",$H19="Withdrawn")),"",$G19-Dashboard!$B$3) | V19: =IF(OR($A19="",$L19="",$H19<>"Approved"),"",$L19-Dashboard!$B$3) | W19: =IF($A19="","",IF($X19<>"","Data issue",IF(AND(OR($H19="Submitted",$H19="Payer Review",$H19="Info Requested"),$G19<Dashboard!$B$3),"Overdue decision",IF(AND($O19<>"",$O19<Dashboard!$B$3),"Follow-up overdue",IF(AND($G19>=Dashboard!$B$3,$G19<=Dashboard!$B$3+Dashboard!$E$3),"Decision due soon",IF(AND($H19="Approved",$L19<Dashboard!$B$3),"Authorization expired",IF(AND($H19="Approved",$L19<=Dashboard!$B$3+Dashboard!$H$3),"Authorization expiring soon",IF($H19="Info Requested","Information requested","")))))))) | X19: =IF($A19="","",IF(COUNTIF($A$6:$A$105,$A19)>1,"Duplicate record ID",IF($B19="","Missing clinic",IF($C19="","Missing payer",IF($D19="","Missing service category",IF($E19="","Missing request type",IF($H19="","Missing status",IF($M19="","Missing owner",IF($N19="","Missing priority","")))))))))
T20: =IF(OR($A20="",$F20=""),"",MAX(0,Dashboard!$B$3-$F20)) | U20: =IF(OR($A20="",$G20="",OR($H20="Approved",$H20="Denied",$H20="Withdrawn")),"",$G20-Dashboard!$B$3) | V20: =IF(OR($A20="",$L20="",$H20<>"Approved"),"",$L20-Dashboard!$B$3) | W20: =IF($A20="","",IF($X20<>"","Data issue",IF(AND(OR($H20="Submitted",$H20="Payer Review",$H20="Info Requested"),$G20<Dashboard!$B$3),"Overdue decision",IF(AND($O20<>"",$O20<Dashboard!$B$3),"Follow-up overdue",IF(AND($G20>=Dashboard!$B$3,$G20<=Dashboard!$B$3+Dashboard!$E$3),"Decision due soon",IF(AND($H20="Approved",$L20<Dashboard!$B$3),"Authorization expired",IF(AND($H20="Approved",$L20<=Dashboard!$B$3+Dashboard!$H$3),"Authorization expiring soon",IF($H20="Info Requested","Information requested","")))))))) | X20: =IF($A20="","",IF(COUNTIF($A$6:$A$105,$A20)>1,"Duplicate record ID",IF($B20="","Missing clinic",IF($C20="","Missing payer",IF($D20="","Missing service category",IF($E20="","Missing request type",IF($H20="","Missing status",IF($M20="","Missing owner",IF($N20="","Missing priority","")))))))))
T21: =IF(OR($A21="",$F21=""),"",MAX(0,Dashboard!$B$3-$F21)) | U21: =IF(OR($A21="",$G21="",OR($H21="Approved",$H21="Denied",$H21="Withdrawn")),"",$G21-Dashboard!$B$3) | V21: =IF(OR($A21="",$L21="",$H21<>"Approved"),"",$L21-Dashboard!$B$3) | W21: =IF($A21="","",IF($X21<>"","Data issue",IF(AND(OR($H21="Submitted",$H21="Payer Review",$H21="Info Requested"),$G21<Dashboard!$B$3),"Overdue decision",IF(AND($O21<>"",$O21<Dashboard!$B$3),"Follow-up overdue",IF(AND($G21>=Dashboard!$B$3,$G21<=Dashboard!$B$3+Dashboard!$E$3),"Decision due soon",IF(AND($H21="Approved",$L21<Dashboard!$B$3),"Authorization expired",IF(AND($H21="Approved",$L21<=Dashboard!$B$3+Dashboard!$H$3),"Authorization expiring soon",IF($H21="Info Requested","Information requested","")))))))) | X21: =IF($A21="","",IF(COUNTIF($A$6:$A$105,$A21)>1,"Duplicate record ID",IF($B21="","Missing clinic",IF($C21="","Missing payer",IF($D21="","Missing service category",IF($E21="","Missing request type",IF($H21="","Missing status",IF($M21="","Missing owner",IF($N21="","Missing priority","")))))))))
T22: =IF(OR($A22="",$F22=""),"",MAX(0,Dashboard!$B$3-$F22)) | U22: =IF(OR($A22="",$G22="",OR($H22="Approved",$H22="Denied",$H22="Withdrawn")),"",$G22-Dashboard!$B$3) | V22: =IF(OR($A22="",$L22="",$H22<>"Approved"),"",$L22-Dashboard!$B$3) | W22: =IF($A22="","",IF($X22<>"","Data issue",IF(AND(OR($H22="Submitted",$H22="Payer Review",$H22="Info Requested"),$G22<Dashboard!$B$3),"Overdue decision",IF(AND($O22<>"",$O22<Dashboard!$B$3),"Follow-up overdue",IF(AND($G22>=Dashboard!$B$3,$G22<=Dashboard!$B$3+Dashboard!$E$3),"Decision due soon",IF(AND($H22="Approved",$L22<Dashboard!$B$3),"Authorization expired",IF(AND($H22="Approved",$L22<=Dashboard!$B$3+Dashboard!$H$3),"Authorization expiring soon",IF($H22="Info Requested","Information requested","")))))))) | X22: =IF($A22="","",IF(COUNTIF($A$6:$A$105,$A22)>1,"Duplicate record ID",IF($B22="","Missing clinic",IF($C22="","Missing payer",IF($D22="","Missing service category",IF($E22="","Missing request type",IF($H22="","Missing status",IF($M22="","Missing owner",IF($N22="","Missing priority","")))))))))
T23: =IF(OR($A23="",$F23=""),"",MAX(0,Dashboard!$B$3-$F23)) | U23: =IF(OR($A23="",$G23="",OR($H23="Approved",$H23="Denied",$H23="Withdrawn")),"",$G23-Dashboard!$B$3) | V23: =IF(OR($A23="",$L23="",$H23<>"Approved"),"",$L23-Dashboard!$B$3) | W23: =IF($A23="","",IF($X23<>"","Data issue",IF(AND(OR($H23="Submitted",$H23="Payer Review",$H23="Info Requested"),$G23<Dashboard!$B$3),"Overdue decision",IF(AND($O23<>"",$O23<Dashboard!$B$3),"Follow-up overdue",IF(AND($G23>=Dashboard!$B$3,$G23<=Dashboard!$B$3+Dashboard!$E$3),"Decision due soon",IF(AND($H23="Approved",$L23<Dashboard!$B$3),"Authorization expired",IF(AND($H23="Approved",$L23<=Dashboard!$B$3+Dashboard!$H$3),"Authorization expiring soon",IF($H23="Info Requested","Information requested","")))))))) | X23: =IF($A23="","",IF(COUNTIF($A$6:$A$105,$A23)>1,"Duplicate record ID",IF($B23="","Missing clinic",IF($C23="","Missing payer",IF($D23="","Missing service category",IF($E23="","Missing request type",IF($H23="","Missing status",IF($M23="","Missing owner",IF($N23="","Missing priority","")))))))))
T24: =IF(OR($A24="",$F24=""),"",MAX(0,Dashboard!$B$3-$F24)) | U24: =IF(OR($A24="",$G24="",OR($H24="Approved",$H24="Denied",$H24="Withdrawn")),"",$G24-Dashboard!$B$3) | V24: =IF(OR($A24="",$L24="",$H24<>"Approved"),"",$L24-Dashboard!$B$3) | W24: =IF($A24="","",IF($X24<>"","Data issue",IF(AND(OR($H24="Submitted",$H24="Payer Review",$H24="Info Requested"),$G24<Dashboard!$B$3),"Overdue decision",IF(AND($O24<>"",$O24<Dashboard!$B$3),"Follow-up overdue",IF(AND($G24>=Dashboard!$B$3,$G24<=Dashboard!$B$3+Dashboard!$E$3),"Decision due soon",IF(AND($H24="Approved",$L24<Dashboard!$B$3),"Authorization expired",IF(AND($H24="Approved",$L24<=Dashboard!$B$3+Dashboard!$H$3),"Authorization expiring soon",IF($H24="Info Requested","Information requested","")))))))) | X24: =IF($A24="","",IF(COUNTIF($A$6:$A$105,$A24)>1,"Duplicate record ID",IF($B24="","Missing clinic",IF($C24="","Missing payer",IF($D24="","Missing service category",IF($E24="","Missing request type",IF($H24="","Missing status",IF($M24="","Missing owner",IF($N24="","Missing priority","")))))))))
T25: =IF(OR($A25="",$F25=""),"",MAX(0,Dashboard!$B$3-$F25)) | U25: =IF(OR($A25="",$G25="",OR($H25="Approved",$H25="Denied",$H25="Withdrawn")),"",$G25-Dashboard!$B$3) | V25: =IF(OR($A25="",$L25="",$H25<>"Approved"),"",$L25-Dashboard!$B$3) | W25: =IF($A25="","",IF($X25<>"","Data issue",IF(AND(OR($H25="Submitted",$H25="Payer Review",$H25="Info Requested"),$G25<Dashboard!$B$3),"Overdue decision",IF(AND($O25<>"",$O25<Dashboard!$B$3),"Follow-up overdue",IF(AND($G25>=Dashboard!$B$3,$G25<=Dashboard!$B$3+Dashboard!$E$3),"Decision due soon",IF(AND($H25="Approved",$L25<Dashboard!$B$3),"Authorization expired",IF(AND($H25="Approved",$L25<=Dashboard!$B$3+Dashboard!$H$3),"Authorization expiring soon",IF($H25="Info Requested","Information requested","")))))))) | X25: =IF($A25="","",IF(COUNTIF($A$6:$A$105,$A25)>1,"Duplicate record ID",IF($B25="","Missing clinic",IF($C25="","Missing payer",IF($D25="","Missing service category",IF($E25="","Missing request type",IF($H25="","Missing status",IF($M25="","Missing owner",IF($N25="","Missing priority","")))))))))
T26: =IF(OR($A26="",$F26=""),"",MAX(0,Dashboard!$B$3-$F26)) | U26: =IF(OR($A26="",$G26="",OR($H26="Approved",$H26="Denied",$H26="Withdrawn")),"",$G26-Dashboard!$B$3) | V26: =IF(OR($A26="",$L26="",$H26<>"Approved"),"",$L26-Dashboard!$B$3) | W26: =IF($A26="","",IF($X26<>"","Data issue",IF(AND(OR($H26="Submitted",$H26="Payer Review",$H26="Info Requested"),$G26<Dashboard!$B$3),"Overdue decision",IF(AND($O26<>"",$O26<Dashboard!$B$3),"Follow-up overdue",IF(AND($G26>=Dashboard!$B$3,$G26<=Dashboard!$B$3+Dashboard!$E$3),"Decision due soon",IF(AND($H26="Approved",$L26<Dashboard!$B$3),"Authorization expired",IF(AND($H26="Approved",$L26<=Dashboard!$B$3+Dashboard!$H$3),"Authorization expiring soon",IF($H26="Info Requested","Information requested","")))))))) | X26: =IF($A26="","",IF(COUNTIF($A$6:$A$105,$A26)>1,"Duplicate record ID",IF($B26="","Missing clinic",IF($C26="","Missing payer",IF($D26="","Missing service category",IF($E26="","Missing request type",IF($H26="","Missing status",IF($M26="","Missing owner",IF($N26="","Missing priority","")))))))))
T27: =IF(OR($A27="",$F27=""),"",MAX(0,Dashboard!$B$3-$F27)) | U27: =IF(OR($A27="",$G27="",OR($H27="Approved",$H27="Denied",$H27="Withdrawn")),"",$G27-Dashboard!$B$3) | V27: =IF(OR($A27="",$L27="",$H27<>"Approved"),"",$L27-Dashboard!$B$3) | W27: =IF($A27="","",IF($X27<>"","Data issue",IF(AND(OR($H27="Submitted",$H27="Payer Review",$H27="Info Requested"),$G27<Dashboard!$B$3),"Overdue decision",IF(AND($O27<>"",$O27<Dashboard!$B$3),"Follow-up overdue",IF(AND($G27>=Dashboard!$B$3,$G27<=Dashboard!$B$3+Dashboard!$E$3),"Decision due soon",IF(AND($H27="Approved",$L27<Dashboard!$B$3),"Authorization expired",IF(AND($H27="Approved",$L27<=Dashboard!$B$3+Dashboard!$H$3),"Authorization expiring soon",IF($H27="Info Requested","Information requested","")))))))) | X27: =IF($A27="","",IF(COUNTIF($A$6:$A$105,$A27)>1,"Duplicate record ID",IF($B27="","Missing clinic",IF($C27="","Missing payer",IF($D27="","Missing service category",IF($E27="","Missing request type",IF($H27="","Missing status",IF($M27="","Missing owner",IF($N27="","Missing priority","")))))))))
... T105: =IF(OR($A105="",$F105=""),"",MAX(0,Dashboard!$B$3-$F105)) | U105: =IF(OR($A105="",$G105="",OR($H105="Approved",$H105="Denied",$H105="Withdrawn")),"",$G105-Dashboard!$B$3) | V105: =IF(OR($A105="",$L105="",$H105<>"Approved"),"",$L105-Dashboard!$B$3) | W105: =IF($A105="","",IF($X105<>"","Data issue",IF(AND(OR($H105="Submitted",$H105="Payer Review",$H105="Info Requested"),$G105<Dashboard!$B$3),"Overdue decision",IF(AND($O105<>"",$O105<Dashboard!$B$3),"Follow-up overdue",IF(AND($G105>=Dashboard!$B$3,$G105<=Dashboard!$B$3+Dashboard!$E$3),"Decision due soon",IF(AND($H105="Approved",$L105<Dashboard!$B$3),"Authorization expired",IF(AND($H105="Approved",$L105<=Dashboard!$B$3+Dashboard!$H$3),"Authorization expiring soon",IF($H105="Info Requested","Information requested","")))))))) | X105: =IF($A105="","",IF(COUNTIF($A$6:$A$105,$A105)>1,"Duplicate record ID",IF($B105="","Missing clinic",IF($C105="","Missing payer",IF($D105="","Missing service category",IF($E105="","Missing request type",IF($H105="","Missing status",IF($M105="","Missing owner",IF($N105="","Missing priority","")))))))))

Sheet Lists
A1: Clinics | B1: Payers | C1: Service Categories | D1: Request Types | E1: Statuses | F1: Owners | G1: Priorities | H1: Denial Reasons
A2: Cedar Grove Family Clinic | B2: Blue Lantern Benefit Co. | C2: Advanced Imaging | D2: Initial Request | E2: Draft | F2: Avery Brooks | G2: Low | H2: Coverage Criteria Not Met
A3: Northstar Specialty Center | B3: Harbor Peak Health Plan | C3: Durable Medical Equipment | D3: Renewal | E3: Submitted | F3: Casey Morgan | G3: Normal | H3: Missing Information
A4: Riverbend Medical Office | B4: Meridian Valley Assurance | C4: Home Health Services | D4: Urgent Request | E4: Payer Review | F4: Jordan Lee | G4: High | H4: Non-Covered Service
A5: Summit View Clinic | B5: Redwood Horizon Health | C5: Outpatient Procedure | D5: Appeal Follow-Up | E5: Info Requested | F5: Morgan Reed | G5: Urgent | H5: Out-of-Network Requirement
C6: Specialty Medication | E6: Approved | F6: Taylor Quinn | H6: Payer Administrative Denial
C7: Specialist Referral | E7: Denied | H7: Timely Filing Issue
C8: Therapy Services | E8: Withdrawn | H8: Other
C9: Other Administrative Service

Sheet Instructions
A1: Prior Authorization Tracker Instructions
A3: Workbook Purpose
A4: Use this workbook to monitor prior authorization requests, payer decisions, follow-up dates, and authorization expiration dates.
A6: Data Minimization
A7: Use a non-patient Authorization Record ID. Do not enter patient names, birth dates, medical record numbers, diagnoses, clinical narratives, or other direct patient identifiers.
A9: Daily Workflow
A10: Update the Dashboard As of Date, maintain request records, review operational alerts, and correct all data-quality issues.
A12: Important Limitations
A13: Dashboard dates use calendar days. Confirm payer requirements through approved organizational sources. Workbook alerts depend on complete and accurate entries.
