Workbook

Sheet Dashboard
A1: Patient Payment Plan Dashboard
A2: Administrative tracking only — use fictional or approved account references and no clinical details.
A4: As of Date | B4: =Setup!B3 | D4: Due Soon Window | E4: =Setup!B4 | F4: days
A6: Active Plans | C6: Original Plan Amount | E6: Total Posted Payments | G6: Outstanding Balance
B7: =COUNTIFS('Payment Plans'!$A$5:$A$254,"<>",'Payment Plans'!$Y$5:$Y$254,"<>Paid",'Payment Plans'!$Y$5:$Y$254,"<>Starts Later",'Payment Plans'!$C$5:$C$254,"Active") | D7: =SUMIFS('Payment Plans'!$G$5:$G$254,'Payment Plans'!$A$5:$A$254,"<>") | F7: =SUMIFS('Payment Plans'!$M$5:$M$254,'Payment Plans'!$A$5:$A$254,"<>") | H7: =SUMIFS('Payment Plans'!$N$5:$N$254,'Payment Plans'!$A$5:$A$254,"<>")
A9: Past-Due Plans | C9: Past-Due Amount | E9: Due Soon Plans | G9: Collection Progress
B10: =COUNTIFS('Payment Plans'!$O$5:$O$254,">0",'Payment Plans'!$C$5:$C$254,"Active") | D10: =SUMIFS('Payment Plans'!$O$5:$O$254,'Payment Plans'!$C$5:$C$254,"Active") | F10: =COUNTIFS('Payment Plans'!$Y$5:$Y$254,"Due Soon",'Payment Plans'!$C$5:$C$254,"Active") | H10: =IF(D7=0,0,F7/D7)
A13: Past-Due Aging | E13: Plan Status Summary
A14: Aging Bucket | B14: Plan Count | C14: Past-Due Amount | E14: Status | F14: Plan Count | G14: Outstanding Balance
A15: 1–30 Days | B15: =COUNTIF('Payment Plans'!$Q$5:$Q$254,$A15) | C15: =SUMIF('Payment Plans'!$Q$5:$Q$254,$A15,'Payment Plans'!$O$5:$O$254) | E15: Overdue | F15: =COUNTIF('Payment Plans'!$Y$5:$Y$254,$E15) | G15: =SUMIF('Payment Plans'!$Y$5:$Y$254,$E15,'Payment Plans'!$N$5:$N$254)
A16: 31–60 Days | B16: =COUNTIF('Payment Plans'!$Q$5:$Q$254,$A16) | C16: =SUMIF('Payment Plans'!$Q$5:$Q$254,$A16,'Payment Plans'!$O$5:$O$254) | E16: Due Soon | F16: =COUNTIF('Payment Plans'!$Y$5:$Y$254,$E16) | G16: =SUMIF('Payment Plans'!$Y$5:$Y$254,$E16,'Payment Plans'!$N$5:$N$254)
A17: 61–90 Days | B17: =COUNTIF('Payment Plans'!$Q$5:$Q$254,$A17) | C17: =SUMIF('Payment Plans'!$Q$5:$Q$254,$A17,'Payment Plans'!$O$5:$O$254) | E17: Current | F17: =COUNTIF('Payment Plans'!$Y$5:$Y$254,$E17) | G17: =SUMIF('Payment Plans'!$Y$5:$Y$254,$E17,'Payment Plans'!$N$5:$N$254)
A18: 91+ Days | B18: =COUNTIF('Payment Plans'!$Q$5:$Q$254,$A18) | C18: =SUMIF('Payment Plans'!$Q$5:$Q$254,$A18,'Payment Plans'!$O$5:$O$254) | E18: Paid | F18: =COUNTIF('Payment Plans'!$Y$5:$Y$254,$E18) | G18: =SUMIF('Payment Plans'!$Y$5:$Y$254,$E18,'Payment Plans'!$N$5:$N$254)
F19: ="" | G19: =""
F20: ="" | G20: =""
A21: Clinic Summary | F21: Review Alerts | G21: =""
A22: Clinic | B22: Active Plan Count | C22: Outstanding Balance | D22: Past-Due Amount | F22: Review Check | G22: ="" | H22: Count
A23: =Setup!D3 | B23: =COUNTIFS('Payment Plans'!$D$5:$D$254,$A23,'Payment Plans'!$C$5:$C$254,"Active",'Payment Plans'!$N$5:$N$254,">0") | C23: =SUMIFS('Payment Plans'!$N$5:$N$254,'Payment Plans'!$D$5:$D$254,$A23) | D23: =SUMIFS('Payment Plans'!$O$5:$O$254,'Payment Plans'!$D$5:$D$254,$A23) | F23: Invalid Plan Rows | G23: ="" | H23: =COUNTIF('Payment Plans'!$Z$5:$Z$254,"Review")
A24: =Setup!D4 | B24: =COUNTIFS('Payment Plans'!$D$5:$D$254,$A24,'Payment Plans'!$C$5:$C$254,"Active",'Payment Plans'!$N$5:$N$254,">0") | C24: =SUMIFS('Payment Plans'!$N$5:$N$254,'Payment Plans'!$D$5:$D$254,$A24) | D24: =SUMIFS('Payment Plans'!$O$5:$O$254,'Payment Plans'!$D$5:$D$254,$A24) | F24: Invalid Payment Rows | G24: ="" | H24: =COUNTIF(Payments!$M$5:$M$1004,"Review")
A25: =Setup!D5 | B25: =COUNTIFS('Payment Plans'!$D$5:$D$254,$A25,'Payment Plans'!$C$5:$C$254,"Active",'Payment Plans'!$N$5:$N$254,">0") | C25: =SUMIFS('Payment Plans'!$N$5:$N$254,'Payment Plans'!$D$5:$D$254,$A25) | D25: =SUMIFS('Payment Plans'!$O$5:$O$254,'Payment Plans'!$D$5:$D$254,$A25) | F25: Duplicate Plan IDs | G25: ="" | H25: =COUNTIF('Payment Plans'!$AA$5:$AA$254,"Duplicate Plan ID")
A26: =Setup!D6 | B26: =COUNTIFS('Payment Plans'!$D$5:$D$254,$A26,'Payment Plans'!$C$5:$C$254,"Active",'Payment Plans'!$N$5:$N$254,">0") | C26: =SUMIFS('Payment Plans'!$N$5:$N$254,'Payment Plans'!$D$5:$D$254,$A26) | D26: =SUMIFS('Payment Plans'!$O$5:$O$254,'Payment Plans'!$D$5:$D$254,$A26) | F26: Payments With Unknown Plan ID | G26: ="" | H26: =COUNTIF(Payments!$L$5:$L$1004,"Unknown Plan ID")
A27: =Setup!D7 | B27: =COUNTIFS('Payment Plans'!$D$5:$D$254,$A27,'Payment Plans'!$C$5:$C$254,"Active",'Payment Plans'!$N$5:$N$254,">0") | C27: =SUMIFS('Payment Plans'!$N$5:$N$254,'Payment Plans'!$D$5:$D$254,$A27) | D27: =SUMIFS('Payment Plans'!$O$5:$O$254,'Payment Plans'!$D$5:$D$254,$A27) | F27: Future-Dated Posted Payments | G27: ="" | H27: =COUNTIF(Payments!$L$5:$L$1004,"Future-Dated Payment")
A28: ="" | B28: ="" | C28: ="" | D28: ="" | F28: ="" | G28: ="" | H28: =""
A29: ="" | B29: ="" | C29: ="" | D29: ="" | F29: ="" | G29: ="" | H29: =""
A30: ="" | B30: ="" | C30: ="" | D30: ="" | F30: ="" | G30: ="" | H30: =""
A31: ="" | B31: ="" | C31: ="" | D31: ="" | F31: ="" | G31: ="" | H31: =""
A32: ="" | B32: ="" | C32: ="" | D32: ="" | F32: ="" | G32: ="" | H32: =""
A33: ="" | B33: ="" | C33: ="" | D33: ="" | F33: ="" | G33: ="" | H33: =""
A34: ="" | B34: ="" | C34: ="" | D34: ="" | F34: ="" | G34: ="" | H34: =""
A35: ="" | B35: ="" | C35: ="" | D35: ="" | F35: ="" | G35: ="" | H35: =""
A36: ="" | B36: ="" | C36: ="" | D36: ="" | F36: ="" | G36: ="" | H36: =""
A37: ="" | B37: ="" | C37: ="" | D37: ="" | F37: ="" | G37: ="" | H37: =""
A38: ="" | B38: ="" | C38: ="" | D38: ="" | F38: ="" | G38: ="" | H38: =""
A39: ="" | B39: ="" | C39: ="" | D39: ="" | F39: ="" | G39: ="" | H39: =""
... A101: ="" | B101: ="" | C101: ="" | D101: ="" | F101: ="" | G101: ="" | H101: =""

Sheet Payment Plans
A1: Payment Plans
A2: Enter one row per payment plan. Editable cells are highlighted; gray cells are calculated.
A4: Plan ID | B4: Account Alias | C4: Plan Record Status | D4: Clinic | E4: Responsible Team | F4: Plan Start Date | G4: Original Plan Amount | H4: Monthly Installment | I4: Number of Installments | J4: Contract End Date | K4: Scheduled Amount as of Date | L4: Posted Payments as of Date | M4: Total Posted Payments | N4: Outstanding Balance | O4: Past-Due Amount | P4: Aging Days | Q4: Aging Bucket | R4: Next Due Date | S4: Days Until Next Due | T4: Last Posted Payment Date | U4: Last Posted Payment Amount | V4: Follow-Up Owner | W4: Next Follow-Up Date | X4: Administrative Note | Y4: Plan Status | Z4: Row Check | AA4: Duplicate Check
A5: PPF-26001 | B5: Account Bluebird | C5: Active | D5: Northstar Family Clinic | E5: Patient Accounts | F5: 46127 | G5: 600 | H5: 100 | I5: =IF($A5="","",IF(OR($G5<=0,$H5<=0),"",ROUNDUP($G5/$H5,0))) | J5: =IF(OR($A5="",$F5="",$I5=""),"",EDATE($F5,$I5-1)) | K5: =IF(OR($A5="",$F5="",$G5<=0,$H5<=0),"",IF(Setup!$B$3<$F5,0,MIN($G5,$H5*MIN($I5,DATEDIF($F5,Setup!$B$3,"m")+1)))) | L5: =IF($A5="","",SUMIFS(Payments!$F$5:$F$1004,Payments!$B$5:$B$1004,$A5,Payments!$G$5:$G$1004,"Posted",Payments!$E$5:$E$1004,"<="&Setup!$B$3)) | M5: =IF($A5="","",SUMIFS(Payments!$F$5:$F$1004,Payments!$B$5:$B$1004,$A5,Payments!$G$5:$G$1004,"Posted")) | N5: =IF($A5="","",MAX(0,$G5-$L5)) | O5: =IF($A5="","",MAX(0,$K5-$L5)) | P5: =IF(OR($A5="",$O5<=0,$R5=""),0,MAX(1,Setup!$B$3-$R5)) | Q5: =IF($A5="","",IF($O5<=0,"",IF($P5<=30,"1–30 Days",IF($P5<=60,"31–60 Days",IF($P5<=90,"61–90 Days","91+ Days"))))) | R5: =IF(OR($A5="",$F5="",$G5<=0,$H5<=0),"",IF($N5<=0,"",EDATE($F5,MIN($I5-1,INT($L5/$H5))))) | S5: =IF(OR($A5="",$R5=""),"",$R5-Setup!$B$3) | T5: =IF($A5="","",IF(COUNTIFS(Payments!$B$5:$B$1004,$A5,Payments!$G$5:$G$1004,"Posted")=0,"",LOOKUP(2,1/((Payments!$B$5:$B$1004=$A5)*(Payments!$G$5:$G$1004="Posted")),Payments!$E$5:$E$1004))) | U5: =IF(OR($A5="",$T5=""),"",SUMIFS(Payments!$F$5:$F$1004,Payments!$B$5:$B$1004,$A5,Payments!$G$5:$G$1004,"Posted",Payments!$E$5:$E$1004,$T5)) | V5: Staff A | W5: 46273 | X5: Confirm September installment. | Y5: =IF($A5="","",IF($C5="Closed",IF($N5<=0,"Paid","Closed With Balance"),IF(Setup!$B$3<$F5,"Starts Later",IF($N5<=0,"Paid",IF($O5>0,"Overdue",IF(AND($R5<>"",$R5>=Setup!$B$3,$R5<=Setup!$B$3+Setup!$B$4),"Due Soon","Current")))))) | Z5: =IF($A5="","",IF(OR($B5="",$C5="",$D5="",$E5="",$F5="",$G5<=0,$H5<=0,$V5=""),"Review",IF($H5>$G5,"Review",IF(AND($W5<>"",NOT(ISNUMBER($W5))),"Review","OK")))) | AA5: =IF($A5="","",IF(COUNTIF($A$5:$A$254,$A5)>1,"Duplicate Plan ID","OK"))
A6: PPF-26002 | B6: Account Juniper | C6: Active | D6: Cedar Grove Medical Office | E6: Central Billing | F6: 46174 | G6: 900 | H6: 150 | I6: =IF($A6="","",IF(OR($G6<=0,$H6<=0),"",ROUNDUP($G6/$H6,0))) | J6: =IF(OR($A6="",$F6="",$I6=""),"",EDATE($F6,$I6-1)) | K6: =IF(OR($A6="",$F6="",$G6<=0,$H6<=0),"",IF(Setup!$B$3<$F6,0,MIN($G6,$H6*MIN($I6,DATEDIF($F6,Setup!$B$3,"m")+1)))) | L6: =IF($A6="","",SUMIFS(Payments!$F$5:$F$1004,Payments!$B$5:$B$1004,$A6,Payments!$G$5:$G$1004,"Posted",Payments!$E$5:$E$1004,"<="&Setup!$B$3)) | M6: =IF($A6="","",SUMIFS(Payments!$F$5:$F$1004,Payments!$B$5:$B$1004,$A6,Payments!$G$5:$G$1004,"Posted")) | N6: =IF($A6="","",MAX(0,$G6-$L6)) | O6: =IF($A6="","",MAX(0,$K6-$L6)) | P6: =IF(OR($A6="",$O6<=0,$R6=""),0,MAX(1,Setup!$B$3-$R6)) | Q6: =IF($A6="","",IF($O6<=0,"",IF($P6<=30,"1–30 Days",IF($P6<=60,"31–60 Days",IF($P6<=90,"61–90 Days","91+ Days"))))) | R6: =IF(OR($A6="",$F6="",$G6<=0,$H6<=0),"",IF($N6<=0,"",EDATE($F6,MIN($I6-1,INT($L6/$H6))))) | S6: =IF(OR($A6="",$R6=""),"",$R6-Setup!$B$3) | T6: =IF($A6="","",IF(COUNTIFS(Payments!$B$5:$B$1004,$A6,Payments!$G$5:$G$1004,"Posted")=0,"",LOOKUP(2,1/((Payments!$B$5:$B$1004=$A6)*(Payments!$G$5:$G$1004="Posted")),Payments!$E$5:$E$1004))) | U6: =IF(OR($A6="",$T6=""),"",SUMIFS(Payments!$F$5:$F$1004,Payments!$B$5:$B$1004,$A6,Payments!$G$5:$G$1004,"Posted",Payments!$E$5:$E$1004,$T6)) | V6: Staff B | W6: 46272 | X6: Review missed installment. | Y6: =IF($A6="","",IF($C6="Closed",IF($N6<=0,"Paid","Closed With Balance"),IF(Setup!$B$3<$F6,"Starts Later",IF($N6<=0,"Paid",IF($O6>0,"Overdue",IF(AND($R6<>"",$R6>=Setup!$B$3,$R6<=Setup!$B$3+Setup!$B$4),"Due Soon","Current")))))) | Z6: =IF($A6="","",IF(OR($B6="",$C6="",$D6="",$E6="",$F6="",$G6<=0,$H6<=0,$V6=""),"Review",IF($H6>$G6,"Review",IF(AND($W6<>"",NOT(ISNUMBER($W6))),"Review","OK")))) | AA6: =IF($A6="","",IF(COUNTIF($A$5:$A$254,$A6)>1,"Duplicate Plan ID","OK"))
A7: PPF-26003 | B7: Account Maple | C7: Active | D7: Lakeside Community Clinic | E7: Front Desk Team | F7: 46254 | G7: 480 | H7: 80 | I7: =IF($A7="","",IF(OR($G7<=0,$H7<=0),"",ROUNDUP($G7/$H7,0))) | J7: =IF(OR($A7="",$F7="",$I7=""),"",EDATE($F7,$I7-1)) | K7: =IF(OR($A7="",$F7="",$G7<=0,$H7<=0),"",IF(Setup!$B$3<$F7,0,MIN($G7,$H7*MIN($I7,DATEDIF($F7,Setup!$B$3,"m")+1)))) | L7: =IF($A7="","",SUMIFS(Payments!$F$5:$F$1004,Payments!$B$5:$B$1004,$A7,Payments!$G$5:$G$1004,"Posted",Payments!$E$5:$E$1004,"<="&Setup!$B$3)) | M7: =IF($A7="","",SUMIFS(Payments!$F$5:$F$1004,Payments!$B$5:$B$1004,$A7,Payments!$G$5:$G$1004,"Posted")) | N7: =IF($A7="","",MAX(0,$G7-$L7)) | O7: =IF($A7="","",MAX(0,$K7-$L7)) | P7: =IF(OR($A7="",$O7<=0,$R7=""),0,MAX(1,Setup!$B$3-$R7)) | Q7: =IF($A7="","",IF($O7<=0,"",IF($P7<=30,"1–30 Days",IF($P7<=60,"31–60 Days",IF($P7<=90,"61–90 Days","91+ Days"))))) | R7: =IF(OR($A7="",$F7="",$G7<=0,$H7<=0),"",IF($N7<=0,"",EDATE($F7,MIN($I7-1,INT($L7/$H7))))) | S7: =IF(OR($A7="",$R7=""),"",$R7-Setup!$B$3) | T7: =IF($A7="","",IF(COUNTIFS(Payments!$B$5:$B$1004,$A7,Payments!$G$5:$G$1004,"Posted")=0,"",LOOKUP(2,1/((Payments!$B$5:$B$1004=$A7)*(Payments!$G$5:$G$1004="Posted")),Payments!$E$5:$E$1004))) | U7: =IF(OR($A7="",$T7=""),"",SUMIFS(Payments!$F$5:$F$1004,Payments!$B$5:$B$1004,$A7,Payments!$G$5:$G$1004,"Posted",Payments!$E$5:$E$1004,$T7)) | V7: Staff C | W7: 46283 | X7: Courtesy reminder requested. | Y7: =IF($A7="","",IF($C7="Closed",IF($N7<=0,"Paid","Closed With Balance"),IF(Setup!$B$3<$F7,"Starts Later",IF($N7<=0,"Paid",IF($O7>0,"Overdue",IF(AND($R7<>"",$R7>=Setup!$B$3,$R7<=Setup!$B$3+Setup!$B$4),"Due Soon","Current")))))) | Z7: =IF($A7="","",IF(OR($B7="",$C7="",$D7="",$E7="",$F7="",$G7<=0,$H7<=0,$V7=""),"Review",IF($H7>$G7,"Review",IF(AND($W7<>"",NOT(ISNUMBER($W7))),"Review","OK")))) | AA7: =IF($A7="","",IF(COUNTIF($A$5:$A$254,$A7)>1,"Duplicate Plan ID","OK"))
A8: PPF-26004 | B8: Account Lantern | C8: Active | D8: Prairie View Health Center | E8: Patient Accounts | F8: 46032 | G8: 1200 | H8: 100 | I8: =IF($A8="","",IF(OR($G8<=0,$H8<=0),"",ROUNDUP($G8/$H8,0))) | J8: =IF(OR($A8="",$F8="",$I8=""),"",EDATE($F8,$I8-1)) | K8: =IF(OR($A8="",$F8="",$G8<=0,$H8<=0),"",IF(Setup!$B$3<$F8,0,MIN($G8,$H8*MIN($I8,DATEDIF($F8,Setup!$B$3,"m")+1)))) | L8: =IF($A8="","",SUMIFS(Payments!$F$5:$F$1004,Payments!$B$5:$B$1004,$A8,Payments!$G$5:$G$1004,"Posted",Payments!$E$5:$E$1004,"<="&Setup!$B$3)) | M8: =IF($A8="","",SUMIFS(Payments!$F$5:$F$1004,Payments!$B$5:$B$1004,$A8,Payments!$G$5:$G$1004,"Posted")) | N8: =IF($A8="","",MAX(0,$G8-$L8)) | O8: =IF($A8="","",MAX(0,$K8-$L8)) | P8: =IF(OR($A8="",$O8<=0,$R8=""),0,MAX(1,Setup!$B$3-$R8)) | Q8: =IF($A8="","",IF($O8<=0,"",IF($P8<=30,"1–30 Days",IF($P8<=60,"31–60 Days",IF($P8<=90,"61–90 Days","91+ Days"))))) | R8: =IF(OR($A8="",$F8="",$G8<=0,$H8<=0),"",IF($N8<=0,"",EDATE($F8,MIN($I8-1,INT($L8/$H8))))) | S8: =IF(OR($A8="",$R8=""),"",$R8-Setup!$B$3) | T8: =IF($A8="","",IF(COUNTIFS(Payments!$B$5:$B$1004,$A8,Payments!$G$5:$G$1004,"Posted")=0,"",LOOKUP(2,1/((Payments!$B$5:$B$1004=$A8)*(Payments!$G$5:$G$1004="Posted")),Payments!$E$5:$E$1004))) | U8: =IF(OR($A8="",$T8=""),"",SUMIFS(Payments!$F$5:$F$1004,Payments!$B$5:$B$1004,$A8,Payments!$G$5:$G$1004,"Posted",Payments!$E$5:$E$1004,$T8)) | V8: Staff D | W8: 46274 | X8: Multiple installments outstanding. | Y8: =IF($A8="","",IF($C8="Closed",IF($N8<=0,"Paid","Closed With Balance"),IF(Setup!$B$3<$F8,"Starts Later",IF($N8<=0,"Paid",IF($O8>0,"Overdue",IF(AND($R8<>"",$R8>=Setup!$B$3,$R8<=Setup!$B$3+Setup!$B$4),"Due Soon","Current")))))) | Z8: =IF($A8="","",IF(OR($B8="",$C8="",$D8="",$E8="",$F8="",$G8<=0,$H8<=0,$V8=""),"Review",IF($H8>$G8,"Review",IF(AND($W8<>"",NOT(ISNUMBER($W8))),"Review","OK")))) | AA8: =IF($A8="","",IF(COUNTIF($A$5:$A$254,$A8)>1,"Duplicate Plan ID","OK"))
A9: PPF-26005 | B9: Account Harbor | C9: Closed | D9: Harbor Point Medical Office | E9: Office Administration | F9: 46086 | G9: 300 | H9: 100 | I9: =IF($A9="","",IF(OR($G9<=0,$H9<=0),"",ROUNDUP($G9/$H9,0))) | J9: =IF(OR($A9="",$F9="",$I9=""),"",EDATE($F9,$I9-1)) | K9: =IF(OR($A9="",$F9="",$G9<=0,$H9<=0),"",IF(Setup!$B$3<$F9,0,MIN($G9,$H9*MIN($I9,DATEDIF($F9,Setup!$B$3,"m")+1)))) | L9: =IF($A9="","",SUMIFS(Payments!$F$5:$F$1004,Payments!$B$5:$B$1004,$A9,Payments!$G$5:$G$1004,"Posted",Payments!$E$5:$E$1004,"<="&Setup!$B$3)) | M9: =IF($A9="","",SUMIFS(Payments!$F$5:$F$1004,Payments!$B$5:$B$1004,$A9,Payments!$G$5:$G$1004,"Posted")) | N9: =IF($A9="","",MAX(0,$G9-$L9)) | O9: =IF($A9="","",MAX(0,$K9-$L9)) | P9: =IF(OR($A9="",$O9<=0,$R9=""),0,MAX(1,Setup!$B$3-$R9)) | Q9: =IF($A9="","",IF($O9<=0,"",IF($P9<=30,"1–30 Days",IF($P9<=60,"31–60 Days",IF($P9<=90,"61–90 Days","91+ Days"))))) | R9: =IF(OR($A9="",$F9="",$G9<=0,$H9<=0),"",IF($N9<=0,"",EDATE($F9,MIN($I9-1,INT($L9/$H9))))) | S9: =IF(OR($A9="",$R9=""),"",$R9-Setup!$B$3) | T9: =IF($A9="","",IF(COUNTIFS(Payments!$B$5:$B$1004,$A9,Payments!$G$5:$G$1004,"Posted")=0,"",LOOKUP(2,1/((Payments!$B$5:$B$1004=$A9)*(Payments!$G$5:$G$1004="Posted")),Payments!$E$5:$E$1004))) | U9: =IF(OR($A9="",$T9=""),"",SUMIFS(Payments!$F$5:$F$1004,Payments!$B$5:$B$1004,$A9,Payments!$G$5:$G$1004,"Posted",Payments!$E$5:$E$1004,$T9)) | V9: Supervisor A | X9: Plan paid in full. | Y9: =IF($A9="","",IF($C9="Closed",IF($N9<=0,"Paid","Closed With Balance"),IF(Setup!$B$3<$F9,"Starts Later",IF($N9<=0,"Paid",IF($O9>0,"Overdue",IF(AND($R9<>"",$R9>=Setup!$B$3,$R9<=Setup!$B$3+Setup!$B$4),"Due Soon","Current")))))) | Z9: =IF($A9="","",IF(OR($B9="",$C9="",$D9="",$E9="",$F9="",$G9<=0,$H9<=0,$V9=""),"Review",IF($H9>$G9,"Review",IF(AND($W9<>"",NOT(ISNUMBER($W9))),"Review","OK")))) | AA9: =IF($A9="","",IF(COUNTIF($A$5:$A$254,$A9)>1,"Duplicate Plan ID","OK"))
A10: PPF-26006 | B10: Account Willow | C10: Active | D10: Northstar Family Clinic | E10: Central Billing | F10: 46296 | G10: 750 | H10: 125 | I10: =IF($A10="","",IF(OR($G10<=0,$H10<=0),"",ROUNDUP($G10/$H10,0))) | J10: =IF(OR($A10="",$F10="",$I10=""),"",EDATE($F10,$I10-1)) | K10: =IF(OR($A10="",$F10="",$G10<=0,$H10<=0),"",IF(Setup!$B$3<$F10,0,MIN($G10,$H10*MIN($I10,DATEDIF($F10,Setup!$B$3,"m")+1)))) | L10: =IF($A10="","",SUMIFS(Payments!$F$5:$F$1004,Payments!$B$5:$B$1004,$A10,Payments!$G$5:$G$1004,"Posted",Payments!$E$5:$E$1004,"<="&Setup!$B$3)) | M10: =IF($A10="","",SUMIFS(Payments!$F$5:$F$1004,Payments!$B$5:$B$1004,$A10,Payments!$G$5:$G$1004,"Posted")) | N10: =IF($A10="","",MAX(0,$G10-$L10)) | O10: =IF($A10="","",MAX(0,$K10-$L10)) | P10: =IF(OR($A10="",$O10<=0,$R10=""),0,MAX(1,Setup!$B$3-$R10)) | Q10: =IF($A10="","",IF($O10<=0,"",IF($P10<=30,"1–30 Days",IF($P10<=60,"31–60 Days",IF($P10<=90,"61–90 Days","91+ Days"))))) | R10: =IF(OR($A10="",$F10="",$G10<=0,$H10<=0),"",IF($N10<=0,"",EDATE($F10,MIN($I10-1,INT($L10/$H10))))) | S10: =IF(OR($A10="",$R10=""),"",$R10-Setup!$B$3) | T10: =IF($A10="","",IF(COUNTIFS(Payments!$B$5:$B$1004,$A10,Payments!$G$5:$G$1004,"Posted")=0,"",LOOKUP(2,1/((Payments!$B$5:$B$1004=$A10)*(Payments!$G$5:$G$1004="Posted")),Payments!$E$5:$E$1004))) | U10: =IF(OR($A10="",$T10=""),"",SUMIFS(Payments!$F$5:$F$1004,Payments!$B$5:$B$1004,$A10,Payments!$G$5:$G$1004,"Posted",Payments!$E$5:$E$1004,$T10)) | V10: Staff E | W10: 46290 | X10: Plan starts next month. | Y10: =IF($A10="","",IF($C10="Closed",IF($N10<=0,"Paid","Closed With Balance"),IF(Setup!$B$3<$F10,"Starts Later",IF($N10<=0,"Paid",IF($O10>0,"Overdue",IF(AND($R10<>"",$R10>=Setup!$B$3,$R10<=Setup!$B$3+Setup!$B$4),"Due Soon","Current")))))) | Z10: =IF($A10="","",IF(OR($B10="",$C10="",$D10="",$E10="",$F10="",$G10<=0,$H10<=0,$V10=""),"Review",IF($H10>$G10,"Review",IF(AND($W10<>"",NOT(ISNUMBER($W10))),"Review","OK")))) | AA10: =IF($A10="","",IF(COUNTIF($A$5:$A$254,$A10)>1,"Duplicate Plan ID","OK"))
A11: PPF-26007 | B11: Account Copper | C11: Active | D11: Cedar Grove Medical Office | E11: Patient Accounts | F11: 46154 | G11: 1050 | H11: 175 | I11: =IF($A11="","",IF(OR($G11<=0,$H11<=0),"",ROUNDUP($G11/$H11,0))) | J11: =IF(OR($A11="",$F11="",$I11=""),"",EDATE($F11,$I11-1)) | K11: =IF(OR($A11="",$F11="",$G11<=0,$H11<=0),"",IF(Setup!$B$3<$F11,0,MIN($G11,$H11*MIN($I11,DATEDIF($F11,Setup!$B$3,"m")+1)))) | L11: =IF($A11="","",SUMIFS(Payments!$F$5:$F$1004,Payments!$B$5:$B$1004,$A11,Payments!$G$5:$G$1004,"Posted",Payments!$E$5:$E$1004,"<="&Setup!$B$3)) | M11: =IF($A11="","",SUMIFS(Payments!$F$5:$F$1004,Payments!$B$5:$B$1004,$A11,Payments!$G$5:$G$1004,"Posted")) | N11: =IF($A11="","",MAX(0,$G11-$L11)) | O11: =IF($A11="","",MAX(0,$K11-$L11)) | P11: =IF(OR($A11="",$O11<=0,$R11=""),0,MAX(1,Setup!$B$3-$R11)) | Q11: =IF($A11="","",IF($O11<=0,"",IF($P11<=30,"1–30 Days",IF($P11<=60,"31–60 Days",IF($P11<=90,"61–90 Days","91+ Days"))))) | R11: =IF(OR($A11="",$F11="",$G11<=0,$H11<=0),"",IF($N11<=0,"",EDATE($F11,MIN($I11-1,INT($L11/$H11))))) | S11: =IF(OR($A11="",$R11=""),"",$R11-Setup!$B$3) | T11: =IF($A11="","",IF(COUNTIFS(Payments!$B$5:$B$1004,$A11,Payments!$G$5:$G$1004,"Posted")=0,"",LOOKUP(2,1/((Payments!$B$5:$B$1004=$A11)*(Payments!$G$5:$G$1004="Posted")),Payments!$E$5:$E$1004))) | U11: =IF(OR($A11="",$T11=""),"",SUMIFS(Payments!$F$5:$F$1004,Payments!$B$5:$B$1004,$A11,Payments!$G$5:$G$1004,"Posted",Payments!$E$5:$E$1004,$T11)) | V11: Staff A | W11: 46275 | X11: Partial installment received. | Y11: =IF($A11="","",IF($C11="Closed",IF($N11<=0,"Paid","Closed With Balance"),IF(Setup!$B$3<$F11,"Starts Later",IF($N11<=0,"Paid",IF($O11>0,"Overdue",IF(AND($R11<>"",$R11>=Setup!$B$3,$R11<=Setup!$B$3+Setup!$B$4),"Due Soon","Current")))))) | Z11: =IF($A11="","",IF(OR($B11="",$C11="",$D11="",$E11="",$F11="",$G11<=0,$H11<=0,$V11=""),"Review",IF($H11>$G11,"Review",IF(AND($W11<>"",NOT(ISNUMBER($W11))),"Review","OK")))) | AA11: =IF($A11="","",IF(COUNTIF($A$5:$A$254,$A11)>1,"Duplicate Plan ID","OK"))
A12: PPF-26008 | B12: Account Meadow | C12: Active | D12: Lakeside Community Clinic | E12: Front Desk Team | F12: 46233 | G12: 240 | H12: 60 | I12: =IF($A12="","",IF(OR($G12<=0,$H12<=0),"",ROUNDUP($G12/$H12,0))) | J12: =IF(OR($A12="",$F12="",$I12=""),"",EDATE($F12,$I12-1)) | K12: =IF(OR($A12="",$F12="",$G12<=0,$H12<=0),"",IF(Setup!$B$3<$F12,0,MIN($G12,$H12*MIN($I12,DATEDIF($F12,Setup!$B$3,"m")+1)))) | L12: =IF($A12="","",SUMIFS(Payments!$F$5:$F$1004,Payments!$B$5:$B$1004,$A12,Payments!$G$5:$G$1004,"Posted",Payments!$E$5:$E$1004,"<="&Setup!$B$3)) | M12: =IF($A12="","",SUMIFS(Payments!$F$5:$F$1004,Payments!$B$5:$B$1004,$A12,Payments!$G$5:$G$1004,"Posted")) | N12: =IF($A12="","",MAX(0,$G12-$L12)) | O12: =IF($A12="","",MAX(0,$K12-$L12)) | P12: =IF(OR($A12="",$O12<=0,$R12=""),0,MAX(1,Setup!$B$3-$R12)) | Q12: =IF($A12="","",IF($O12<=0,"",IF($P12<=30,"1–30 Days",IF($P12<=60,"31–60 Days",IF($P12<=90,"61–90 Days","91+ Days"))))) | R12: =IF(OR($A12="",$F12="",$G12<=0,$H12<=0),"",IF($N12<=0,"",EDATE($F12,MIN($I12-1,INT($L12/$H12))))) | S12: =IF(OR($A12="",$R12=""),"",$R12-Setup!$B$3) | T12: =IF($A12="","",IF(COUNTIFS(Payments!$B$5:$B$1004,$A12,Payments!$G$5:$G$1004,"Posted")=0,"",LOOKUP(2,1/((Payments!$B$5:$B$1004=$A12)*(Payments!$G$5:$G$1004="Posted")),Payments!$E$5:$E$1004))) | U12: =IF(OR($A12="",$T12=""),"",SUMIFS(Payments!$F$5:$F$1004,Payments!$B$5:$B$1004,$A12,Payments!$G$5:$G$1004,"Posted",Payments!$E$5:$E$1004,$T12)) | V12: Staff B | W12: 46277 | X12: Monitor next due date. | Y12: =IF($A12="","",IF($C12="Closed",IF($N12<=0,"Paid","Closed With Balance"),IF(Setup!$B$3<$F12,"Starts Later",IF($N12<=0,"Paid",IF($O12>0,"Overdue",IF(AND($R12<>"",$R12>=Setup!$B$3,$R12<=Setup!$B$3+Setup!$B$4),"Due Soon","Current")))))) | Z12: =IF($A12="","",IF(OR($B12="",$C12="",$D12="",$E12="",$F12="",$G12<=0,$H12<=0,$V12=""),"Review",IF($H12>$G12,"Review",IF(AND($W12<>"",NOT(ISNUMBER($W12))),"Review","OK")))) | AA12: =IF($A12="","",IF(COUNTIF($A$5:$A$254,$A12)>1,"Duplicate Plan ID","OK"))
A13: PPF-26009 | B13: Account Sparrow | C13: Active | D13: Prairie View Health Center | E13: Central Billing | F13: 46081 | G13: 800 | H13: 100 | I13: =IF($A13="","",IF(OR($G13<=0,$H13<=0),"",ROUNDUP($G13/$H13,0))) | J13: =IF(OR($A13="",$F13="",$I13=""),"",EDATE($F13,$I13-1)) | K13: =IF(OR($A13="",$F13="",$G13<=0,$H13<=0),"",IF(Setup!$B$3<$F13,0,MIN($G13,$H13*MIN($I13,DATEDIF($F13,Setup!$B$3,"m")+1)))) | L13: =IF($A13="","",SUMIFS(Payments!$F$5:$F$1004,Payments!$B$5:$B$1004,$A13,Payments!$G$5:$G$1004,"Posted",Payments!$E$5:$E$1004,"<="&Setup!$B$3)) | M13: =IF($A13="","",SUMIFS(Payments!$F$5:$F$1004,Payments!$B$5:$B$1004,$A13,Payments!$G$5:$G$1004,"Posted")) | N13: =IF($A13="","",MAX(0,$G13-$L13)) | O13: =IF($A13="","",MAX(0,$K13-$L13)) | P13: =IF(OR($A13="",$O13<=0,$R13=""),0,MAX(1,Setup!$B$3-$R13)) | Q13: =IF($A13="","",IF($O13<=0,"",IF($P13<=30,"1–30 Days",IF($P13<=60,"31–60 Days",IF($P13<=90,"61–90 Days","91+ Days"))))) | R13: =IF(OR($A13="",$F13="",$G13<=0,$H13<=0),"",IF($N13<=0,"",EDATE($F13,MIN($I13-1,INT($L13/$H13))))) | S13: =IF(OR($A13="",$R13=""),"",$R13-Setup!$B$3) | T13: =IF($A13="","",IF(COUNTIFS(Payments!$B$5:$B$1004,$A13,Payments!$G$5:$G$1004,"Posted")=0,"",LOOKUP(2,1/((Payments!$B$5:$B$1004=$A13)*(Payments!$G$5:$G$1004="Posted")),Payments!$E$5:$E$1004))) | U13: =IF(OR($A13="",$T13=""),"",SUMIFS(Payments!$F$5:$F$1004,Payments!$B$5:$B$1004,$A13,Payments!$G$5:$G$1004,"Posted",Payments!$E$5:$E$1004,$T13)) | V13: Staff C | W13: 46273 | X13: Follow up on overdue amount. | Y13: =IF($A13="","",IF($C13="Closed",IF($N13<=0,"Paid","Closed With Balance"),IF(Setup!$B$3<$F13,"Starts Later",IF($N13<=0,"Paid",IF($O13>0,"Overdue",IF(AND($R13<>"",$R13>=Setup!$B$3,$R13<=Setup!$B$3+Setup!$B$4),"Due Soon","Current")))))) | Z13: =IF($A13="","",IF(OR($B13="",$C13="",$D13="",$E13="",$F13="",$G13<=0,$H13<=0,$V13=""),"Review",IF($H13>$G13,"Review",IF(AND($W13<>"",NOT(ISNUMBER($W13))),"Review","OK")))) | AA13: =IF($A13="","",IF(COUNTIF($A$5:$A$254,$A13)>1,"Duplicate Plan ID","OK"))
A14: PPF-26010 | B14: Account Sunrise | C14: Active | D14: Harbor Point Medical Office | E14: Office Administration | F14: 46271 | G14: 500 | H14: 100 | I14: =IF($A14="","",IF(OR($G14<=0,$H14<=0),"",ROUNDUP($G14/$H14,0))) | J14: =IF(OR($A14="",$F14="",$I14=""),"",EDATE($F14,$I14-1)) | K14: =IF(OR($A14="",$F14="",$G14<=0,$H14<=0),"",IF(Setup!$B$3<$F14,0,MIN($G14,$H14*MIN($I14,DATEDIF($F14,Setup!$B$3,"m")+1)))) | L14: =IF($A14="","",SUMIFS(Payments!$F$5:$F$1004,Payments!$B$5:$B$1004,$A14,Payments!$G$5:$G$1004,"Posted",Payments!$E$5:$E$1004,"<="&Setup!$B$3)) | M14: =IF($A14="","",SUMIFS(Payments!$F$5:$F$1004,Payments!$B$5:$B$1004,$A14,Payments!$G$5:$G$1004,"Posted")) | N14: =IF($A14="","",MAX(0,$G14-$L14)) | O14: =IF($A14="","",MAX(0,$K14-$L14)) | P14: =IF(OR($A14="",$O14<=0,$R14=""),0,MAX(1,Setup!$B$3-$R14)) | Q14: =IF($A14="","",IF($O14<=0,"",IF($P14<=30,"1–30 Days",IF($P14<=60,"31–60 Days",IF($P14<=90,"61–90 Days","91+ Days"))))) | R14: =IF(OR($A14="",$F14="",$G14<=0,$H14<=0),"",IF($N14<=0,"",EDATE($F14,MIN($I14-1,INT($L14/$H14))))) | S14: =IF(OR($A14="",$R14=""),"",$R14-Setup!$B$3) | T14: =IF($A14="","",IF(COUNTIFS(Payments!$B$5:$B$1004,$A14,Payments!$G$5:$G$1004,"Posted")=0,"",LOOKUP(2,1/((Payments!$B$5:$B$1004=$A14)*(Payments!$G$5:$G$1004="Posted")),Payments!$E$5:$E$1004))) | U14: =IF(OR($A14="",$T14=""),"",SUMIFS(Payments!$F$5:$F$1004,Payments!$B$5:$B$1004,$A14,Payments!$G$5:$G$1004,"Posted",Payments!$E$5:$E$1004,$T14)) | V14: Staff D | W14: 46276 | X14: First installment due on start date. | Y14: =IF($A14="","",IF($C14="Closed",IF($N14<=0,"Paid","Closed With Balance"),IF(Setup!$B$3<$F14,"Starts Later",IF($N14<=0,"Paid",IF($O14>0,"Overdue",IF(AND($R14<>"",$R14>=Setup!$B$3,$R14<=Setup!$B$3+Setup!$B$4),"Due Soon","Current")))))) | Z14: =IF($A14="","",IF(OR($B14="",$C14="",$D14="",$E14="",$F14="",$G14<=0,$H14<=0,$V14=""),"Review",IF($H14>$G14,"Review",IF(AND($W14<>"",NOT(ISNUMBER($W14))),"Review","OK")))) | AA14: =IF($A14="","",IF(COUNTIF($A$5:$A$254,$A14)>1,"Duplicate Plan ID","OK"))
I15: =IF($A15="","",IF(OR($G15<=0,$H15<=0),"",ROUNDUP($G15/$H15,0))) | J15: =IF(OR($A15="",$F15="",$I15=""),"",EDATE($F15,$I15-1)) | K15: =IF(OR($A15="",$F15="",$G15<=0,$H15<=0),"",IF(Setup!$B$3<$F15,0,MIN($G15,$H15*MIN($I15,DATEDIF($F15,Setup!$B$3,"m")+1)))) | L15: =IF($A15="","",SUMIFS(Payments!$F$5:$F$1004,Payments!$B$5:$B$1004,$A15,Payments!$G$5:$G$1004,"Posted",Payments!$E$5:$E$1004,"<="&Setup!$B$3)) | M15: =IF($A15="","",SUMIFS(Payments!$F$5:$F$1004,Payments!$B$5:$B$1004,$A15,Payments!$G$5:$G$1004,"Posted")) | N15: =IF($A15="","",MAX(0,$G15-$L15)) | O15: =IF($A15="","",MAX(0,$K15-$L15)) | P15: =IF(OR($A15="",$O15<=0,$R15=""),0,MAX(1,Setup!$B$3-$R15)) | Q15: =IF($A15="","",IF($O15<=0,"",IF($P15<=30,"1–30 Days",IF($P15<=60,"31–60 Days",IF($P15<=90,"61–90 Days","91+ Days"))))) | R15: =IF(OR($A15="",$F15="",$G15<=0,$H15<=0),"",IF($N15<=0,"",EDATE($F15,MIN($I15-1,INT($L15/$H15))))) | S15: =IF(OR($A15="",$R15=""),"",$R15-Setup!$B$3) | T15: =IF($A15="","",IF(COUNTIFS(Payments!$B$5:$B$1004,$A15,Payments!$G$5:$G$1004,"Posted")=0,"",LOOKUP(2,1/((Payments!$B$5:$B$1004=$A15)*(Payments!$G$5:$G$1004="Posted")),Payments!$E$5:$E$1004))) | U15: =IF(OR($A15="",$T15=""),"",SUMIFS(Payments!$F$5:$F$1004,Payments!$B$5:$B$1004,$A15,Payments!$G$5:$G$1004,"Posted",Payments!$E$5:$E$1004,$T15)) | Y15: =IF($A15="","",IF($C15="Closed",IF($N15<=0,"Paid","Closed With Balance"),IF(Setup!$B$3<$F15,"Starts Later",IF($N15<=0,"Paid",IF($O15>0,"Overdue",IF(AND($R15<>"",$R15>=Setup!$B$3,$R15<=Setup!$B$3+Setup!$B$4),"Due Soon","Current")))))) | Z15: =IF($A15="","",IF(OR($B15="",$C15="",$D15="",$E15="",$F15="",$G15<=0,$H15<=0,$V15=""),"Review",IF($H15>$G15,"Review",IF(AND($W15<>"",NOT(ISNUMBER($W15))),"Review","OK")))) | AA15: =IF($A15="","",IF(COUNTIF($A$5:$A$254,$A15)>1,"Duplicate Plan ID","OK"))
I16: =IF($A16="","",IF(OR($G16<=0,$H16<=0),"",ROUNDUP($G16/$H16,0))) | J16: =IF(OR($A16="",$F16="",$I16=""),"",EDATE($F16,$I16-1)) | K16: =IF(OR($A16="",$F16="",$G16<=0,$H16<=0),"",IF(Setup!$B$3<$F16,0,MIN($G16,$H16*MIN($I16,DATEDIF($F16,Setup!$B$3,"m")+1)))) | L16: =IF($A16="","",SUMIFS(Payments!$F$5:$F$1004,Payments!$B$5:$B$1004,$A16,Payments!$G$5:$G$1004,"Posted",Payments!$E$5:$E$1004,"<="&Setup!$B$3)) | M16: =IF($A16="","",SUMIFS(Payments!$F$5:$F$1004,Payments!$B$5:$B$1004,$A16,Payments!$G$5:$G$1004,"Posted")) | N16: =IF($A16="","",MAX(0,$G16-$L16)) | O16: =IF($A16="","",MAX(0,$K16-$L16)) | P16: =IF(OR($A16="",$O16<=0,$R16=""),0,MAX(1,Setup!$B$3-$R16)) | Q16: =IF($A16="","",IF($O16<=0,"",IF($P16<=30,"1–30 Days",IF($P16<=60,"31–60 Days",IF($P16<=90,"61–90 Days","91+ Days"))))) | R16: =IF(OR($A16="",$F16="",$G16<=0,$H16<=0),"",IF($N16<=0,"",EDATE($F16,MIN($I16-1,INT($L16/$H16))))) | S16: =IF(OR($A16="",$R16=""),"",$R16-Setup!$B$3) | T16: =IF($A16="","",IF(COUNTIFS(Payments!$B$5:$B$1004,$A16,Payments!$G$5:$G$1004,"Posted")=0,"",LOOKUP(2,1/((Payments!$B$5:$B$1004=$A16)*(Payments!$G$5:$G$1004="Posted")),Payments!$E$5:$E$1004))) | U16: =IF(OR($A16="",$T16=""),"",SUMIFS(Payments!$F$5:$F$1004,Payments!$B$5:$B$1004,$A16,Payments!$G$5:$G$1004,"Posted",Payments!$E$5:$E$1004,$T16)) | Y16: =IF($A16="","",IF($C16="Closed",IF($N16<=0,"Paid","Closed With Balance"),IF(Setup!$B$3<$F16,"Starts Later",IF($N16<=0,"Paid",IF($O16>0,"Overdue",IF(AND($R16<>"",$R16>=Setup!$B$3,$R16<=Setup!$B$3+Setup!$B$4),"Due Soon","Current")))))) | Z16: =IF($A16="","",IF(OR($B16="",$C16="",$D16="",$E16="",$F16="",$G16<=0,$H16<=0,$V16=""),"Review",IF($H16>$G16,"Review",IF(AND($W16<>"",NOT(ISNUMBER($W16))),"Review","OK")))) | AA16: =IF($A16="","",IF(COUNTIF($A$5:$A$254,$A16)>1,"Duplicate Plan ID","OK"))
I17: =IF($A17="","",IF(OR($G17<=0,$H17<=0),"",ROUNDUP($G17/$H17,0))) | J17: =IF(OR($A17="",$F17="",$I17=""),"",EDATE($F17,$I17-1)) | K17: =IF(OR($A17="",$F17="",$G17<=0,$H17<=0),"",IF(Setup!$B$3<$F17,0,MIN($G17,$H17*MIN($I17,DATEDIF($F17,Setup!$B$3,"m")+1)))) | L17: =IF($A17="","",SUMIFS(Payments!$F$5:$F$1004,Payments!$B$5:$B$1004,$A17,Payments!$G$5:$G$1004,"Posted",Payments!$E$5:$E$1004,"<="&Setup!$B$3)) | M17: =IF($A17="","",SUMIFS(Payments!$F$5:$F$1004,Payments!$B$5:$B$1004,$A17,Payments!$G$5:$G$1004,"Posted")) | N17: =IF($A17="","",MAX(0,$G17-$L17)) | O17: =IF($A17="","",MAX(0,$K17-$L17)) | P17: =IF(OR($A17="",$O17<=0,$R17=""),0,MAX(1,Setup!$B$3-$R17)) | Q17: =IF($A17="","",IF($O17<=0,"",IF($P17<=30,"1–30 Days",IF($P17<=60,"31–60 Days",IF($P17<=90,"61–90 Days","91+ Days"))))) | R17: =IF(OR($A17="",$F17="",$G17<=0,$H17<=0),"",IF($N17<=0,"",EDATE($F17,MIN($I17-1,INT($L17/$H17))))) | S17: =IF(OR($A17="",$R17=""),"",$R17-Setup!$B$3) | T17: =IF($A17="","",IF(COUNTIFS(Payments!$B$5:$B$1004,$A17,Payments!$G$5:$G$1004,"Posted")=0,"",LOOKUP(2,1/((Payments!$B$5:$B$1004=$A17)*(Payments!$G$5:$G$1004="Posted")),Payments!$E$5:$E$1004))) | U17: =IF(OR($A17="",$T17=""),"",SUMIFS(Payments!$F$5:$F$1004,Payments!$B$5:$B$1004,$A17,Payments!$G$5:$G$1004,"Posted",Payments!$E$5:$E$1004,$T17)) | Y17: =IF($A17="","",IF($C17="Closed",IF($N17<=0,"Paid","Closed With Balance"),IF(Setup!$B$3<$F17,"Starts Later",IF($N17<=0,"Paid",IF($O17>0,"Overdue",IF(AND($R17<>"",$R17>=Setup!$B$3,$R17<=Setup!$B$3+Setup!$B$4),"Due Soon","Current")))))) | Z17: =IF($A17="","",IF(OR($B17="",$C17="",$D17="",$E17="",$F17="",$G17<=0,$H17<=0,$V17=""),"Review",IF($H17>$G17,"Review",IF(AND($W17<>"",NOT(ISNUMBER($W17))),"Review","OK")))) | AA17: =IF($A17="","",IF(COUNTIF($A$5:$A$254,$A17)>1,"Duplicate Plan ID","OK"))
I18: =IF($A18="","",IF(OR($G18<=0,$H18<=0),"",ROUNDUP($G18/$H18,0))) | J18: =IF(OR($A18="",$F18="",$I18=""),"",EDATE($F18,$I18-1)) | K18: =IF(OR($A18="",$F18="",$G18<=0,$H18<=0),"",IF(Setup!$B$3<$F18,0,MIN($G18,$H18*MIN($I18,DATEDIF($F18,Setup!$B$3,"m")+1)))) | L18: =IF($A18="","",SUMIFS(Payments!$F$5:$F$1004,Payments!$B$5:$B$1004,$A18,Payments!$G$5:$G$1004,"Posted",Payments!$E$5:$E$1004,"<="&Setup!$B$3)) | M18: =IF($A18="","",SUMIFS(Payments!$F$5:$F$1004,Payments!$B$5:$B$1004,$A18,Payments!$G$5:$G$1004,"Posted")) | N18: =IF($A18="","",MAX(0,$G18-$L18)) | O18: =IF($A18="","",MAX(0,$K18-$L18)) | P18: =IF(OR($A18="",$O18<=0,$R18=""),0,MAX(1,Setup!$B$3-$R18)) | Q18: =IF($A18="","",IF($O18<=0,"",IF($P18<=30,"1–30 Days",IF($P18<=60,"31–60 Days",IF($P18<=90,"61–90 Days","91+ Days"))))) | R18: =IF(OR($A18="",$F18="",$G18<=0,$H18<=0),"",IF($N18<=0,"",EDATE($F18,MIN($I18-1,INT($L18/$H18))))) | S18: =IF(OR($A18="",$R18=""),"",$R18-Setup!$B$3) | T18: =IF($A18="","",IF(COUNTIFS(Payments!$B$5:$B$1004,$A18,Payments!$G$5:$G$1004,"Posted")=0,"",LOOKUP(2,1/((Payments!$B$5:$B$1004=$A18)*(Payments!$G$5:$G$1004="Posted")),Payments!$E$5:$E$1004))) | U18: =IF(OR($A18="",$T18=""),"",SUMIFS(Payments!$F$5:$F$1004,Payments!$B$5:$B$1004,$A18,Payments!$G$5:$G$1004,"Posted",Payments!$E$5:$E$1004,$T18)) | Y18: =IF($A18="","",IF($C18="Closed",IF($N18<=0,"Paid","Closed With Balance"),IF(Setup!$B$3<$F18,"Starts Later",IF($N18<=0,"Paid",IF($O18>0,"Overdue",IF(AND($R18<>"",$R18>=Setup!$B$3,$R18<=Setup!$B$3+Setup!$B$4),"Due Soon","Current")))))) | Z18: =IF($A18="","",IF(OR($B18="",$C18="",$D18="",$E18="",$F18="",$G18<=0,$H18<=0,$V18=""),"Review",IF($H18>$G18,"Review",IF(AND($W18<>"",NOT(ISNUMBER($W18))),"Review","OK")))) | AA18: =IF($A18="","",IF(COUNTIF($A$5:$A$254,$A18)>1,"Duplicate Plan ID","OK"))
I19: =IF($A19="","",IF(OR($G19<=0,$H19<=0),"",ROUNDUP($G19/$H19,0))) | J19: =IF(OR($A19="",$F19="",$I19=""),"",EDATE($F19,$I19-1)) | K19: =IF(OR($A19="",$F19="",$G19<=0,$H19<=0),"",IF(Setup!$B$3<$F19,0,MIN($G19,$H19*MIN($I19,DATEDIF($F19,Setup!$B$3,"m")+1)))) | L19: =IF($A19="","",SUMIFS(Payments!$F$5:$F$1004,Payments!$B$5:$B$1004,$A19,Payments!$G$5:$G$1004,"Posted",Payments!$E$5:$E$1004,"<="&Setup!$B$3)) | M19: =IF($A19="","",SUMIFS(Payments!$F$5:$F$1004,Payments!$B$5:$B$1004,$A19,Payments!$G$5:$G$1004,"Posted")) | N19: =IF($A19="","",MAX(0,$G19-$L19)) | O19: =IF($A19="","",MAX(0,$K19-$L19)) | P19: =IF(OR($A19="",$O19<=0,$R19=""),0,MAX(1,Setup!$B$3-$R19)) | Q19: =IF($A19="","",IF($O19<=0,"",IF($P19<=30,"1–30 Days",IF($P19<=60,"31–60 Days",IF($P19<=90,"61–90 Days","91+ Days"))))) | R19: =IF(OR($A19="",$F19="",$G19<=0,$H19<=0),"",IF($N19<=0,"",EDATE($F19,MIN($I19-1,INT($L19/$H19))))) | S19: =IF(OR($A19="",$R19=""),"",$R19-Setup!$B$3) | T19: =IF($A19="","",IF(COUNTIFS(Payments!$B$5:$B$1004,$A19,Payments!$G$5:$G$1004,"Posted")=0,"",LOOKUP(2,1/((Payments!$B$5:$B$1004=$A19)*(Payments!$G$5:$G$1004="Posted")),Payments!$E$5:$E$1004))) | U19: =IF(OR($A19="",$T19=""),"",SUMIFS(Payments!$F$5:$F$1004,Payments!$B$5:$B$1004,$A19,Payments!$G$5:$G$1004,"Posted",Payments!$E$5:$E$1004,$T19)) | Y19: =IF($A19="","",IF($C19="Closed",IF($N19<=0,"Paid","Closed With Balance"),IF(Setup!$B$3<$F19,"Starts Later",IF($N19<=0,"Paid",IF($O19>0,"Overdue",IF(AND($R19<>"",$R19>=Setup!$B$3,$R19<=Setup!$B$3+Setup!$B$4),"Due Soon","Current")))))) | Z19: =IF($A19="","",IF(OR($B19="",$C19="",$D19="",$E19="",$F19="",$G19<=0,$H19<=0,$V19=""),"Review",IF($H19>$G19,"Review",IF(AND($W19<>"",NOT(ISNUMBER($W19))),"Review","OK")))) | AA19: =IF($A19="","",IF(COUNTIF($A$5:$A$254,$A19)>1,"Duplicate Plan ID","OK"))
I20: =IF($A20="","",IF(OR($G20<=0,$H20<=0),"",ROUNDUP($G20/$H20,0))) | J20: =IF(OR($A20="",$F20="",$I20=""),"",EDATE($F20,$I20-1)) | K20: =IF(OR($A20="",$F20="",$G20<=0,$H20<=0),"",IF(Setup!$B$3<$F20,0,MIN($G20,$H20*MIN($I20,DATEDIF($F20,Setup!$B$3,"m")+1)))) | L20: =IF($A20="","",SUMIFS(Payments!$F$5:$F$1004,Payments!$B$5:$B$1004,$A20,Payments!$G$5:$G$1004,"Posted",Payments!$E$5:$E$1004,"<="&Setup!$B$3)) | M20: =IF($A20="","",SUMIFS(Payments!$F$5:$F$1004,Payments!$B$5:$B$1004,$A20,Payments!$G$5:$G$1004,"Posted")) | N20: =IF($A20="","",MAX(0,$G20-$L20)) | O20: =IF($A20="","",MAX(0,$K20-$L20)) | P20: =IF(OR($A20="",$O20<=0,$R20=""),0,MAX(1,Setup!$B$3-$R20)) | Q20: =IF($A20="","",IF($O20<=0,"",IF($P20<=30,"1–30 Days",IF($P20<=60,"31–60 Days",IF($P20<=90,"61–90 Days","91+ Days"))))) | R20: =IF(OR($A20="",$F20="",$G20<=0,$H20<=0),"",IF($N20<=0,"",EDATE($F20,MIN($I20-1,INT($L20/$H20))))) | S20: =IF(OR($A20="",$R20=""),"",$R20-Setup!$B$3) | T20: =IF($A20="","",IF(COUNTIFS(Payments!$B$5:$B$1004,$A20,Payments!$G$5:$G$1004,"Posted")=0,"",LOOKUP(2,1/((Payments!$B$5:$B$1004=$A20)*(Payments!$G$5:$G$1004="Posted")),Payments!$E$5:$E$1004))) | U20: =IF(OR($A20="",$T20=""),"",SUMIFS(Payments!$F$5:$F$1004,Payments!$B$5:$B$1004,$A20,Payments!$G$5:$G$1004,"Posted",Payments!$E$5:$E$1004,$T20)) | Y20: =IF($A20="","",IF($C20="Closed",IF($N20<=0,"Paid","Closed With Balance"),IF(Setup!$B$3<$F20,"Starts Later",IF($N20<=0,"Paid",IF($O20>0,"Overdue",IF(AND($R20<>"",$R20>=Setup!$B$3,$R20<=Setup!$B$3+Setup!$B$4),"Due Soon","Current")))))) | Z20: =IF($A20="","",IF(OR($B20="",$C20="",$D20="",$E20="",$F20="",$G20<=0,$H20<=0,$V20=""),"Review",IF($H20>$G20,"Review",IF(AND($W20<>"",NOT(ISNUMBER($W20))),"Review","OK")))) | AA20: =IF($A20="","",IF(COUNTIF($A$5:$A$254,$A20)>1,"Duplicate Plan ID","OK"))
I21: =IF($A21="","",IF(OR($G21<=0,$H21<=0),"",ROUNDUP($G21/$H21,0))) | J21: =IF(OR($A21="",$F21="",$I21=""),"",EDATE($F21,$I21-1)) | K21: =IF(OR($A21="",$F21="",$G21<=0,$H21<=0),"",IF(Setup!$B$3<$F21,0,MIN($G21,$H21*MIN($I21,DATEDIF($F21,Setup!$B$3,"m")+1)))) | L21: =IF($A21="","",SUMIFS(Payments!$F$5:$F$1004,Payments!$B$5:$B$1004,$A21,Payments!$G$5:$G$1004,"Posted",Payments!$E$5:$E$1004,"<="&Setup!$B$3)) | M21: =IF($A21="","",SUMIFS(Payments!$F$5:$F$1004,Payments!$B$5:$B$1004,$A21,Payments!$G$5:$G$1004,"Posted")) | N21: =IF($A21="","",MAX(0,$G21-$L21)) | O21: =IF($A21="","",MAX(0,$K21-$L21)) | P21: =IF(OR($A21="",$O21<=0,$R21=""),0,MAX(1,Setup!$B$3-$R21)) | Q21: =IF($A21="","",IF($O21<=0,"",IF($P21<=30,"1–30 Days",IF($P21<=60,"31–60 Days",IF($P21<=90,"61–90 Days","91+ Days"))))) | R21: =IF(OR($A21="",$F21="",$G21<=0,$H21<=0),"",IF($N21<=0,"",EDATE($F21,MIN($I21-1,INT($L21/$H21))))) | S21: =IF(OR($A21="",$R21=""),"",$R21-Setup!$B$3) | T21: =IF($A21="","",IF(COUNTIFS(Payments!$B$5:$B$1004,$A21,Payments!$G$5:$G$1004,"Posted")=0,"",LOOKUP(2,1/((Payments!$B$5:$B$1004=$A21)*(Payments!$G$5:$G$1004="Posted")),Payments!$E$5:$E$1004))) | U21: =IF(OR($A21="",$T21=""),"",SUMIFS(Payments!$F$5:$F$1004,Payments!$B$5:$B$1004,$A21,Payments!$G$5:$G$1004,"Posted",Payments!$E$5:$E$1004,$T21)) | Y21: =IF($A21="","",IF($C21="Closed",IF($N21<=0,"Paid","Closed With Balance"),IF(Setup!$B$3<$F21,"Starts Later",IF($N21<=0,"Paid",IF($O21>0,"Overdue",IF(AND($R21<>"",$R21>=Setup!$B$3,$R21<=Setup!$B$3+Setup!$B$4),"Due Soon","Current")))))) | Z21: =IF($A21="","",IF(OR($B21="",$C21="",$D21="",$E21="",$F21="",$G21<=0,$H21<=0,$V21=""),"Review",IF($H21>$G21,"Review",IF(AND($W21<>"",NOT(ISNUMBER($W21))),"Review","OK")))) | AA21: =IF($A21="","",IF(COUNTIF($A$5:$A$254,$A21)>1,"Duplicate Plan ID","OK"))
I22: =IF($A22="","",IF(OR($G22<=0,$H22<=0),"",ROUNDUP($G22/$H22,0))) | J22: =IF(OR($A22="",$F22="",$I22=""),"",EDATE($F22,$I22-1)) | K22: =IF(OR($A22="",$F22="",$G22<=0,$H22<=0),"",IF(Setup!$B$3<$F22,0,MIN($G22,$H22*MIN($I22,DATEDIF($F22,Setup!$B$3,"m")+1)))) | L22: =IF($A22="","",SUMIFS(Payments!$F$5:$F$1004,Payments!$B$5:$B$1004,$A22,Payments!$G$5:$G$1004,"Posted",Payments!$E$5:$E$1004,"<="&Setup!$B$3)) | M22: =IF($A22="","",SUMIFS(Payments!$F$5:$F$1004,Payments!$B$5:$B$1004,$A22,Payments!$G$5:$G$1004,"Posted")) | N22: =IF($A22="","",MAX(0,$G22-$L22)) | O22: =IF($A22="","",MAX(0,$K22-$L22)) | P22: =IF(OR($A22="",$O22<=0,$R22=""),0,MAX(1,Setup!$B$3-$R22)) | Q22: =IF($A22="","",IF($O22<=0,"",IF($P22<=30,"1–30 Days",IF($P22<=60,"31–60 Days",IF($P22<=90,"61–90 Days","91+ Days"))))) | R22: =IF(OR($A22="",$F22="",$G22<=0,$H22<=0),"",IF($N22<=0,"",EDATE($F22,MIN($I22-1,INT($L22/$H22))))) | S22: =IF(OR($A22="",$R22=""),"",$R22-Setup!$B$3) | T22: =IF($A22="","",IF(COUNTIFS(Payments!$B$5:$B$1004,$A22,Payments!$G$5:$G$1004,"Posted")=0,"",LOOKUP(2,1/((Payments!$B$5:$B$1004=$A22)*(Payments!$G$5:$G$1004="Posted")),Payments!$E$5:$E$1004))) | U22: =IF(OR($A22="",$T22=""),"",SUMIFS(Payments!$F$5:$F$1004,Payments!$B$5:$B$1004,$A22,Payments!$G$5:$G$1004,"Posted",Payments!$E$5:$E$1004,$T22)) | Y22: =IF($A22="","",IF($C22="Closed",IF($N22<=0,"Paid","Closed With Balance"),IF(Setup!$B$3<$F22,"Starts Later",IF($N22<=0,"Paid",IF($O22>0,"Overdue",IF(AND($R22<>"",$R22>=Setup!$B$3,$R22<=Setup!$B$3+Setup!$B$4),"Due Soon","Current")))))) | Z22: =IF($A22="","",IF(OR($B22="",$C22="",$D22="",$E22="",$F22="",$G22<=0,$H22<=0,$V22=""),"Review",IF($H22>$G22,"Review",IF(AND($W22<>"",NOT(ISNUMBER($W22))),"Review","OK")))) | AA22: =IF($A22="","",IF(COUNTIF($A$5:$A$254,$A22)>1,"Duplicate Plan ID","OK"))
I23: =IF($A23="","",IF(OR($G23<=0,$H23<=0),"",ROUNDUP($G23/$H23,0))) | J23: =IF(OR($A23="",$F23="",$I23=""),"",EDATE($F23,$I23-1)) | K23: =IF(OR($A23="",$F23="",$G23<=0,$H23<=0),"",IF(Setup!$B$3<$F23,0,MIN($G23,$H23*MIN($I23,DATEDIF($F23,Setup!$B$3,"m")+1)))) | L23: =IF($A23="","",SUMIFS(Payments!$F$5:$F$1004,Payments!$B$5:$B$1004,$A23,Payments!$G$5:$G$1004,"Posted",Payments!$E$5:$E$1004,"<="&Setup!$B$3)) | M23: =IF($A23="","",SUMIFS(Payments!$F$5:$F$1004,Payments!$B$5:$B$1004,$A23,Payments!$G$5:$G$1004,"Posted")) | N23: =IF($A23="","",MAX(0,$G23-$L23)) | O23: =IF($A23="","",MAX(0,$K23-$L23)) | P23: =IF(OR($A23="",$O23<=0,$R23=""),0,MAX(1,Setup!$B$3-$R23)) | Q23: =IF($A23="","",IF($O23<=0,"",IF($P23<=30,"1–30 Days",IF($P23<=60,"31–60 Days",IF($P23<=90,"61–90 Days","91+ Days"))))) | R23: =IF(OR($A23="",$F23="",$G23<=0,$H23<=0),"",IF($N23<=0,"",EDATE($F23,MIN($I23-1,INT($L23/$H23))))) | S23: =IF(OR($A23="",$R23=""),"",$R23-Setup!$B$3) | T23: =IF($A23="","",IF(COUNTIFS(Payments!$B$5:$B$1004,$A23,Payments!$G$5:$G$1004,"Posted")=0,"",LOOKUP(2,1/((Payments!$B$5:$B$1004=$A23)*(Payments!$G$5:$G$1004="Posted")),Payments!$E$5:$E$1004))) | U23: =IF(OR($A23="",$T23=""),"",SUMIFS(Payments!$F$5:$F$1004,Payments!$B$5:$B$1004,$A23,Payments!$G$5:$G$1004,"Posted",Payments!$E$5:$E$1004,$T23)) | Y23: =IF($A23="","",IF($C23="Closed",IF($N23<=0,"Paid","Closed With Balance"),IF(Setup!$B$3<$F23,"Starts Later",IF($N23<=0,"Paid",IF($O23>0,"Overdue",IF(AND($R23<>"",$R23>=Setup!$B$3,$R23<=Setup!$B$3+Setup!$B$4),"Due Soon","Current")))))) | Z23: =IF($A23="","",IF(OR($B23="",$C23="",$D23="",$E23="",$F23="",$G23<=0,$H23<=0,$V23=""),"Review",IF($H23>$G23,"Review",IF(AND($W23<>"",NOT(ISNUMBER($W23))),"Review","OK")))) | AA23: =IF($A23="","",IF(COUNTIF($A$5:$A$254,$A23)>1,"Duplicate Plan ID","OK"))
I24: =IF($A24="","",IF(OR($G24<=0,$H24<=0),"",ROUNDUP($G24/$H24,0))) | J24: =IF(OR($A24="",$F24="",$I24=""),"",EDATE($F24,$I24-1)) | K24: =IF(OR($A24="",$F24="",$G24<=0,$H24<=0),"",IF(Setup!$B$3<$F24,0,MIN($G24,$H24*MIN($I24,DATEDIF($F24,Setup!$B$3,"m")+1)))) | L24: =IF($A24="","",SUMIFS(Payments!$F$5:$F$1004,Payments!$B$5:$B$1004,$A24,Payments!$G$5:$G$1004,"Posted",Payments!$E$5:$E$1004,"<="&Setup!$B$3)) | M24: =IF($A24="","",SUMIFS(Payments!$F$5:$F$1004,Payments!$B$5:$B$1004,$A24,Payments!$G$5:$G$1004,"Posted")) | N24: =IF($A24="","",MAX(0,$G24-$L24)) | O24: =IF($A24="","",MAX(0,$K24-$L24)) | P24: =IF(OR($A24="",$O24<=0,$R24=""),0,MAX(1,Setup!$B$3-$R24)) | Q24: =IF($A24="","",IF($O24<=0,"",IF($P24<=30,"1–30 Days",IF($P24<=60,"31–60 Days",IF($P24<=90,"61–90 Days","91+ Days"))))) | R24: =IF(OR($A24="",$F24="",$G24<=0,$H24<=0),"",IF($N24<=0,"",EDATE($F24,MIN($I24-1,INT($L24/$H24))))) | S24: =IF(OR($A24="",$R24=""),"",$R24-Setup!$B$3) | T24: =IF($A24="","",IF(COUNTIFS(Payments!$B$5:$B$1004,$A24,Payments!$G$5:$G$1004,"Posted")=0,"",LOOKUP(2,1/((Payments!$B$5:$B$1004=$A24)*(Payments!$G$5:$G$1004="Posted")),Payments!$E$5:$E$1004))) | U24: =IF(OR($A24="",$T24=""),"",SUMIFS(Payments!$F$5:$F$1004,Payments!$B$5:$B$1004,$A24,Payments!$G$5:$G$1004,"Posted",Payments!$E$5:$E$1004,$T24)) | Y24: =IF($A24="","",IF($C24="Closed",IF($N24<=0,"Paid","Closed With Balance"),IF(Setup!$B$3<$F24,"Starts Later",IF($N24<=0,"Paid",IF($O24>0,"Overdue",IF(AND($R24<>"",$R24>=Setup!$B$3,$R24<=Setup!$B$3+Setup!$B$4),"Due Soon","Current")))))) | Z24: =IF($A24="","",IF(OR($B24="",$C24="",$D24="",$E24="",$F24="",$G24<=0,$H24<=0,$V24=""),"Review",IF($H24>$G24,"Review",IF(AND($W24<>"",NOT(ISNUMBER($W24))),"Review","OK")))) | AA24: =IF($A24="","",IF(COUNTIF($A$5:$A$254,$A24)>1,"Duplicate Plan ID","OK"))
I25: =IF($A25="","",IF(OR($G25<=0,$H25<=0),"",ROUNDUP($G25/$H25,0))) | J25: =IF(OR($A25="",$F25="",$I25=""),"",EDATE($F25,$I25-1)) | K25: =IF(OR($A25="",$F25="",$G25<=0,$H25<=0),"",IF(Setup!$B$3<$F25,0,MIN($G25,$H25*MIN($I25,DATEDIF($F25,Setup!$B$3,"m")+1)))) | L25: =IF($A25="","",SUMIFS(Payments!$F$5:$F$1004,Payments!$B$5:$B$1004,$A25,Payments!$G$5:$G$1004,"Posted",Payments!$E$5:$E$1004,"<="&Setup!$B$3)) | M25: =IF($A25="","",SUMIFS(Payments!$F$5:$F$1004,Payments!$B$5:$B$1004,$A25,Payments!$G$5:$G$1004,"Posted")) | N25: =IF($A25="","",MAX(0,$G25-$L25)) | O25: =IF($A25="","",MAX(0,$K25-$L25)) | P25: =IF(OR($A25="",$O25<=0,$R25=""),0,MAX(1,Setup!$B$3-$R25)) | Q25: =IF($A25="","",IF($O25<=0,"",IF($P25<=30,"1–30 Days",IF($P25<=60,"31–60 Days",IF($P25<=90,"61–90 Days","91+ Days"))))) | R25: =IF(OR($A25="",$F25="",$G25<=0,$H25<=0),"",IF($N25<=0,"",EDATE($F25,MIN($I25-1,INT($L25/$H25))))) | S25: =IF(OR($A25="",$R25=""),"",$R25-Setup!$B$3) | T25: =IF($A25="","",IF(COUNTIFS(Payments!$B$5:$B$1004,$A25,Payments!$G$5:$G$1004,"Posted")=0,"",LOOKUP(2,1/((Payments!$B$5:$B$1004=$A25)*(Payments!$G$5:$G$1004="Posted")),Payments!$E$5:$E$1004))) | U25: =IF(OR($A25="",$T25=""),"",SUMIFS(Payments!$F$5:$F$1004,Payments!$B$5:$B$1004,$A25,Payments!$G$5:$G$1004,"Posted",Payments!$E$5:$E$1004,$T25)) | Y25: =IF($A25="","",IF($C25="Closed",IF($N25<=0,"Paid","Closed With Balance"),IF(Setup!$B$3<$F25,"Starts Later",IF($N25<=0,"Paid",IF($O25>0,"Overdue",IF(AND($R25<>"",$R25>=Setup!$B$3,$R25<=Setup!$B$3+Setup!$B$4),"Due Soon","Current")))))) | Z25: =IF($A25="","",IF(OR($B25="",$C25="",$D25="",$E25="",$F25="",$G25<=0,$H25<=0,$V25=""),"Review",IF($H25>$G25,"Review",IF(AND($W25<>"",NOT(ISNUMBER($W25))),"Review","OK")))) | AA25: =IF($A25="","",IF(COUNTIF($A$5:$A$254,$A25)>1,"Duplicate Plan ID","OK"))
I26: =IF($A26="","",IF(OR($G26<=0,$H26<=0),"",ROUNDUP($G26/$H26,0))) | J26: =IF(OR($A26="",$F26="",$I26=""),"",EDATE($F26,$I26-1)) | K26: =IF(OR($A26="",$F26="",$G26<=0,$H26<=0),"",IF(Setup!$B$3<$F26,0,MIN($G26,$H26*MIN($I26,DATEDIF($F26,Setup!$B$3,"m")+1)))) | L26: =IF($A26="","",SUMIFS(Payments!$F$5:$F$1004,Payments!$B$5:$B$1004,$A26,Payments!$G$5:$G$1004,"Posted",Payments!$E$5:$E$1004,"<="&Setup!$B$3)) | M26: =IF($A26="","",SUMIFS(Payments!$F$5:$F$1004,Payments!$B$5:$B$1004,$A26,Payments!$G$5:$G$1004,"Posted")) | N26: =IF($A26="","",MAX(0,$G26-$L26)) | O26: =IF($A26="","",MAX(0,$K26-$L26)) | P26: =IF(OR($A26="",$O26<=0,$R26=""),0,MAX(1,Setup!$B$3-$R26)) | Q26: =IF($A26="","",IF($O26<=0,"",IF($P26<=30,"1–30 Days",IF($P26<=60,"31–60 Days",IF($P26<=90,"61–90 Days","91+ Days"))))) | R26: =IF(OR($A26="",$F26="",$G26<=0,$H26<=0),"",IF($N26<=0,"",EDATE($F26,MIN($I26-1,INT($L26/$H26))))) | S26: =IF(OR($A26="",$R26=""),"",$R26-Setup!$B$3) | T26: =IF($A26="","",IF(COUNTIFS(Payments!$B$5:$B$1004,$A26,Payments!$G$5:$G$1004,"Posted")=0,"",LOOKUP(2,1/((Payments!$B$5:$B$1004=$A26)*(Payments!$G$5:$G$1004="Posted")),Payments!$E$5:$E$1004))) | U26: =IF(OR($A26="",$T26=""),"",SUMIFS(Payments!$F$5:$F$1004,Payments!$B$5:$B$1004,$A26,Payments!$G$5:$G$1004,"Posted",Payments!$E$5:$E$1004,$T26)) | Y26: =IF($A26="","",IF($C26="Closed",IF($N26<=0,"Paid","Closed With Balance"),IF(Setup!$B$3<$F26,"Starts Later",IF($N26<=0,"Paid",IF($O26>0,"Overdue",IF(AND($R26<>"",$R26>=Setup!$B$3,$R26<=Setup!$B$3+Setup!$B$4),"Due Soon","Current")))))) | Z26: =IF($A26="","",IF(OR($B26="",$C26="",$D26="",$E26="",$F26="",$G26<=0,$H26<=0,$V26=""),"Review",IF($H26>$G26,"Review",IF(AND($W26<>"",NOT(ISNUMBER($W26))),"Review","OK")))) | AA26: =IF($A26="","",IF(COUNTIF($A$5:$A$254,$A26)>1,"Duplicate Plan ID","OK"))
... I254: =IF($A254="","",IF(OR($G254<=0,$H254<=0),"",ROUNDUP($G254/$H254,0))) | J254: =IF(OR($A254="",$F254="",$I254=""),"",EDATE($F254,$I254-1)) | K254: =IF(OR($A254="",$F254="",$G254<=0,$H254<=0),"",IF(Setup!$B$3<$F254,0,MIN($G254,$H254*MIN($I254,DATEDIF($F254,Setup!$B$3,"m")+1)))) | L254: =IF($A254="","",SUMIFS(Payments!$F$5:$F$1004,Payments!$B$5:$B$1004,$A254,Payments!$G$5:$G$1004,"Posted",Payments!$E$5:$E$1004,"<="&Setup!$B$3)) | M254: =IF($A254="","",SUMIFS(Payments!$F$5:$F$1004,Payments!$B$5:$B$1004,$A254,Payments!$G$5:$G$1004,"Posted")) | N254: =IF($A254="","",MAX(0,$G254-$L254)) | O254: =IF($A254="","",MAX(0,$K254-$L254)) | P254: =IF(OR($A254="",$O254<=0,$R254=""),0,MAX(1,Setup!$B$3-$R254)) | Q254: =IF($A254="","",IF($O254<=0,"",IF($P254<=30,"1–30 Days",IF($P254<=60,"31–60 Days",IF($P254<=90,"61–90 Days","91+ Days"))))) | R254: =IF(OR($A254="",$F254="",$G254<=0,$H254<=0),"",IF($N254<=0,"",EDATE($F254,MIN($I254-1,INT($L254/$H254))))) | S254: =IF(OR($A254="",$R254=""),"",$R254-Setup!$B$3) | T254: =IF($A254="","",IF(COUNTIFS(Payments!$B$5:$B$1004,$A254,Payments!$G$5:$G$1004,"Posted")=0,"",LOOKUP(2,1/((Payments!$B$5:$B$1004=$A254)*(Payments!$G$5:$G$1004="Posted")),Payments!$E$5:$E$1004))) | U254: =IF(OR($A254="",$T254=""),"",SUMIFS(Payments!$F$5:$F$1004,Payments!$B$5:$B$1004,$A254,Payments!$G$5:$G$1004,"Posted",Payments!$E$5:$E$1004,$T254)) | Y254: =IF($A254="","",IF($C254="Closed",IF($N254<=0,"Paid","Closed With Balance"),IF(Setup!$B$3<$F254,"Starts Later",IF($N254<=0,"Paid",IF($O254>0,"Overdue",IF(AND($R254<>"",$R254>=Setup!$B$3,$R254<=Setup!$B$3+Setup!$B$4),"Due Soon","Current")))))) | Z254: =IF($A254="","",IF(OR($B254="",$C254="",$D254="",$E254="",$F254="",$G254<=0,$H254<=0,$V254=""),"Review",IF($H254>$G254,"Review",IF(AND($W254<>"",NOT(ISNUMBER($W254))),"Review","OK")))) | AA254: =IF($A254="","",IF(COUNTIF($A$5:$A$254,$A254)>1,"Duplicate Plan ID","OK"))

Sheet Payments
A1: Payments
A2: Enter one row per payment transaction. Do not enter card, bank, or other sensitive financial account numbers.
A4: Payment ID | B4: Plan ID | C4: Account Alias | D4: Clinic | E4: Payment Date | F4: Payment Amount | G4: Payment Status | H4: Payment Method | I4: Receipt Reference | J4: Entered By | K4: Administrative Note | L4: Transaction Check | M4: Row Check
A5: PAY-260001 | B5: PPF-26001 | C5: =IF($B5="","",IFERROR(INDEX('Payment Plans'!$B$5:$B$254,MATCH($B5,'Payment Plans'!$A$5:$A$254,0)),"")) | D5: =IF($B5="","",IFERROR(INDEX('Payment Plans'!$D$5:$D$254,MATCH($B5,'Payment Plans'!$A$5:$A$254,0)),"")) | E5: 46127 | F5: 100 | G5: Posted | H5: Credit Card | I5: RCPT-A001 | J5: Staff A | K5: First installment. | L5: =IF($A5="","",IF(COUNTIF('Payment Plans'!$A$5:$A$254,$B5)=0,"Unknown Plan ID",IF(AND($G5="Posted",$E5>Setup!$B$3),"Future-Dated Payment",IF(COUNTIF($A$5:$A$1004,$A5)>1,"Duplicate Payment ID","OK")))) | M5: =IF($A5="","",IF(OR($B5="",$E5="",$F5<=0,$G5="",$H5="",$J5=""),"Review",IF($L5<>"OK","Review","OK")))
A6: PAY-260002 | B6: PPF-26001 | C6: =IF($B6="","",IFERROR(INDEX('Payment Plans'!$B$5:$B$254,MATCH($B6,'Payment Plans'!$A$5:$A$254,0)),"")) | D6: =IF($B6="","",IFERROR(INDEX('Payment Plans'!$D$5:$D$254,MATCH($B6,'Payment Plans'!$A$5:$A$254,0)),"")) | E6: 46157 | F6: 100 | G6: Posted | H6: Debit Card | I6: RCPT-A002 | J6: Staff A | K6: Monthly payment. | L6: =IF($A6="","",IF(COUNTIF('Payment Plans'!$A$5:$A$254,$B6)=0,"Unknown Plan ID",IF(AND($G6="Posted",$E6>Setup!$B$3),"Future-Dated Payment",IF(COUNTIF($A$5:$A$1004,$A6)>1,"Duplicate Payment ID","OK")))) | M6: =IF($A6="","",IF(OR($B6="",$E6="",$F6<=0,$G6="",$H6="",$J6=""),"Review",IF($L6<>"OK","Review","OK")))
A7: PAY-260003 | B7: PPF-26001 | C7: =IF($B7="","",IFERROR(INDEX('Payment Plans'!$B$5:$B$254,MATCH($B7,'Payment Plans'!$A$5:$A$254,0)),"")) | D7: =IF($B7="","",IFERROR(INDEX('Payment Plans'!$D$5:$D$254,MATCH($B7,'Payment Plans'!$A$5:$A$254,0)),"")) | E7: 46188 | F7: 100 | G7: Posted | H7: Check | I7: RCPT-A003 | J7: Staff B | K7: Monthly payment. | L7: =IF($A7="","",IF(COUNTIF('Payment Plans'!$A$5:$A$254,$B7)=0,"Unknown Plan ID",IF(AND($G7="Posted",$E7>Setup!$B$3),"Future-Dated Payment",IF(COUNTIF($A$5:$A$1004,$A7)>1,"Duplicate Payment ID","OK")))) | M7: =IF($A7="","",IF(OR($B7="",$E7="",$F7<=0,$G7="",$H7="",$J7=""),"Review",IF($L7<>"OK","Review","OK")))
A8: PAY-260004 | B8: PPF-26001 | C8: =IF($B8="","",IFERROR(INDEX('Payment Plans'!$B$5:$B$254,MATCH($B8,'Payment Plans'!$A$5:$A$254,0)),"")) | D8: =IF($B8="","",IFERROR(INDEX('Payment Plans'!$D$5:$D$254,MATCH($B8,'Payment Plans'!$A$5:$A$254,0)),"")) | E8: 46218 | F8: 100 | G8: Posted | H8: Credit Card | I8: RCPT-A004 | J8: Staff A | K8: Monthly payment. | L8: =IF($A8="","",IF(COUNTIF('Payment Plans'!$A$5:$A$254,$B8)=0,"Unknown Plan ID",IF(AND($G8="Posted",$E8>Setup!$B$3),"Future-Dated Payment",IF(COUNTIF($A$5:$A$1004,$A8)>1,"Duplicate Payment ID","OK")))) | M8: =IF($A8="","",IF(OR($B8="",$E8="",$F8<=0,$G8="",$H8="",$J8=""),"Review",IF($L8<>"OK","Review","OK")))
A9: PAY-260005 | B9: PPF-26001 | C9: =IF($B9="","",IFERROR(INDEX('Payment Plans'!$B$5:$B$254,MATCH($B9,'Payment Plans'!$A$5:$A$254,0)),"")) | D9: =IF($B9="","",IFERROR(INDEX('Payment Plans'!$D$5:$D$254,MATCH($B9,'Payment Plans'!$A$5:$A$254,0)),"")) | E9: 46249 | F9: 100 | G9: Posted | H9: Debit Card | I9: RCPT-A005 | J9: Staff A | K9: Monthly payment. | L9: =IF($A9="","",IF(COUNTIF('Payment Plans'!$A$5:$A$254,$B9)=0,"Unknown Plan ID",IF(AND($G9="Posted",$E9>Setup!$B$3),"Future-Dated Payment",IF(COUNTIF($A$5:$A$1004,$A9)>1,"Duplicate Payment ID","OK")))) | M9: =IF($A9="","",IF(OR($B9="",$E9="",$F9<=0,$G9="",$H9="",$J9=""),"Review",IF($L9<>"OK","Review","OK")))
A10: PAY-260006 | B10: PPF-26002 | C10: =IF($B10="","",IFERROR(INDEX('Payment Plans'!$B$5:$B$254,MATCH($B10,'Payment Plans'!$A$5:$A$254,0)),"")) | D10: =IF($B10="","",IFERROR(INDEX('Payment Plans'!$D$5:$D$254,MATCH($B10,'Payment Plans'!$A$5:$A$254,0)),"")) | E10: 46174 | F10: 150 | G10: Posted | H10: Check | I10: RCPT-B001 | J10: Staff B | K10: First installment. | L10: =IF($A10="","",IF(COUNTIF('Payment Plans'!$A$5:$A$254,$B10)=0,"Unknown Plan ID",IF(AND($G10="Posted",$E10>Setup!$B$3),"Future-Dated Payment",IF(COUNTIF($A$5:$A$1004,$A10)>1,"Duplicate Payment ID","OK")))) | M10: =IF($A10="","",IF(OR($B10="",$E10="",$F10<=0,$G10="",$H10="",$J10=""),"Review",IF($L10<>"OK","Review","OK")))
A11: PAY-260007 | B11: PPF-26002 | C11: =IF($B11="","",IFERROR(INDEX('Payment Plans'!$B$5:$B$254,MATCH($B11,'Payment Plans'!$A$5:$A$254,0)),"")) | D11: =IF($B11="","",IFERROR(INDEX('Payment Plans'!$D$5:$D$254,MATCH($B11,'Payment Plans'!$A$5:$A$254,0)),"")) | E11: 46204 | F11: 150 | G11: Posted | H11: Credit Card | I11: RCPT-B002 | J11: Staff B | K11: Monthly payment. | L11: =IF($A11="","",IF(COUNTIF('Payment Plans'!$A$5:$A$254,$B11)=0,"Unknown Plan ID",IF(AND($G11="Posted",$E11>Setup!$B$3),"Future-Dated Payment",IF(COUNTIF($A$5:$A$1004,$A11)>1,"Duplicate Payment ID","OK")))) | M11: =IF($A11="","",IF(OR($B11="",$E11="",$F11<=0,$G11="",$H11="",$J11=""),"Review",IF($L11<>"OK","Review","OK")))
A12: PAY-260008 | B12: PPF-26003 | C12: =IF($B12="","",IFERROR(INDEX('Payment Plans'!$B$5:$B$254,MATCH($B12,'Payment Plans'!$A$5:$A$254,0)),"")) | D12: =IF($B12="","",IFERROR(INDEX('Payment Plans'!$D$5:$D$254,MATCH($B12,'Payment Plans'!$A$5:$A$254,0)),"")) | E12: 46254 | F12: 80 | G12: Posted | H12: Cash | I12: RCPT-C001 | J12: Staff C | K12: First installment. | L12: =IF($A12="","",IF(COUNTIF('Payment Plans'!$A$5:$A$254,$B12)=0,"Unknown Plan ID",IF(AND($G12="Posted",$E12>Setup!$B$3),"Future-Dated Payment",IF(COUNTIF($A$5:$A$1004,$A12)>1,"Duplicate Payment ID","OK")))) | M12: =IF($A12="","",IF(OR($B12="",$E12="",$F12<=0,$G12="",$H12="",$J12=""),"Review",IF($L12<>"OK","Review","OK")))
A13: PAY-260009 | B13: PPF-26004 | C13: =IF($B13="","",IFERROR(INDEX('Payment Plans'!$B$5:$B$254,MATCH($B13,'Payment Plans'!$A$5:$A$254,0)),"")) | D13: =IF($B13="","",IFERROR(INDEX('Payment Plans'!$D$5:$D$254,MATCH($B13,'Payment Plans'!$A$5:$A$254,0)),"")) | E13: 46032 | F13: 100 | G13: Posted | H13: Money Order | I13: RCPT-D001 | J13: Staff D | K13: First installment. | L13: =IF($A13="","",IF(COUNTIF('Payment Plans'!$A$5:$A$254,$B13)=0,"Unknown Plan ID",IF(AND($G13="Posted",$E13>Setup!$B$3),"Future-Dated Payment",IF(COUNTIF($A$5:$A$1004,$A13)>1,"Duplicate Payment ID","OK")))) | M13: =IF($A13="","",IF(OR($B13="",$E13="",$F13<=0,$G13="",$H13="",$J13=""),"Review",IF($L13<>"OK","Review","OK")))
A14: PAY-260010 | B14: PPF-26004 | C14: =IF($B14="","",IFERROR(INDEX('Payment Plans'!$B$5:$B$254,MATCH($B14,'Payment Plans'!$A$5:$A$254,0)),"")) | D14: =IF($B14="","",IFERROR(INDEX('Payment Plans'!$D$5:$D$254,MATCH($B14,'Payment Plans'!$A$5:$A$254,0)),"")) | E14: 46063 | F14: 100 | G14: Posted | H14: Money Order | I14: RCPT-D002 | J14: Staff D | K14: Monthly payment. | L14: =IF($A14="","",IF(COUNTIF('Payment Plans'!$A$5:$A$254,$B14)=0,"Unknown Plan ID",IF(AND($G14="Posted",$E14>Setup!$B$3),"Future-Dated Payment",IF(COUNTIF($A$5:$A$1004,$A14)>1,"Duplicate Payment ID","OK")))) | M14: =IF($A14="","",IF(OR($B14="",$E14="",$F14<=0,$G14="",$H14="",$J14=""),"Review",IF($L14<>"OK","Review","OK")))
A15: PAY-260011 | B15: PPF-26005 | C15: =IF($B15="","",IFERROR(INDEX('Payment Plans'!$B$5:$B$254,MATCH($B15,'Payment Plans'!$A$5:$A$254,0)),"")) | D15: =IF($B15="","",IFERROR(INDEX('Payment Plans'!$D$5:$D$254,MATCH($B15,'Payment Plans'!$A$5:$A$254,0)),"")) | E15: 46086 | F15: 100 | G15: Posted | H15: Credit Card | I15: RCPT-E001 | J15: Supervisor A | K15: First installment. | L15: =IF($A15="","",IF(COUNTIF('Payment Plans'!$A$5:$A$254,$B15)=0,"Unknown Plan ID",IF(AND($G15="Posted",$E15>Setup!$B$3),"Future-Dated Payment",IF(COUNTIF($A$5:$A$1004,$A15)>1,"Duplicate Payment ID","OK")))) | M15: =IF($A15="","",IF(OR($B15="",$E15="",$F15<=0,$G15="",$H15="",$J15=""),"Review",IF($L15<>"OK","Review","OK")))
A16: PAY-260012 | B16: PPF-26005 | C16: =IF($B16="","",IFERROR(INDEX('Payment Plans'!$B$5:$B$254,MATCH($B16,'Payment Plans'!$A$5:$A$254,0)),"")) | D16: =IF($B16="","",IFERROR(INDEX('Payment Plans'!$D$5:$D$254,MATCH($B16,'Payment Plans'!$A$5:$A$254,0)),"")) | E16: 46117 | F16: 100 | G16: Posted | H16: Credit Card | I16: RCPT-E002 | J16: Supervisor A | K16: Monthly payment. | L16: =IF($A16="","",IF(COUNTIF('Payment Plans'!$A$5:$A$254,$B16)=0,"Unknown Plan ID",IF(AND($G16="Posted",$E16>Setup!$B$3),"Future-Dated Payment",IF(COUNTIF($A$5:$A$1004,$A16)>1,"Duplicate Payment ID","OK")))) | M16: =IF($A16="","",IF(OR($B16="",$E16="",$F16<=0,$G16="",$H16="",$J16=""),"Review",IF($L16<>"OK","Review","OK")))
... A22: PAY-260018 | B22: PPF-26009 | C22: =IF($B22="","",IFERROR(INDEX('Payment Plans'!$B$5:$B$254,MATCH($B22,'Payment Plans'!$A$5:$A$254,0)),"")) | D22: =IF($B22="","",IFERROR(INDEX('Payment Plans'!$D$5:$D$254,MATCH($B22,'Payment Plans'!$A$5:$A$254,0)),"")) | E22: 46081 | F22: 100 | G22: Posted | H22: Check | I22: RCPT-I001 | J22: Staff C | K22: First installment. | L22: =IF($A22="","",IF(COUNTIF('Payment Plans'!$A$5:$A$254,$B22)=0,"Unknown Plan ID",IF(AND($G22="Posted",$E22>Setup!$B$3),"Future-Dated Payment",IF(COUNTIF($A$5:$A$1004,$A22)>1,"Duplicate Payment ID","OK")))) | M22: =IF($A22="","",IF(OR($B22="",$E22="",$F22<=0,$G22="",$H22="",$J22=""),"Review",IF($L22<>"OK","Review","OK")))
C23: =IF($B23="","",IFERROR(INDEX('Payment Plans'!$B$5:$B$254,MATCH($B23,'Payment Plans'!$A$5:$A$254,0)),"")) | D23: =IF($B23="","",IFERROR(INDEX('Payment Plans'!$D$5:$D$254,MATCH($B23,'Payment Plans'!$A$5:$A$254,0)),"")) | L23: =IF($A23="","",IF(COUNTIF('Payment Plans'!$A$5:$A$254,$B23)=0,"Unknown Plan ID",IF(AND($G23="Posted",$E23>Setup!$B$3),"Future-Dated Payment",IF(COUNTIF($A$5:$A$1004,$A23)>1,"Duplicate Payment ID","OK")))) | M23: =IF($A23="","",IF(OR($B23="",$E23="",$F23<=0,$G23="",$H23="",$J23=""),"Review",IF($L23<>"OK","Review","OK")))
C24: =IF($B24="","",IFERROR(INDEX('Payment Plans'!$B$5:$B$254,MATCH($B24,'Payment Plans'!$A$5:$A$254,0)),"")) | D24: =IF($B24="","",IFERROR(INDEX('Payment Plans'!$D$5:$D$254,MATCH($B24,'Payment Plans'!$A$5:$A$254,0)),"")) | L24: =IF($A24="","",IF(COUNTIF('Payment Plans'!$A$5:$A$254,$B24)=0,"Unknown Plan ID",IF(AND($G24="Posted",$E24>Setup!$B$3),"Future-Dated Payment",IF(COUNTIF($A$5:$A$1004,$A24)>1,"Duplicate Payment ID","OK")))) | M24: =IF($A24="","",IF(OR($B24="",$E24="",$F24<=0,$G24="",$H24="",$J24=""),"Review",IF($L24<>"OK","Review","OK")))
