Workbook

Sheet Dashboard
A1: Medical No-Show Tracker Dashboard
A3: As of Date | B3: 46271 | D3: Date Range Check | E3: =IF(OR(B4="",B5=""),"Enter both reporting dates",IF(B4>B5,"Start date is after end date","OK")) | J3: Clinic | K3: Opportunities | L3: No Shows | M3: No-Show Rate
A4: Reporting Start Date | B4: 46235 | D4: As of Date Check | E4: =IF(B3="","Enter an as of date",IF(B5>B3,"Reporting end date is after the as of date","OK")) | J4: Northstar Family Clinic | K4: =SUMIFS(Appointments!$R$7:$R$506,Appointments!$Q$7:$Q$506,1,Appointments!$C$7:$C$506,J4) | L4: =SUMIFS(Appointments!$S$7:$S$506,Appointments!$Q$7:$Q$506,1,Appointments!$C$7:$C$506,J4) | M4: =IFERROR(L4/K4,0)
A5: Reporting End Date | B5: 46271 | J5: Harborview Medical Office | K5: =SUMIFS(Appointments!$R$7:$R$506,Appointments!$Q$7:$Q$506,1,Appointments!$C$7:$C$506,J5) | L5: =SUMIFS(Appointments!$S$7:$S$506,Appointments!$Q$7:$Q$506,1,Appointments!$C$7:$C$506,J5) | M5: =IFERROR(L5/K5,0)
A6: Clinic Filter | B6: All Clinics | J6: Red Maple Health Center | K6: =SUMIFS(Appointments!$R$7:$R$506,Appointments!$Q$7:$Q$506,1,Appointments!$C$7:$C$506,J6) | L6: =SUMIFS(Appointments!$S$7:$S$506,Appointments!$Q$7:$Q$506,1,Appointments!$C$7:$C$506,J6) | M6: =IFERROR(L6/K6,0)
A7: Provider/Team Filter | B7: All Teams | J7: Silver Pine Clinic | K7: =SUMIFS(Appointments!$R$7:$R$506,Appointments!$Q$7:$Q$506,1,Appointments!$C$7:$C$506,J7) | L7: =SUMIFS(Appointments!$S$7:$S$506,Appointments!$Q$7:$Q$506,1,Appointments!$C$7:$C$506,J7) | M7: =IFERROR(L7/K7,0)
J8: Westfield Community Clinic | K8: =SUMIFS(Appointments!$R$7:$R$506,Appointments!$Q$7:$Q$506,1,Appointments!$C$7:$C$506,J8) | L8: =SUMIFS(Appointments!$S$7:$S$506,Appointments!$Q$7:$Q$506,1,Appointments!$C$7:$C$506,J8) | M8: =IFERROR(L8/K8,0)
L9: ="" | M9: =""
A10: Appointments in Scope | B10: Completed | C10: No Shows | D10: No-Show Rate | E10: Late Cancellations | F10: Open No-Show Follow-Ups | G10: Past Appointments Still Scheduled | L10: ="" | M10: =""
A11: =COUNTIF(Appointments!$Q$7:$Q$506,1) | B11: =COUNTIFS(Appointments!$Q$7:$Q$506,1,Appointments!$H$7:$H$506,"Completed") | C11: =SUMIFS(Appointments!$S$7:$S$506,Appointments!$Q$7:$Q$506,1) | D11: =IFERROR(SUMIFS(Appointments!$S$7:$S$506,Appointments!$Q$7:$Q$506,1)/SUMIFS(Appointments!$R$7:$R$506,Appointments!$Q$7:$Q$506,1),0) | E11: =SUMIFS(Appointments!$T$7:$T$506,Appointments!$Q$7:$Q$506,1) | F11: =COUNTIFS(Appointments!$Q$7:$Q$506,1,Appointments!$H$7:$H$506,"No Show",Appointments!$N$7:$N$506,"")+COUNTIFS(Appointments!$Q$7:$Q$506,1,Appointments!$H$7:$H$506,"No Show",Appointments!$N$7:$N$506,"Pending") | G11: =COUNTIFS(Appointments!$E$7:$E$506,"<"&$B$3,Appointments!$H$7:$H$506,"Scheduled") | L11: ="" | M11: =""
E12: ="" | L12: ="" | M12: =""
E13: ="" | L13: ="" | M13: =""
E14: ="" | L14: ="" | M14: =""
A15: Appointment Status | B15: Count | E15: ="" | L15: ="" | M15: =""
A16: Completed | B16: =COUNTIFS(Appointments!$Q$7:$Q$506,1,Appointments!$H$7:$H$506,A16) | E16: ="" | L16: ="" | M16: =""
A17: No Show | B17: =COUNTIFS(Appointments!$Q$7:$Q$506,1,Appointments!$H$7:$H$506,A17) | E17: ="" | L17: ="" | M17: =""
A18: Canceled Late | B18: =COUNTIFS(Appointments!$Q$7:$Q$506,1,Appointments!$H$7:$H$506,A18) | E18: ="" | L18: ="" | M18: =""
A19: Canceled Timely | B19: =COUNTIFS(Appointments!$Q$7:$Q$506,1,Appointments!$H$7:$H$506,A19) | E19: ="" | L19: ="" | M19: =""
A20: Scheduled | B20: =COUNTIFS(Appointments!$Q$7:$Q$506,1,Appointments!$H$7:$H$506,A20) | E20: ="" | L20: ="" | M20: =""
E21: ="" | L21: ="" | M21: =""
E22: ="" | L22: ="" | M22: =""
E23: ="" | L23: ="" | M23: =""
A24: Month | B24: Completed | C24: No Shows | D24: No-Show Rate | E24: ="" | L24: ="" | M24: =""
A25: =DATE(YEAR($B$5),MONTH($B$5)-11,1) | B25: =COUNTIFS(Appointments!$Q$7:$Q$506,1,Appointments!$E$7:$E$506,">="&A25,Appointments!$E$7:$E$506,"<"&EDATE(A25,1),Appointments!$H$7:$H$506,"Completed") | C25: =COUNTIFS(Appointments!$Q$7:$Q$506,1,Appointments!$E$7:$E$506,">="&A25,Appointments!$E$7:$E$506,"<"&EDATE(A25,1),Appointments!$H$7:$H$506,"No Show") | D25: =IFERROR(C25/(B25+C25),0) | E25: ="" | L25: ="" | M25: =""
A26: =EDATE(A25,1) | B26: =COUNTIFS(Appointments!$Q$7:$Q$506,1,Appointments!$E$7:$E$506,">="&A26,Appointments!$E$7:$E$506,"<"&EDATE(A26,1),Appointments!$H$7:$H$506,"Completed") | C26: =COUNTIFS(Appointments!$Q$7:$Q$506,1,Appointments!$E$7:$E$506,">="&A26,Appointments!$E$7:$E$506,"<"&EDATE(A26,1),Appointments!$H$7:$H$506,"No Show") | D26: =IFERROR(C26/(B26+C26),0) | E26: ="" | L26: ="" | M26: =""
A27: =EDATE(A26,1) | B27: =COUNTIFS(Appointments!$Q$7:$Q$506,1,Appointments!$E$7:$E$506,">="&A27,Appointments!$E$7:$E$506,"<"&EDATE(A27,1),Appointments!$H$7:$H$506,"Completed") | C27: =COUNTIFS(Appointments!$Q$7:$Q$506,1,Appointments!$E$7:$E$506,">="&A27,Appointments!$E$7:$E$506,"<"&EDATE(A27,1),Appointments!$H$7:$H$506,"No Show") | D27: =IFERROR(C27/(B27+C27),0) | E27: ="" | J27: Review Alert | K27: Count | L27: ="" | M27: =""
A28: =EDATE(A27,1) | B28: =COUNTIFS(Appointments!$Q$7:$Q$506,1,Appointments!$E$7:$E$506,">="&A28,Appointments!$E$7:$E$506,"<"&EDATE(A28,1),Appointments!$H$7:$H$506,"Completed") | C28: =COUNTIFS(Appointments!$Q$7:$Q$506,1,Appointments!$E$7:$E$506,">="&A28,Appointments!$E$7:$E$506,"<"&EDATE(A28,1),Appointments!$H$7:$H$506,"No Show") | D28: =IFERROR(C28/(B28+C28),0) | E28: ="" | J28: Duplicate appointment ID | K28: =COUNTIF(Appointments!$U$7:$U$506,J28) | L28: ="" | M28: =""
A29: =EDATE(A28,1) | B29: =COUNTIFS(Appointments!$Q$7:$Q$506,1,Appointments!$E$7:$E$506,">="&A29,Appointments!$E$7:$E$506,"<"&EDATE(A29,1),Appointments!$H$7:$H$506,"Completed") | C29: =COUNTIFS(Appointments!$Q$7:$Q$506,1,Appointments!$E$7:$E$506,">="&A29,Appointments!$E$7:$E$506,"<"&EDATE(A29,1),Appointments!$H$7:$H$506,"No Show") | D29: =IFERROR(C29/(B29+C29),0) | E29: ="" | J29: Missing required field | K29: =COUNTIF(Appointments!$U$7:$U$506,J29) | L29: ="" | M29: =""
A30: =EDATE(A29,1) | B30: =COUNTIFS(Appointments!$Q$7:$Q$506,1,Appointments!$E$7:$E$506,">="&A30,Appointments!$E$7:$E$506,"<"&EDATE(A30,1),Appointments!$H$7:$H$506,"Completed") | C30: =COUNTIFS(Appointments!$Q$7:$Q$506,1,Appointments!$E$7:$E$506,">="&A30,Appointments!$E$7:$E$506,"<"&EDATE(A30,1),Appointments!$H$7:$H$506,"No Show") | D30: =IFERROR(C30/(B30+C30),0) | E30: ="" | J30: Past appointment still Scheduled | K30: =COUNTIF(Appointments!$U$7:$U$506,J30) | L30: ="" | M30: =""
A31: =EDATE(A30,1) | B31: =COUNTIFS(Appointments!$Q$7:$Q$506,1,Appointments!$E$7:$E$506,">="&A31,Appointments!$E$7:$E$506,"<"&EDATE(A31,1),Appointments!$H$7:$H$506,"Completed") | C31: =COUNTIFS(Appointments!$Q$7:$Q$506,1,Appointments!$E$7:$E$506,">="&A31,Appointments!$E$7:$E$506,"<"&EDATE(A31,1),Appointments!$H$7:$H$506,"No Show") | D31: =IFERROR(C31/(B31+C31),0) | E31: ="" | J31: Cancellation timestamp missing | K31: =COUNTIF(Appointments!$U$7:$U$506,J31) | L31: ="" | M31: =""
A32: =EDATE(A31,1) | B32: =COUNTIFS(Appointments!$Q$7:$Q$506,1,Appointments!$E$7:$E$506,">="&A32,Appointments!$E$7:$E$506,"<"&EDATE(A32,1),Appointments!$H$7:$H$506,"Completed") | C32: =COUNTIFS(Appointments!$Q$7:$Q$506,1,Appointments!$E$7:$E$506,">="&A32,Appointments!$E$7:$E$506,"<"&EDATE(A32,1),Appointments!$H$7:$H$506,"No Show") | D32: =IFERROR(C32/(B32+C32),0) | E32: ="" | J32: No-show follow-up open | K32: =COUNTIF(Appointments!$U$7:$U$506,J32) | L32: ="" | M32: =""
A33: =EDATE(A32,1) | B33: =COUNTIFS(Appointments!$Q$7:$Q$506,1,Appointments!$E$7:$E$506,">="&A33,Appointments!$E$7:$E$506,"<"&EDATE(A33,1),Appointments!$H$7:$H$506,"Completed") | C33: =COUNTIFS(Appointments!$Q$7:$Q$506,1,Appointments!$E$7:$E$506,">="&A33,Appointments!$E$7:$E$506,"<"&EDATE(A33,1),Appointments!$H$7:$H$506,"No Show") | D33: =IFERROR(C33/(B33+C33),0) | E33: ="" | J33: Rescheduled date before appointment | K33: =COUNTIF(Appointments!$U$7:$U$506,J33) | L33: ="" | M33: =""
A34: =EDATE(A33,1) | B34: =COUNTIFS(Appointments!$Q$7:$Q$506,1,Appointments!$E$7:$E$506,">="&A34,Appointments!$E$7:$E$506,"<"&EDATE(A34,1),Appointments!$H$7:$H$506,"Completed") | C34: =COUNTIFS(Appointments!$Q$7:$Q$506,1,Appointments!$E$7:$E$506,">="&A34,Appointments!$E$7:$E$506,"<"&EDATE(A34,1),Appointments!$H$7:$H$506,"No Show") | D34: =IFERROR(C34/(B34+C34),0) | E34: ="" | K34: ="" | L34: ="" | M34: =""
A35: =EDATE(A34,1) | B35: =COUNTIFS(Appointments!$Q$7:$Q$506,1,Appointments!$E$7:$E$506,">="&A35,Appointments!$E$7:$E$506,"<"&EDATE(A35,1),Appointments!$H$7:$H$506,"Completed") | C35: =COUNTIFS(Appointments!$Q$7:$Q$506,1,Appointments!$E$7:$E$506,">="&A35,Appointments!$E$7:$E$506,"<"&EDATE(A35,1),Appointments!$H$7:$H$506,"No Show") | D35: =IFERROR(C35/(B35+C35),0) | E35: ="" | K35: ="" | L35: ="" | M35: =""
A36: =EDATE(A35,1) | B36: =COUNTIFS(Appointments!$Q$7:$Q$506,1,Appointments!$E$7:$E$506,">="&A36,Appointments!$E$7:$E$506,"<"&EDATE(A36,1),Appointments!$H$7:$H$506,"Completed") | C36: =COUNTIFS(Appointments!$Q$7:$Q$506,1,Appointments!$E$7:$E$506,">="&A36,Appointments!$E$7:$E$506,"<"&EDATE(A36,1),Appointments!$H$7:$H$506,"No Show") | D36: =IFERROR(C36/(B36+C36),0) | E36: ="" | K36: ="" | L36: ="" | M36: =""
A37: ="" | B37: ="" | C37: ="" | D37: ="" | E37: ="" | K37: ="" | L37: ="" | M37: =""
A38: ="" | B38: ="" | C38: ="" | D38: ="" | E38: ="" | K38: ="" | L38: ="" | M38: =""
A39: ="" | B39: ="" | C39: ="" | D39: ="" | E39: ="" | K39: ="" | L39: ="" | M39: =""
A40: ="" | B40: ="" | C40: ="" | D40: ="" | E40: ="" | K40: ="" | L40: ="" | M40: =""
A41: ="" | B41: ="" | C41: ="" | D41: ="" | E41: ="" | K41: ="" | L41: ="" | M41: =""
...

Sheet Appointments
A1: Appointment Tracking Log
A2: Enter one row per appointment. Use only a fictional or internal non-identifying client reference; do not enter patient names or clinical information.
A4: Light yellow = user entry | D4: Light gray = calculated | G4: Yellow/red = review needed
A6: Appointment ID | B6: Client Reference | C6: Clinic | D6: Provider/Team | E6: Appointment Date | F6: Scheduled Start | G6: Appointment Type | H6: Status | I6: Cancellation Date | J6: Cancellation Time | K6: Notice Hours | L6: Reminder Sent | M6: Contact Attempt Date | N6: Follow-Up Outcome | O6: Rescheduled Date | P6: Operational Notes | Q6: In Dashboard Scope | R6: Attendance Opportunity | S6: No-Show Flag | T6: Late-Cancel Flag | U6: Review Check
A7: APT-FX-1001 | B7: CL-9001 | C7: Northstar Family Clinic | D7: Cedar Team | E7: 46237 | F7: 0.375 | G7: New Patient Visit | H7: Completed | K7: =IF(OR($A7="",$E7="",$F7="",$I7="",$J7=""),"",ROUND((($E7+$F7)-($I7+$J7))*24,1)) | L7: Yes | N7: Not Needed | P7: Fictional training record | Q7: =IF(OR($A7="",$E7="",Dashboard!$B$4="",Dashboard!$B$5=""),0,IF(AND($E7>=Dashboard!$B$4,$E7<=Dashboard!$B$5,OR(Dashboard!$B$6="All Clinics",$C7=Dashboard!$B$6),OR(Dashboard!$B$7="All Teams",$D7=Dashboard!$B$7)),1,0)) | R7: =IF($A7="",0,IF(OR($H7="Completed",$H7="No Show"),1,0)) | S7: =IF($A7="",0,IF($H7="No Show",1,0)) | T7: =IF($A7="",0,IF($H7="Canceled Late",1,0)) | U7: =IF($A7="","",IF(COUNTIF($A$7:$A$506,$A7)>1,"Duplicate appointment ID",IF(OR($B7="",$C7="",$D7="",$E7="",$F7="",$G7="",$H7=""),"Missing required field",IF(AND($E7<Dashboard!$B$3,$H7="Scheduled"),"Past appointment still Scheduled",IF(AND(OR($H7="Canceled Late",$H7="Canceled Timely"),OR($I7="",$J7="")),"Cancellation timestamp missing",IF(AND($H7="No Show",OR($N7="",$N7="Pending")),"No-show follow-up open",IF(AND($O7<>"",$O7<$E7),"Rescheduled date before appointment","OK")))))))
A8: APT-FX-1002 | B8: CL-9002 | C8: Harborview Medical Office | D8: Harbor Team | E8: 46239 | F8: 0.4375 | G8: Follow-Up Visit | H8: No Show | K8: =IF(OR($A8="",$E8="",$F8="",$I8="",$J8=""),"",ROUND((($E8+$F8)-($I8+$J8))*24,1)) | L8: Yes | M8: 46239 | N8: Rescheduled | O8: 46253 | P8: Reached after missed visit | Q8: =IF(OR($A8="",$E8="",Dashboard!$B$4="",Dashboard!$B$5=""),0,IF(AND($E8>=Dashboard!$B$4,$E8<=Dashboard!$B$5,OR(Dashboard!$B$6="All Clinics",$C8=Dashboard!$B$6),OR(Dashboard!$B$7="All Teams",$D8=Dashboard!$B$7)),1,0)) | R8: =IF($A8="",0,IF(OR($H8="Completed",$H8="No Show"),1,0)) | S8: =IF($A8="",0,IF($H8="No Show",1,0)) | T8: =IF($A8="",0,IF($H8="Canceled Late",1,0)) | U8: =IF($A8="","",IF(COUNTIF($A$7:$A$506,$A8)>1,"Duplicate appointment ID",IF(OR($B8="",$C8="",$D8="",$E8="",$F8="",$G8="",$H8=""),"Missing required field",IF(AND($E8<Dashboard!$B$3,$H8="Scheduled"),"Past appointment still Scheduled",IF(AND(OR($H8="Canceled Late",$H8="Canceled Timely"),OR($I8="",$J8="")),"Cancellation timestamp missing",IF(AND($H8="No Show",OR($N8="",$N8="Pending")),"No-show follow-up open",IF(AND($O8<>"",$O8<$E8),"Rescheduled date before appointment","OK")))))))
A9: APT-FX-1003 | B9: CL-9003 | C9: Red Maple Health Center | D9: Maple Team | E9: 46242 | F9: 0.55208333 | G9: Annual Visit | H9: Canceled Timely | I9: 46240 | J9: 0.45833333 | K9: =IF(OR($A9="",$E9="",$F9="",$I9="",$J9=""),"",ROUND((($E9+$F9)-($I9+$J9))*24,1)) | L9: Yes | N9: Not Needed | O9: 46267 | P9: Canceled more than 24 hours ahead | Q9: =IF(OR($A9="",$E9="",Dashboard!$B$4="",Dashboard!$B$5=""),0,IF(AND($E9>=Dashboard!$B$4,$E9<=Dashboard!$B$5,OR(Dashboard!$B$6="All Clinics",$C9=Dashboard!$B$6),OR(Dashboard!$B$7="All Teams",$D9=Dashboard!$B$7)),1,0)) | R9: =IF($A9="",0,IF(OR($H9="Completed",$H9="No Show"),1,0)) | S9: =IF($A9="",0,IF($H9="No Show",1,0)) | T9: =IF($A9="",0,IF($H9="Canceled Late",1,0)) | U9: =IF($A9="","",IF(COUNTIF($A$7:$A$506,$A9)>1,"Duplicate appointment ID",IF(OR($B9="",$C9="",$D9="",$E9="",$F9="",$G9="",$H9=""),"Missing required field",IF(AND($E9<Dashboard!$B$3,$H9="Scheduled"),"Past appointment still Scheduled",IF(AND(OR($H9="Canceled Late",$H9="Canceled Timely"),OR($I9="",$J9="")),"Cancellation timestamp missing",IF(AND($H9="No Show",OR($N9="",$N9="Pending")),"No-show follow-up open",IF(AND($O9<>"",$O9<$E9),"Rescheduled date before appointment","OK")))))))
A10: APT-FX-1004 | B10: CL-9004 | C10: Silver Pine Clinic | D10: Pine Team | E10: 46245 | F10: 0.625 | G10: Procedure Follow-Up | H10: Canceled Late | I10: 46245 | J10: 0.35416667 | K10: =IF(OR($A10="",$E10="",$F10="",$I10="",$J10=""),"",ROUND((($E10+$F10)-($I10+$J10))*24,1)) | L10: Yes | N10: Not Needed | O10: 46259 | P10: Same-day cancellation | Q10: =IF(OR($A10="",$E10="",Dashboard!$B$4="",Dashboard!$B$5=""),0,IF(AND($E10>=Dashboard!$B$4,$E10<=Dashboard!$B$5,OR(Dashboard!$B$6="All Clinics",$C10=Dashboard!$B$6),OR(Dashboard!$B$7="All Teams",$D10=Dashboard!$B$7)),1,0)) | R10: =IF($A10="",0,IF(OR($H10="Completed",$H10="No Show"),1,0)) | S10: =IF($A10="",0,IF($H10="No Show",1,0)) | T10: =IF($A10="",0,IF($H10="Canceled Late",1,0)) | U10: =IF($A10="","",IF(COUNTIF($A$7:$A$506,$A10)>1,"Duplicate appointment ID",IF(OR($B10="",$C10="",$D10="",$E10="",$F10="",$G10="",$H10=""),"Missing required field",IF(AND($E10<Dashboard!$B$3,$H10="Scheduled"),"Past appointment still Scheduled",IF(AND(OR($H10="Canceled Late",$H10="Canceled Timely"),OR($I10="",$J10="")),"Cancellation timestamp missing",IF(AND($H10="No Show",OR($N10="",$N10="Pending")),"No-show follow-up open",IF(AND($O10<>"",$O10<$E10),"Rescheduled date before appointment","OK")))))))
A11: APT-FX-1005 | B11: CL-9005 | C11: Westfield Community Clinic | D11: West Team | E11: 46248 | F11: 0.36458333 | G11: Follow-Up Visit | H11: Completed | K11: =IF(OR($A11="",$E11="",$F11="",$I11="",$J11=""),"",ROUND((($E11+$F11)-($I11+$J11))*24,1)) | L11: No | N11: Not Needed | P11: Reminder was not documented | Q11: =IF(OR($A11="",$E11="",Dashboard!$B$4="",Dashboard!$B$5=""),0,IF(AND($E11>=Dashboard!$B$4,$E11<=Dashboard!$B$5,OR(Dashboard!$B$6="All Clinics",$C11=Dashboard!$B$6),OR(Dashboard!$B$7="All Teams",$D11=Dashboard!$B$7)),1,0)) | R11: =IF($A11="",0,IF(OR($H11="Completed",$H11="No Show"),1,0)) | S11: =IF($A11="",0,IF($H11="No Show",1,0)) | T11: =IF($A11="",0,IF($H11="Canceled Late",1,0)) | U11: =IF($A11="","",IF(COUNTIF($A$7:$A$506,$A11)>1,"Duplicate appointment ID",IF(OR($B11="",$C11="",$D11="",$E11="",$F11="",$G11="",$H11=""),"Missing required field",IF(AND($E11<Dashboard!$B$3,$H11="Scheduled"),"Past appointment still Scheduled",IF(AND(OR($H11="Canceled Late",$H11="Canceled Timely"),OR($I11="",$J11="")),"Cancellation timestamp missing",IF(AND($H11="No Show",OR($N11="",$N11="Pending")),"No-show follow-up open",IF(AND($O11<>"",$O11<$E11),"Rescheduled date before appointment","OK")))))))
A12: APT-FX-1006 | B12: CL-9006 | C12: Northstar Family Clinic | D12: Oak Team | E12: 46252 | F12: 0.58333333 | G12: New Patient Visit | H12: No Show | K12: =IF(OR($A12="",$E12="",$F12="",$I12="",$J12=""),"",ROUND((($E12+$F12)-($I12+$J12))*24,1)) | L12: Yes | M12: 46252 | N12: Pending | P12: Additional outreach needed | Q12: =IF(OR($A12="",$E12="",Dashboard!$B$4="",Dashboard!$B$5=""),0,IF(AND($E12>=Dashboard!$B$4,$E12<=Dashboard!$B$5,OR(Dashboard!$B$6="All Clinics",$C12=Dashboard!$B$6),OR(Dashboard!$B$7="All Teams",$D12=Dashboard!$B$7)),1,0)) | R12: =IF($A12="",0,IF(OR($H12="Completed",$H12="No Show"),1,0)) | S12: =IF($A12="",0,IF($H12="No Show",1,0)) | T12: =IF($A12="",0,IF($H12="Canceled Late",1,0)) | U12: =IF($A12="","",IF(COUNTIF($A$7:$A$506,$A12)>1,"Duplicate appointment ID",IF(OR($B12="",$C12="",$D12="",$E12="",$F12="",$G12="",$H12=""),"Missing required field",IF(AND($E12<Dashboard!$B$3,$H12="Scheduled"),"Past appointment still Scheduled",IF(AND(OR($H12="Canceled Late",$H12="Canceled Timely"),OR($I12="",$J12="")),"Cancellation timestamp missing",IF(AND($H12="No Show",OR($N12="",$N12="Pending")),"No-show follow-up open",IF(AND($O12<>"",$O12<$E12),"Rescheduled date before appointment","OK")))))))
A13: APT-FX-1007 | B13: CL-9007 | C13: Harborview Medical Office | D13: Cedar Team | E13: 46255 | F13: 0.46875 | G13: Annual Visit | H13: Completed | K13: =IF(OR($A13="",$E13="",$F13="",$I13="",$J13=""),"",ROUND((($E13+$F13)-($I13+$J13))*24,1)) | L13: Yes | N13: Not Needed | P13: Fictional training record | Q13: =IF(OR($A13="",$E13="",Dashboard!$B$4="",Dashboard!$B$5=""),0,IF(AND($E13>=Dashboard!$B$4,$E13<=Dashboard!$B$5,OR(Dashboard!$B$6="All Clinics",$C13=Dashboard!$B$6),OR(Dashboard!$B$7="All Teams",$D13=Dashboard!$B$7)),1,0)) | R13: =IF($A13="",0,IF(OR($H13="Completed",$H13="No Show"),1,0)) | S13: =IF($A13="",0,IF($H13="No Show",1,0)) | T13: =IF($A13="",0,IF($H13="Canceled Late",1,0)) | U13: =IF($A13="","",IF(COUNTIF($A$7:$A$506,$A13)>1,"Duplicate appointment ID",IF(OR($B13="",$C13="",$D13="",$E13="",$F13="",$G13="",$H13=""),"Missing required field",IF(AND($E13<Dashboard!$B$3,$H13="Scheduled"),"Past appointment still Scheduled",IF(AND(OR($H13="Canceled Late",$H13="Canceled Timely"),OR($I13="",$J13="")),"Cancellation timestamp missing",IF(AND($H13="No Show",OR($N13="",$N13="Pending")),"No-show follow-up open",IF(AND($O13<>"",$O13<$E13),"Rescheduled date before appointment","OK")))))))
A14: APT-FX-1008 | B14: CL-9008 | C14: Red Maple Health Center | D14: Maple Team | E14: 46261 | F14: 0.66666667 | G14: Telehealth Visit | H14: No Show | K14: =IF(OR($A14="",$E14="",$F14="",$I14="",$J14=""),"",ROUND((($E14+$F14)-($I14+$J14))*24,1)) | L14: No | M14: 46262 | N14: Left Message | P14: Voicemail attempt documented | Q14: =IF(OR($A14="",$E14="",Dashboard!$B$4="",Dashboard!$B$5=""),0,IF(AND($E14>=Dashboard!$B$4,$E14<=Dashboard!$B$5,OR(Dashboard!$B$6="All Clinics",$C14=Dashboard!$B$6),OR(Dashboard!$B$7="All Teams",$D14=Dashboard!$B$7)),1,0)) | R14: =IF($A14="",0,IF(OR($H14="Completed",$H14="No Show"),1,0)) | S14: =IF($A14="",0,IF($H14="No Show",1,0)) | T14: =IF($A14="",0,IF($H14="Canceled Late",1,0)) | U14: =IF($A14="","",IF(COUNTIF($A$7:$A$506,$A14)>1,"Duplicate appointment ID",IF(OR($B14="",$C14="",$D14="",$E14="",$F14="",$G14="",$H14=""),"Missing required field",IF(AND($E14<Dashboard!$B$3,$H14="Scheduled"),"Past appointment still Scheduled",IF(AND(OR($H14="Canceled Late",$H14="Canceled Timely"),OR($I14="",$J14="")),"Cancellation timestamp missing",IF(AND($H14="No Show",OR($N14="",$N14="Pending")),"No-show follow-up open",IF(AND($O14<>"",$O14<$E14),"Rescheduled date before appointment","OK")))))))
A15: APT-FX-1009 | B15: CL-9009 | C15: Silver Pine Clinic | D15: Pine Team | E15: 46267 | F15: 0.39583333 | G15: Follow-Up Visit | H15: Scheduled | K15: =IF(OR($A15="",$E15="",$F15="",$I15="",$J15=""),"",ROUND((($E15+$F15)-($I15+$J15))*24,1)) | L15: Yes | P15: Intentionally left Scheduled for alert testing | Q15: =IF(OR($A15="",$E15="",Dashboard!$B$4="",Dashboard!$B$5=""),0,IF(AND($E15>=Dashboard!$B$4,$E15<=Dashboard!$B$5,OR(Dashboard!$B$6="All Clinics",$C15=Dashboard!$B$6),OR(Dashboard!$B$7="All Teams",$D15=Dashboard!$B$7)),1,0)) | R15: =IF($A15="",0,IF(OR($H15="Completed",$H15="No Show"),1,0)) | S15: =IF($A15="",0,IF($H15="No Show",1,0)) | T15: =IF($A15="",0,IF($H15="Canceled Late",1,0)) | U15: =IF($A15="","",IF(COUNTIF($A$7:$A$506,$A15)>1,"Duplicate appointment ID",IF(OR($B15="",$C15="",$D15="",$E15="",$F15="",$G15="",$H15=""),"Missing required field",IF(AND($E15<Dashboard!$B$3,$H15="Scheduled"),"Past appointment still Scheduled",IF(AND(OR($H15="Canceled Late",$H15="Canceled Timely"),OR($I15="",$J15="")),"Cancellation timestamp missing",IF(AND($H15="No Show",OR($N15="",$N15="Pending")),"No-show follow-up open",IF(AND($O15<>"",$O15<$E15),"Rescheduled date before appointment","OK")))))))
A16: APT-FX-1010 | B16: CL-9010 | C16: Westfield Community Clinic | D16: West Team | E16: 46273 | F16: 0.5625 | G16: Annual Visit | H16: Scheduled | K16: =IF(OR($A16="",$E16="",$F16="",$I16="",$J16=""),"",ROUND((($E16+$F16)-($I16+$J16))*24,1)) | L16: Yes | P16: Future appointment outside initial reporting end date | Q16: =IF(OR($A16="",$E16="",Dashboard!$B$4="",Dashboard!$B$5=""),0,IF(AND($E16>=Dashboard!$B$4,$E16<=Dashboard!$B$5,OR(Dashboard!$B$6="All Clinics",$C16=Dashboard!$B$6),OR(Dashboard!$B$7="All Teams",$D16=Dashboard!$B$7)),1,0)) | R16: =IF($A16="",0,IF(OR($H16="Completed",$H16="No Show"),1,0)) | S16: =IF($A16="",0,IF($H16="No Show",1,0)) | T16: =IF($A16="",0,IF($H16="Canceled Late",1,0)) | U16: =IF($A16="","",IF(COUNTIF($A$7:$A$506,$A16)>1,"Duplicate appointment ID",IF(OR($B16="",$C16="",$D16="",$E16="",$F16="",$G16="",$H16=""),"Missing required field",IF(AND($E16<Dashboard!$B$3,$H16="Scheduled"),"Past appointment still Scheduled",IF(AND(OR($H16="Canceled Late",$H16="Canceled Timely"),OR($I16="",$J16="")),"Cancellation timestamp missing",IF(AND($H16="No Show",OR($N16="",$N16="Pending")),"No-show follow-up open",IF(AND($O16<>"",$O16<$E16),"Rescheduled date before appointment","OK")))))))
K17: =IF(OR($A17="",$E17="",$F17="",$I17="",$J17=""),"",ROUND((($E17+$F17)-($I17+$J17))*24,1)) | Q17: =IF(OR($A17="",$E17="",Dashboard!$B$4="",Dashboard!$B$5=""),0,IF(AND($E17>=Dashboard!$B$4,$E17<=Dashboard!$B$5,OR(Dashboard!$B$6="All Clinics",$C17=Dashboard!$B$6),OR(Dashboard!$B$7="All Teams",$D17=Dashboard!$B$7)),1,0)) | R17: =IF($A17="",0,IF(OR($H17="Completed",$H17="No Show"),1,0)) | S17: =IF($A17="",0,IF($H17="No Show",1,0)) | T17: =IF($A17="",0,IF($H17="Canceled Late",1,0)) | U17: =IF($A17="","",IF(COUNTIF($A$7:$A$506,$A17)>1,"Duplicate appointment ID",IF(OR($B17="",$C17="",$D17="",$E17="",$F17="",$G17="",$H17=""),"Missing required field",IF(AND($E17<Dashboard!$B$3,$H17="Scheduled"),"Past appointment still Scheduled",IF(AND(OR($H17="Canceled Late",$H17="Canceled Timely"),OR($I17="",$J17="")),"Cancellation timestamp missing",IF(AND($H17="No Show",OR($N17="",$N17="Pending")),"No-show follow-up open",IF(AND($O17<>"",$O17<$E17),"Rescheduled date before appointment","OK")))))))
K18: =IF(OR($A18="",$E18="",$F18="",$I18="",$J18=""),"",ROUND((($E18+$F18)-($I18+$J18))*24,1)) | Q18: =IF(OR($A18="",$E18="",Dashboard!$B$4="",Dashboard!$B$5=""),0,IF(AND($E18>=Dashboard!$B$4,$E18<=Dashboard!$B$5,OR(Dashboard!$B$6="All Clinics",$C18=Dashboard!$B$6),OR(Dashboard!$B$7="All Teams",$D18=Dashboard!$B$7)),1,0)) | R18: =IF($A18="",0,IF(OR($H18="Completed",$H18="No Show"),1,0)) | S18: =IF($A18="",0,IF($H18="No Show",1,0)) | T18: =IF($A18="",0,IF($H18="Canceled Late",1,0)) | U18: =IF($A18="","",IF(COUNTIF($A$7:$A$506,$A18)>1,"Duplicate appointment ID",IF(OR($B18="",$C18="",$D18="",$E18="",$F18="",$G18="",$H18=""),"Missing required field",IF(AND($E18<Dashboard!$B$3,$H18="Scheduled"),"Past appointment still Scheduled",IF(AND(OR($H18="Canceled Late",$H18="Canceled Timely"),OR($I18="",$J18="")),"Cancellation timestamp missing",IF(AND($H18="No Show",OR($N18="",$N18="Pending")),"No-show follow-up open",IF(AND($O18<>"",$O18<$E18),"Rescheduled date before appointment","OK")))))))
K19: =IF(OR($A19="",$E19="",$F19="",$I19="",$J19=""),"",ROUND((($E19+$F19)-($I19+$J19))*24,1)) | Q19: =IF(OR($A19="",$E19="",Dashboard!$B$4="",Dashboard!$B$5=""),0,IF(AND($E19>=Dashboard!$B$4,$E19<=Dashboard!$B$5,OR(Dashboard!$B$6="All Clinics",$C19=Dashboard!$B$6),OR(Dashboard!$B$7="All Teams",$D19=Dashboard!$B$7)),1,0)) | R19: =IF($A19="",0,IF(OR($H19="Completed",$H19="No Show"),1,0)) | S19: =IF($A19="",0,IF($H19="No Show",1,0)) | T19: =IF($A19="",0,IF($H19="Canceled Late",1,0)) | U19: =IF($A19="","",IF(COUNTIF($A$7:$A$506,$A19)>1,"Duplicate appointment ID",IF(OR($B19="",$C19="",$D19="",$E19="",$F19="",$G19="",$H19=""),"Missing required field",IF(AND($E19<Dashboard!$B$3,$H19="Scheduled"),"Past appointment still Scheduled",IF(AND(OR($H19="Canceled Late",$H19="Canceled Timely"),OR($I19="",$J19="")),"Cancellation timestamp missing",IF(AND($H19="No Show",OR($N19="",$N19="Pending")),"No-show follow-up open",IF(AND($O19<>"",$O19<$E19),"Rescheduled date before appointment","OK")))))))
K20: =IF(OR($A20="",$E20="",$F20="",$I20="",$J20=""),"",ROUND((($E20+$F20)-($I20+$J20))*24,1)) | Q20: =IF(OR($A20="",$E20="",Dashboard!$B$4="",Dashboard!$B$5=""),0,IF(AND($E20>=Dashboard!$B$4,$E20<=Dashboard!$B$5,OR(Dashboard!$B$6="All Clinics",$C20=Dashboard!$B$6),OR(Dashboard!$B$7="All Teams",$D20=Dashboard!$B$7)),1,0)) | R20: =IF($A20="",0,IF(OR($H20="Completed",$H20="No Show"),1,0)) | S20: =IF($A20="",0,IF($H20="No Show",1,0)) | T20: =IF($A20="",0,IF($H20="Canceled Late",1,0)) | U20: =IF($A20="","",IF(COUNTIF($A$7:$A$506,$A20)>1,"Duplicate appointment ID",IF(OR($B20="",$C20="",$D20="",$E20="",$F20="",$G20="",$H20=""),"Missing required field",IF(AND($E20<Dashboard!$B$3,$H20="Scheduled"),"Past appointment still Scheduled",IF(AND(OR($H20="Canceled Late",$H20="Canceled Timely"),OR($I20="",$J20="")),"Cancellation timestamp missing",IF(AND($H20="No Show",OR($N20="",$N20="Pending")),"No-show follow-up open",IF(AND($O20<>"",$O20<$E20),"Rescheduled date before appointment","OK")))))))
K21: =IF(OR($A21="",$E21="",$F21="",$I21="",$J21=""),"",ROUND((($E21+$F21)-($I21+$J21))*24,1)) | Q21: =IF(OR($A21="",$E21="",Dashboard!$B$4="",Dashboard!$B$5=""),0,IF(AND($E21>=Dashboard!$B$4,$E21<=Dashboard!$B$5,OR(Dashboard!$B$6="All Clinics",$C21=Dashboard!$B$6),OR(Dashboard!$B$7="All Teams",$D21=Dashboard!$B$7)),1,0)) | R21: =IF($A21="",0,IF(OR($H21="Completed",$H21="No Show"),1,0)) | S21: =IF($A21="",0,IF($H21="No Show",1,0)) | T21: =IF($A21="",0,IF($H21="Canceled Late",1,0)) | U21: =IF($A21="","",IF(COUNTIF($A$7:$A$506,$A21)>1,"Duplicate appointment ID",IF(OR($B21="",$C21="",$D21="",$E21="",$F21="",$G21="",$H21=""),"Missing required field",IF(AND($E21<Dashboard!$B$3,$H21="Scheduled"),"Past appointment still Scheduled",IF(AND(OR($H21="Canceled Late",$H21="Canceled Timely"),OR($I21="",$J21="")),"Cancellation timestamp missing",IF(AND($H21="No Show",OR($N21="",$N21="Pending")),"No-show follow-up open",IF(AND($O21<>"",$O21<$E21),"Rescheduled date before appointment","OK")))))))
K22: =IF(OR($A22="",$E22="",$F22="",$I22="",$J22=""),"",ROUND((($E22+$F22)-($I22+$J22))*24,1)) | Q22: =IF(OR($A22="",$E22="",Dashboard!$B$4="",Dashboard!$B$5=""),0,IF(AND($E22>=Dashboard!$B$4,$E22<=Dashboard!$B$5,OR(Dashboard!$B$6="All Clinics",$C22=Dashboard!$B$6),OR(Dashboard!$B$7="All Teams",$D22=Dashboard!$B$7)),1,0)) | R22: =IF($A22="",0,IF(OR($H22="Completed",$H22="No Show"),1,0)) | S22: =IF($A22="",0,IF($H22="No Show",1,0)) | T22: =IF($A22="",0,IF($H22="Canceled Late",1,0)) | U22: =IF($A22="","",IF(COUNTIF($A$7:$A$506,$A22)>1,"Duplicate appointment ID",IF(OR($B22="",$C22="",$D22="",$E22="",$F22="",$G22="",$H22=""),"Missing required field",IF(AND($E22<Dashboard!$B$3,$H22="Scheduled"),"Past appointment still Scheduled",IF(AND(OR($H22="Canceled Late",$H22="Canceled Timely"),OR($I22="",$J22="")),"Cancellation timestamp missing",IF(AND($H22="No Show",OR($N22="",$N22="Pending")),"No-show follow-up open",IF(AND($O22<>"",$O22<$E22),"Rescheduled date before appointment","OK")))))))
K23: =IF(OR($A23="",$E23="",$F23="",$I23="",$J23=""),"",ROUND((($E23+$F23)-($I23+$J23))*24,1)) | Q23: =IF(OR($A23="",$E23="",Dashboard!$B$4="",Dashboard!$B$5=""),0,IF(AND($E23>=Dashboard!$B$4,$E23<=Dashboard!$B$5,OR(Dashboard!$B$6="All Clinics",$C23=Dashboard!$B$6),OR(Dashboard!$B$7="All Teams",$D23=Dashboard!$B$7)),1,0)) | R23: =IF($A23="",0,IF(OR($H23="Completed",$H23="No Show"),1,0)) | S23: =IF($A23="",0,IF($H23="No Show",1,0)) | T23: =IF($A23="",0,IF($H23="Canceled Late",1,0)) | U23: =IF($A23="","",IF(COUNTIF($A$7:$A$506,$A23)>1,"Duplicate appointment ID",IF(OR($B23="",$C23="",$D23="",$E23="",$F23="",$G23="",$H23=""),"Missing required field",IF(AND($E23<Dashboard!$B$3,$H23="Scheduled"),"Past appointment still Scheduled",IF(AND(OR($H23="Canceled Late",$H23="Canceled Timely"),OR($I23="",$J23="")),"Cancellation timestamp missing",IF(AND($H23="No Show",OR($N23="",$N23="Pending")),"No-show follow-up open",IF(AND($O23<>"",$O23<$E23),"Rescheduled date before appointment","OK")))))))
K24: =IF(OR($A24="",$E24="",$F24="",$I24="",$J24=""),"",ROUND((($E24+$F24)-($I24+$J24))*24,1)) | Q24: =IF(OR($A24="",$E24="",Dashboard!$B$4="",Dashboard!$B$5=""),0,IF(AND($E24>=Dashboard!$B$4,$E24<=Dashboard!$B$5,OR(Dashboard!$B$6="All Clinics",$C24=Dashboard!$B$6),OR(Dashboard!$B$7="All Teams",$D24=Dashboard!$B$7)),1,0)) | R24: =IF($A24="",0,IF(OR($H24="Completed",$H24="No Show"),1,0)) | S24: =IF($A24="",0,IF($H24="No Show",1,0)) | T24: =IF($A24="",0,IF($H24="Canceled Late",1,0)) | U24: =IF($A24="","",IF(COUNTIF($A$7:$A$506,$A24)>1,"Duplicate appointment ID",IF(OR($B24="",$C24="",$D24="",$E24="",$F24="",$G24="",$H24=""),"Missing required field",IF(AND($E24<Dashboard!$B$3,$H24="Scheduled"),"Past appointment still Scheduled",IF(AND(OR($H24="Canceled Late",$H24="Canceled Timely"),OR($I24="",$J24="")),"Cancellation timestamp missing",IF(AND($H24="No Show",OR($N24="",$N24="Pending")),"No-show follow-up open",IF(AND($O24<>"",$O24<$E24),"Rescheduled date before appointment","OK")))))))
K25: =IF(OR($A25="",$E25="",$F25="",$I25="",$J25=""),"",ROUND((($E25+$F25)-($I25+$J25))*24,1)) | Q25: =IF(OR($A25="",$E25="",Dashboard!$B$4="",Dashboard!$B$5=""),0,IF(AND($E25>=Dashboard!$B$4,$E25<=Dashboard!$B$5,OR(Dashboard!$B$6="All Clinics",$C25=Dashboard!$B$6),OR(Dashboard!$B$7="All Teams",$D25=Dashboard!$B$7)),1,0)) | R25: =IF($A25="",0,IF(OR($H25="Completed",$H25="No Show"),1,0)) | S25: =IF($A25="",0,IF($H25="No Show",1,0)) | T25: =IF($A25="",0,IF($H25="Canceled Late",1,0)) | U25: =IF($A25="","",IF(COUNTIF($A$7:$A$506,$A25)>1,"Duplicate appointment ID",IF(OR($B25="",$C25="",$D25="",$E25="",$F25="",$G25="",$H25=""),"Missing required field",IF(AND($E25<Dashboard!$B$3,$H25="Scheduled"),"Past appointment still Scheduled",IF(AND(OR($H25="Canceled Late",$H25="Canceled Timely"),OR($I25="",$J25="")),"Cancellation timestamp missing",IF(AND($H25="No Show",OR($N25="",$N25="Pending")),"No-show follow-up open",IF(AND($O25<>"",$O25<$E25),"Rescheduled date before appointment","OK")))))))
K26: =IF(OR($A26="",$E26="",$F26="",$I26="",$J26=""),"",ROUND((($E26+$F26)-($I26+$J26))*24,1)) | Q26: =IF(OR($A26="",$E26="",Dashboard!$B$4="",Dashboard!$B$5=""),0,IF(AND($E26>=Dashboard!$B$4,$E26<=Dashboard!$B$5,OR(Dashboard!$B$6="All Clinics",$C26=Dashboard!$B$6),OR(Dashboard!$B$7="All Teams",$D26=Dashboard!$B$7)),1,0)) | R26: =IF($A26="",0,IF(OR($H26="Completed",$H26="No Show"),1,0)) | S26: =IF($A26="",0,IF($H26="No Show",1,0)) | T26: =IF($A26="",0,IF($H26="Canceled Late",1,0)) | U26: =IF($A26="","",IF(COUNTIF($A$7:$A$506,$A26)>1,"Duplicate appointment ID",IF(OR($B26="",$C26="",$D26="",$E26="",$F26="",$G26="",$H26=""),"Missing required field",IF(AND($E26<Dashboard!$B$3,$H26="Scheduled"),"Past appointment still Scheduled",IF(AND(OR($H26="Canceled Late",$H26="Canceled Timely"),OR($I26="",$J26="")),"Cancellation timestamp missing",IF(AND($H26="No Show",OR($N26="",$N26="Pending")),"No-show follow-up open",IF(AND($O26<>"",$O26<$E26),"Rescheduled date before appointment","OK")))))))
K27: =IF(OR($A27="",$E27="",$F27="",$I27="",$J27=""),"",ROUND((($E27+$F27)-($I27+$J27))*24,1)) | Q27: =IF(OR($A27="",$E27="",Dashboard!$B$4="",Dashboard!$B$5=""),0,IF(AND($E27>=Dashboard!$B$4,$E27<=Dashboard!$B$5,OR(Dashboard!$B$6="All Clinics",$C27=Dashboard!$B$6),OR(Dashboard!$B$7="All Teams",$D27=Dashboard!$B$7)),1,0)) | R27: =IF($A27="",0,IF(OR($H27="Completed",$H27="No Show"),1,0)) | S27: =IF($A27="",0,IF($H27="No Show",1,0)) | T27: =IF($A27="",0,IF($H27="Canceled Late",1,0)) | U27: =IF($A27="","",IF(COUNTIF($A$7:$A$506,$A27)>1,"Duplicate appointment ID",IF(OR($B27="",$C27="",$D27="",$E27="",$F27="",$G27="",$H27=""),"Missing required field",IF(AND($E27<Dashboard!$B$3,$H27="Scheduled"),"Past appointment still Scheduled",IF(AND(OR($H27="Canceled Late",$H27="Canceled Timely"),OR($I27="",$J27="")),"Cancellation timestamp missing",IF(AND($H27="No Show",OR($N27="",$N27="Pending")),"No-show follow-up open",IF(AND($O27<>"",$O27<$E27),"Rescheduled date before appointment","OK")))))))
K28: =IF(OR($A28="",$E28="",$F28="",$I28="",$J28=""),"",ROUND((($E28+$F28)-($I28+$J28))*24,1)) | Q28: =IF(OR($A28="",$E28="",Dashboard!$B$4="",Dashboard!$B$5=""),0,IF(AND($E28>=Dashboard!$B$4,$E28<=Dashboard!$B$5,OR(Dashboard!$B$6="All Clinics",$C28=Dashboard!$B$6),OR(Dashboard!$B$7="All Teams",$D28=Dashboard!$B$7)),1,0)) | R28: =IF($A28="",0,IF(OR($H28="Completed",$H28="No Show"),1,0)) | S28: =IF($A28="",0,IF($H28="No Show",1,0)) | T28: =IF($A28="",0,IF($H28="Canceled Late",1,0)) | U28: =IF($A28="","",IF(COUNTIF($A$7:$A$506,$A28)>1,"Duplicate appointment ID",IF(OR($B28="",$C28="",$D28="",$E28="",$F28="",$G28="",$H28=""),"Missing required field",IF(AND($E28<Dashboard!$B$3,$H28="Scheduled"),"Past appointment still Scheduled",IF(AND(OR($H28="Canceled Late",$H28="Canceled Timely"),OR($I28="",$J28="")),"Cancellation timestamp missing",IF(AND($H28="No Show",OR($N28="",$N28="Pending")),"No-show follow-up open",IF(AND($O28<>"",$O28<$E28),"Rescheduled date before appointment","OK")))))))
... K506: =IF(OR($A506="",$E506="",$F506="",$I506="",$J506=""),"",ROUND((($E506+$F506)-($I506+$J506))*24,1)) | Q506: =IF(OR($A506="",$E506="",Dashboard!$B$4="",Dashboard!$B$5=""),0,IF(AND($E506>=Dashboard!$B$4,$E506<=Dashboard!$B$5,OR(Dashboard!$B$6="All Clinics",$C506=Dashboard!$B$6),OR(Dashboard!$B$7="All Teams",$D506=Dashboard!$B$7)),1,0)) | R506: =IF($A506="",0,IF(OR($H506="Completed",$H506="No Show"),1,0)) | S506: =IF($A506="",0,IF($H506="No Show",1,0)) | T506: =IF($A506="",0,IF($H506="Canceled Late",1,0)) | U506: =IF($A506="","",IF(COUNTIF($A$7:$A$506,$A506)>1,"Duplicate appointment ID",IF(OR($B506="",$C506="",$D506="",$E506="",$F506="",$G506="",$H506=""),"Missing required field",IF(AND($E506<Dashboard!$B$3,$H506="Scheduled"),"Past appointment still Scheduled",IF(AND(OR($H506="Canceled Late",$H506="Canceled Timely"),OR($I506="",$J506="")),"Cancellation timestamp missing",IF(AND($H506="No Show",OR($N506="",$N506="Pending")),"No-show follow-up open",IF(AND($O506<>"",$O506<$E506),"Rescheduled date before appointment","OK")))))))

Sheet Lists
A1: Workbook Lists
A2: Clinics | B2: Provider/Teams | C2: Appointment Types | D2: Statuses | E2: Yes/No | F2: Follow-Up Outcomes | H2: Clinic Filters | I2: Team Filters
A3: Northstar Family Clinic | B3: Cedar Team | C3: New Patient Visit | D3: Scheduled | E3: Yes | F3: Pending | H3: All Clinics | I3: All Teams
A4: Harborview Medical Office | B4: Harbor Team | C4: Follow-Up Visit | D4: Completed | E4: No | F4: Reached | H4: Northstar Family Clinic | I4: Cedar Team
A5: Red Maple Health Center | B5: Maple Team | C5: Annual Visit | D5: No Show | F5: Left Message | H5: Harborview Medical Office | I5: Harbor Team
A6: Silver Pine Clinic | B6: Oak Team | C6: Telehealth Visit | D6: Canceled Late | F6: Rescheduled | H6: Red Maple Health Center | I6: Maple Team
A7: Westfield Community Clinic | B7: Pine Team | C7: Procedure Follow-Up | D7: Canceled Timely | F7: Unable to Reach | H7: Silver Pine Clinic | I7: Oak Team
B8: West Team | C8: Other Office Visit | F8: Not Needed | H8: Westfield Community Clinic | I8: Pine Team
I9: West Team
A11: These values support drop-down lists. Update them carefully and keep each list contiguous without blank rows.

Sheet Instructions
A1: Instructions
A3: Workbook Purpose
A4: This workbook tracks appointment outcomes, no-shows, late cancellations, reminders, and follow-up activity for operational review.
A6: Getting Started
A7: 1. Set the As of Date and reporting dates on the Dashboard. 2. Select optional clinic and provider/team filters. 3. Enter one appointment per row on the Appointments sheet. 4. Use the provided drop-down values. 5. Review the Dashboard KPIs, charts, and alert counts. 6. Filter the Appointments sheet by Review Check to resolve outstanding items.
A9: Data Entry Rules
A10: • Use a unique Appointment ID. • Use only a non-identifying Client Reference. • Do not enter patient names, contact details, diagnosis information, or clinical notes. • Complete all required scheduling fields. • Record both cancellation date and cancellation time for canceled appointments. • Record follow-up outcomes for no-shows. • Enter operational notes only when needed, using brief nonclinical wording.
A12: Status Definitions
A13: Scheduled: Appointment remains expected or has not yet been closed. Completed: Appointment occurred. No Show: Appointment was missed without being completed or recorded as canceled. Canceled Late: Appointment was canceled inside the clinic’s operational late-cancellation window. Canceled Timely: Appointment was canceled outside the clinic’s operational late-cancellation window. Status classifications are entered by the user according to the organization’s own operating policy. The workbook does not set or interpret clinic policy.
A15: Metric Definitions
A16: Appointments in Scope: Populated appointments meeting the reporting date, clinic, and team filters. Completed: In-scope appointments with status Completed. No Shows: In-scope appointments with status No Show. No-Show Rate = No Shows ÷ (Completed + No Shows) Canceled and still-scheduled appointments are excluded from this denominator. Late Cancellations: In-scope appointments with status Canceled Late. Open No-Show Follow-Ups: In-scope no-shows with a blank or Pending follow-up outcome. Past Appointments Still Scheduled: All populated appointments before the As of Date that remain Scheduled. This alert is not limited to the reporting period.
A18: Review Check Meanings
... A25: This workbook is an operational scheduling aid. It does not provide clinical, legal, billing, payer, or regulatory advice. Verify local workflows and policies before relying on its classifications or alerts.
