Workbook

Sheet Dashboard
A1: Appointment Waitlist Dashboard
A2: As of Date | B2: =TODAY()
A3: Counts are based on the current Waitlist records and update when the workbook recalculates.
A5: Open Requests | C5: Active Requests | E5: Overdue Follow-ups | G5: Windows Closing Soon
A6: =COUNTIF(Waitlist!$M$5:$M$204,"Active")+COUNTIF(Waitlist!$M$5:$M$204,"Contacting")+COUNTIF(Waitlist!$M$5:$M$204,"On Hold") | C6: =COUNTIF(Waitlist!$M$5:$M$204,"Active") | E6: =COUNTIF(Waitlist!$V$5:$V$204,"Overdue") | G6: =COUNTIF(Waitlist!$W$5:$W$204,"Closing soon")
A8: Expired Windows | C8: Average Open Days Waiting | E8: High-Priority Open Requests | G8: Scheduled in Last 30 Days
A9: =COUNTIF(Waitlist!$W$5:$W$204,"Expired") | C9: =IFERROR((SUMIF(Waitlist!$M$5:$M$204,"Active",Waitlist!$U$5:$U$204)+SUMIF(Waitlist!$M$5:$M$204,"Contacting",Waitlist!$U$5:$U$204)+SUMIF(Waitlist!$M$5:$M$204,"On Hold",Waitlist!$U$5:$U$204))/(COUNTIF(Waitlist!$M$5:$M$204,"Active")+COUNTIF(Waitlist!$M$5:$M$204,"Contacting")+COUNTIF(Waitlist!$M$5:$M$204,"On Hold")),0) | E9: =COUNTIFS(Waitlist!$L$5:$L$204,"High",Waitlist!$M$5:$M$204,"Active")+COUNTIFS(Waitlist!$L$5:$L$204,"High",Waitlist!$M$5:$M$204,"Contacting")+COUNTIFS(Waitlist!$L$5:$L$204,"High",Waitlist!$M$5:$M$204,"On Hold") | G9: =COUNTIFS(Waitlist!$M$5:$M$204,"Scheduled",Waitlist!$R$5:$R$204,">="&TODAY()-29,Waitlist!$R$5:$R$204,"<="&TODAY())
A11: Data Review Alert
A12: =IF(COUNTIF(Waitlist!$X$5:$X$204,"<>OK")-COUNTIF(Waitlist!$X$5:$X$204,"")>0,"Review records marked with a data issue on the Waitlist sheet.","No record-level data issues are currently identified.")
A13: =""
A14: =""
A15: Service | B15: Open Requests | D15: Days Waiting | E15: Open Requests
A16: Primary Care | B16: =COUNTIFS(Waitlist!$C$5:$C$204,$A16,Waitlist!$M$5:$M$204,"Active")+COUNTIFS(Waitlist!$C$5:$C$204,$A16,Waitlist!$M$5:$M$204,"Contacting")+COUNTIFS(Waitlist!$C$5:$C$204,$A16,Waitlist!$M$5:$M$204,"On Hold") | D16: 0–7 Days | E16: =COUNTIFS(Waitlist!$U$5:$U$204,">=0",Waitlist!$U$5:$U$204,"<=7")
A17: Dermatology | B17: =COUNTIFS(Waitlist!$C$5:$C$204,$A17,Waitlist!$M$5:$M$204,"Active")+COUNTIFS(Waitlist!$C$5:$C$204,$A17,Waitlist!$M$5:$M$204,"Contacting")+COUNTIFS(Waitlist!$C$5:$C$204,$A17,Waitlist!$M$5:$M$204,"On Hold") | D17: 8–14 Days | E17: =COUNTIFS(Waitlist!$U$5:$U$204,">=8",Waitlist!$U$5:$U$204,"<=14")
A18: Cardiology | B18: =COUNTIFS(Waitlist!$C$5:$C$204,$A18,Waitlist!$M$5:$M$204,"Active")+COUNTIFS(Waitlist!$C$5:$C$204,$A18,Waitlist!$M$5:$M$204,"Contacting")+COUNTIFS(Waitlist!$C$5:$C$204,$A18,Waitlist!$M$5:$M$204,"On Hold") | D18: 15–30 Days | E18: =COUNTIFS(Waitlist!$U$5:$U$204,">=15",Waitlist!$U$5:$U$204,"<=30")
A19: Orthopedics | B19: =COUNTIFS(Waitlist!$C$5:$C$204,$A19,Waitlist!$M$5:$M$204,"Active")+COUNTIFS(Waitlist!$C$5:$C$204,$A19,Waitlist!$M$5:$M$204,"Contacting")+COUNTIFS(Waitlist!$C$5:$C$204,$A19,Waitlist!$M$5:$M$204,"On Hold") | D19: 31–60 Days | E19: =COUNTIFS(Waitlist!$U$5:$U$204,">=31",Waitlist!$U$5:$U$204,"<=60")
A20: Physical Therapy | B20: =COUNTIFS(Waitlist!$C$5:$C$204,$A20,Waitlist!$M$5:$M$204,"Active")+COUNTIFS(Waitlist!$C$5:$C$204,$A20,Waitlist!$M$5:$M$204,"Contacting")+COUNTIFS(Waitlist!$C$5:$C$204,$A20,Waitlist!$M$5:$M$204,"On Hold") | D20: Over 60 Days | E20: =COUNTIF(Waitlist!$U$5:$U$204,">60")
A21: Imaging | B21: =COUNTIFS(Waitlist!$C$5:$C$204,$A21,Waitlist!$M$5:$M$204,"Active")+COUNTIFS(Waitlist!$C$5:$C$204,$A21,Waitlist!$M$5:$M$204,"Contacting")+COUNTIFS(Waitlist!$C$5:$C$204,$A21,Waitlist!$M$5:$M$204,"On Hold") | E21: =""
A22: Nutrition | B22: =COUNTIFS(Waitlist!$C$5:$C$204,$A22,Waitlist!$M$5:$M$204,"Active")+COUNTIFS(Waitlist!$C$5:$C$204,$A22,Waitlist!$M$5:$M$204,"Contacting")+COUNTIFS(Waitlist!$C$5:$C$204,$A22,Waitlist!$M$5:$M$204,"On Hold") | E22: =""
A23: Behavioral Health | B23: =COUNTIFS(Waitlist!$C$5:$C$204,$A23,Waitlist!$M$5:$M$204,"Active")+COUNTIFS(Waitlist!$C$5:$C$204,$A23,Waitlist!$M$5:$M$204,"Contacting")+COUNTIFS(Waitlist!$C$5:$C$204,$A23,Waitlist!$M$5:$M$204,"On Hold") | E23: =""
A24: ="" | B24: ="" | E24: =""
A25: ="" | B25: ="" | E25: =""
A26: ="" | B26: ="" | E26: =""
A27: ="" | B27: ="" | E27: =""
A28: ="" | B28: ="" | E28: =""
A29: ="" | B29: ="" | E29: =""
A30: ="" | B30: ="" | E30: =""
A31: ="" | B31: ="" | E31: =""
A32: ="" | B32: ="" | E32: =""
A33: ="" | B33: ="" | E33: =""
A34: ="" | B34: ="" | E34: =""
A35: ="" | B35: ="" | E35: =""
... A101: ="" | B101: ="" | E101: =""

Sheet Waitlist
A1: Appointment Waitlist
A2: Use one row per waitlist request. Do not enter patient names, contact details, medical record numbers, diagnoses, or clinical notes.
A3: Blue cells are editable. Formula columns are calculated automatically.
A4: Request ID | B4: Clinic | C4: Service | D4: Appointment Type | E4: Request Alias | F4: Preferred Contact Method | G4: Requested On | H4: Earliest Acceptable Date | I4: Latest Acceptable Date | J4: Time Preference | K4: Minimum Notice Days | L4: Operational Priority | M4: Status | N4: Last Contact Date | O4: Contact Attempts | P4: Next Follow-up Date | Q4: Hold Through Date | R4: Scheduled Date | S4: Outcome Reason | T4: Operations Note | U4: Days Waiting | V4: Follow-up Flag | W4: Date Window Flag | X4: Data Check
A5: AW-2026-001 | B5: Pine Harbor Clinic | C5: Primary Care | D5: New Visit | E5: Waitlist Guest 001 | F5: Phone | G5: 46252 | H5: 46272 | I5: 46295 | J5: Morning | K5: 1 | L5: Standard | M5: Active | N5: 46267 | O5: 1 | P5: 46273 | T5: Prefers a morning opening. | U5: =IF($A5="","",IF(OR($M5="Active",$M5="Contacting",$M5="On Hold"),MAX(0,TODAY()-$G5),"")) | V5: =IF($A5="","",IF(OR($M5="Scheduled",$M5="Removed"),"Closed",IF($M5="On Hold",IF($Q5="","Hold date missing",IF($Q5<TODAY(),"Hold expired","On hold")),IF($P5="","Follow-up date missing",IF($P5<TODAY(),"Overdue",IF($P5<=TODAY()+'Lists & Setup'!$B$3,"Due soon","Planned")))))) | W5: =IF($A5="","",IF(OR($M5="Scheduled",$M5="Removed"),"Closed",IF($I5="","Date missing",IF($I5<TODAY(),"Expired",IF($I5<=TODAY()+'Lists & Setup'!$B$4,"Closing soon","Open"))))) | X5: =IF($A5="","",IF(COUNTIF($A$5:$A$204,$A5)>1,"Duplicate Request ID",IF(OR($B5="",$C5="",$D5="",$E5="",$G5="",$H5="",$I5="",$L5="",$M5=""),"Missing required field",IF($I5<$H5,"Latest date precedes earliest date",IF(AND(OR($M5="Active",$M5="Contacting"),$P5=""),"Next follow-up date missing",IF(AND($M5="On Hold",$Q5=""),"Hold-through date missing",IF(AND($M5="Scheduled",$R5=""),"Scheduled date missing",IF(AND(OR($M5="Scheduled",$M5="Removed"),$S5=""),"Outcome reason missing",IF(AND($R5<>"",OR($R5<$H5,$R5>$I5)),"Scheduled date outside requested window","OK")))))))))
A6: AW-2026-002 | B6: Lakeview Medical Office | C6: Dermatology | D6: New Visit | E6: Waitlist Guest 002 | F6: Portal | G6: 46245 | H6: 46275 | I6: 46280 | J6: Any Time | K6: 2 | L6: High | M6: Contacting | N6: 46269 | O6: 2 | P6: 46270 | T6: Second outreach is pending. | U6: =IF($A6="","",IF(OR($M6="Active",$M6="Contacting",$M6="On Hold"),MAX(0,TODAY()-$G6),"")) | V6: =IF($A6="","",IF(OR($M6="Scheduled",$M6="Removed"),"Closed",IF($M6="On Hold",IF($Q6="","Hold date missing",IF($Q6<TODAY(),"Hold expired","On hold")),IF($P6="","Follow-up date missing",IF($P6<TODAY(),"Overdue",IF($P6<=TODAY()+'Lists & Setup'!$B$3,"Due soon","Planned")))))) | W6: =IF($A6="","",IF(OR($M6="Scheduled",$M6="Removed"),"Closed",IF($I6="","Date missing",IF($I6<TODAY(),"Expired",IF($I6<=TODAY()+'Lists & Setup'!$B$4,"Closing soon","Open"))))) | X6: =IF($A6="","",IF(COUNTIF($A$5:$A$204,$A6)>1,"Duplicate Request ID",IF(OR($B6="",$C6="",$D6="",$E6="",$G6="",$H6="",$I6="",$L6="",$M6=""),"Missing required field",IF($I6<$H6,"Latest date precedes earliest date",IF(AND(OR($M6="Active",$M6="Contacting"),$P6=""),"Next follow-up date missing",IF(AND($M6="On Hold",$Q6=""),"Hold-through date missing",IF(AND($M6="Scheduled",$R6=""),"Scheduled date missing",IF(AND(OR($M6="Scheduled",$M6="Removed"),$S6=""),"Outcome reason missing",IF(AND($R6<>"",OR($R6<$H6,$R6>$I6)),"Scheduled date outside requested window","OK")))))))))
A7: AW-2026-003 | B7: Cedar Grove Clinic | C7: Physical Therapy | D7: Follow-up | E7: Waitlist Guest 003 | F7: Phone | G7: 46263 | H7: 46273 | I7: 46311 | J7: Afternoon | K7: 0 | L7: Standard | M7: Active | N7: 46268 | O7: 1 | P7: 46275 | T7: Can accept short notice. | U7: =IF($A7="","",IF(OR($M7="Active",$M7="Contacting",$M7="On Hold"),MAX(0,TODAY()-$G7),"")) | V7: =IF($A7="","",IF(OR($M7="Scheduled",$M7="Removed"),"Closed",IF($M7="On Hold",IF($Q7="","Hold date missing",IF($Q7<TODAY(),"Hold expired","On hold")),IF($P7="","Follow-up date missing",IF($P7<TODAY(),"Overdue",IF($P7<=TODAY()+'Lists & Setup'!$B$3,"Due soon","Planned")))))) | W7: =IF($A7="","",IF(OR($M7="Scheduled",$M7="Removed"),"Closed",IF($I7="","Date missing",IF($I7<TODAY(),"Expired",IF($I7<=TODAY()+'Lists & Setup'!$B$4,"Closing soon","Open"))))) | X7: =IF($A7="","",IF(COUNTIF($A$5:$A$204,$A7)>1,"Duplicate Request ID",IF(OR($B7="",$C7="",$D7="",$E7="",$G7="",$H7="",$I7="",$L7="",$M7=""),"Missing required field",IF($I7<$H7,"Latest date precedes earliest date",IF(AND(OR($M7="Active",$M7="Contacting"),$P7=""),"Next follow-up date missing",IF(AND($M7="On Hold",$Q7=""),"Hold-through date missing",IF(AND($M7="Scheduled",$R7=""),"Scheduled date missing",IF(AND(OR($M7="Scheduled",$M7="Removed"),$S7=""),"Outcome reason missing",IF(AND($R7<>"",OR($R7<$H7,$R7>$I7)),"Scheduled date outside requested window","OK")))))))))
A8: AW-2026-004 | B8: Northstar Health Center | C8: Cardiology | D8: Follow-up | E8: Waitlist Guest 004 | F8: Portal | G8: 46225 | H8: 46266 | I8: 46277 | J8: Morning | K8: 3 | L8: High | M8: On Hold | N8: 46265 | O8: 2 | Q8: 46274 | T8: Hold through the listed date. | U8: =IF($A8="","",IF(OR($M8="Active",$M8="Contacting",$M8="On Hold"),MAX(0,TODAY()-$G8),"")) | V8: =IF($A8="","",IF(OR($M8="Scheduled",$M8="Removed"),"Closed",IF($M8="On Hold",IF($Q8="","Hold date missing",IF($Q8<TODAY(),"Hold expired","On hold")),IF($P8="","Follow-up date missing",IF($P8<TODAY(),"Overdue",IF($P8<=TODAY()+'Lists & Setup'!$B$3,"Due soon","Planned")))))) | W8: =IF($A8="","",IF(OR($M8="Scheduled",$M8="Removed"),"Closed",IF($I8="","Date missing",IF($I8<TODAY(),"Expired",IF($I8<=TODAY()+'Lists & Setup'!$B$4,"Closing soon","Open"))))) | X8: =IF($A8="","",IF(COUNTIF($A$5:$A$204,$A8)>1,"Duplicate Request ID",IF(OR($B8="",$C8="",$D8="",$E8="",$G8="",$H8="",$I8="",$L8="",$M8=""),"Missing required field",IF($I8<$H8,"Latest date precedes earliest date",IF(AND(OR($M8="Active",$M8="Contacting"),$P8=""),"Next follow-up date missing",IF(AND($M8="On Hold",$Q8=""),"Hold-through date missing",IF(AND($M8="Scheduled",$R8=""),"Scheduled date missing",IF(AND(OR($M8="Scheduled",$M8="Removed"),$S8=""),"Outcome reason missing",IF(AND($R8<>"",OR($R8<$H8,$R8>$I8)),"Scheduled date outside requested window","OK")))))))))
A9: AW-2026-005 | B9: Pine Harbor Clinic | C9: Imaging | D9: Procedure | E9: Waitlist Guest 005 | F9: Phone | G9: 46260 | H9: 46271 | I9: 46285 | J9: Afternoon | K9: 1 | L9: Standard | M9: Scheduled | N9: 46266 | O9: 1 | R9: 46279 | S9: Appointment accepted | T9: Scheduled from a cancellation opening. | U9: =IF($A9="","",IF(OR($M9="Active",$M9="Contacting",$M9="On Hold"),MAX(0,TODAY()-$G9),"")) | V9: =IF($A9="","",IF(OR($M9="Scheduled",$M9="Removed"),"Closed",IF($M9="On Hold",IF($Q9="","Hold date missing",IF($Q9<TODAY(),"Hold expired","On hold")),IF($P9="","Follow-up date missing",IF($P9<TODAY(),"Overdue",IF($P9<=TODAY()+'Lists & Setup'!$B$3,"Due soon","Planned")))))) | W9: =IF($A9="","",IF(OR($M9="Scheduled",$M9="Removed"),"Closed",IF($I9="","Date missing",IF($I9<TODAY(),"Expired",IF($I9<=TODAY()+'Lists & Setup'!$B$4,"Closing soon","Open"))))) | X9: =IF($A9="","",IF(COUNTIF($A$5:$A$204,$A9)>1,"Duplicate Request ID",IF(OR($B9="",$C9="",$D9="",$E9="",$G9="",$H9="",$I9="",$L9="",$M9=""),"Missing required field",IF($I9<$H9,"Latest date precedes earliest date",IF(AND(OR($M9="Active",$M9="Contacting"),$P9=""),"Next follow-up date missing",IF(AND($M9="On Hold",$Q9=""),"Hold-through date missing",IF(AND($M9="Scheduled",$R9=""),"Scheduled date missing",IF(AND(OR($M9="Scheduled",$M9="Removed"),$S9=""),"Outcome reason missing",IF(AND($R9<>"",OR($R9<$H9,$R9>$I9)),"Scheduled date outside requested window","OK")))))))))
A10: AW-2026-006 | B10: Lakeview Medical Office | C10: Orthopedics | D10: New Visit | E10: Waitlist Guest 006 | F10: Mail | G10: 46239 | H10: 46254 | I10: 46269 | J10: Any Time | K10: 5 | L10: Low | M10: Removed | N10: 46262 | O10: 2 | S10: Date range passed | T10: Request closed after the date window ended. | U10: =IF($A10="","",IF(OR($M10="Active",$M10="Contacting",$M10="On Hold"),MAX(0,TODAY()-$G10),"")) | V10: =IF($A10="","",IF(OR($M10="Scheduled",$M10="Removed"),"Closed",IF($M10="On Hold",IF($Q10="","Hold date missing",IF($Q10<TODAY(),"Hold expired","On hold")),IF($P10="","Follow-up date missing",IF($P10<TODAY(),"Overdue",IF($P10<=TODAY()+'Lists & Setup'!$B$3,"Due soon","Planned")))))) | W10: =IF($A10="","",IF(OR($M10="Scheduled",$M10="Removed"),"Closed",IF($I10="","Date missing",IF($I10<TODAY(),"Expired",IF($I10<=TODAY()+'Lists & Setup'!$B$4,"Closing soon","Open"))))) | X10: =IF($A10="","",IF(COUNTIF($A$5:$A$204,$A10)>1,"Duplicate Request ID",IF(OR($B10="",$C10="",$D10="",$E10="",$G10="",$H10="",$I10="",$L10="",$M10=""),"Missing required field",IF($I10<$H10,"Latest date precedes earliest date",IF(AND(OR($M10="Active",$M10="Contacting"),$P10=""),"Next follow-up date missing",IF(AND($M10="On Hold",$Q10=""),"Hold-through date missing",IF(AND($M10="Scheduled",$R10=""),"Scheduled date missing",IF(AND(OR($M10="Scheduled",$M10="Removed"),$S10=""),"Outcome reason missing",IF(AND($R10<>"",OR($R10<$H10,$R10>$I10)),"Scheduled date outside requested window","OK")))))))))
A11: AW-2026-007 | B11: Cedar Grove Clinic | C11: Nutrition | D11: Consultation | E11: Waitlist Guest 007 | F11: Portal | G11: 46266 | H11: 46280 | I11: 46356 | J11: Late Afternoon | K11: 2 | L11: Standard | M11: Active | N11: 46267 | O11: 1 | P11: 46277 | T11: Later appointments are preferred. | U11: =IF($A11="","",IF(OR($M11="Active",$M11="Contacting",$M11="On Hold"),MAX(0,TODAY()-$G11),"")) | V11: =IF($A11="","",IF(OR($M11="Scheduled",$M11="Removed"),"Closed",IF($M11="On Hold",IF($Q11="","Hold date missing",IF($Q11<TODAY(),"Hold expired","On hold")),IF($P11="","Follow-up date missing",IF($P11<TODAY(),"Overdue",IF($P11<=TODAY()+'Lists & Setup'!$B$3,"Due soon","Planned")))))) | W11: =IF($A11="","",IF(OR($M11="Scheduled",$M11="Removed"),"Closed",IF($I11="","Date missing",IF($I11<TODAY(),"Expired",IF($I11<=TODAY()+'Lists & Setup'!$B$4,"Closing soon","Open"))))) | X11: =IF($A11="","",IF(COUNTIF($A$5:$A$204,$A11)>1,"Duplicate Request ID",IF(OR($B11="",$C11="",$D11="",$E11="",$G11="",$H11="",$I11="",$L11="",$M11=""),"Missing required field",IF($I11<$H11,"Latest date precedes earliest date",IF(AND(OR($M11="Active",$M11="Contacting"),$P11=""),"Next follow-up date missing",IF(AND($M11="On Hold",$Q11=""),"Hold-through date missing",IF(AND($M11="Scheduled",$R11=""),"Scheduled date missing",IF(AND(OR($M11="Scheduled",$M11="Removed"),$S11=""),"Outcome reason missing",IF(AND($R11<>"",OR($R11<$H11,$R11>$I11)),"Scheduled date outside requested window","OK")))))))))
A12: AW-2026-008 | B12: Northstar Health Center | C12: Behavioral Health | D12: New Visit | E12: Waitlist Guest 008 | F12: Phone | G12: 46248 | H12: 46272 | I12: 46283 | J12: Morning | K12: 1 | L12: High | M12: Active | N12: 46266 | O12: 1 | P12: 46271 | T12: Follow-up is due today. | U12: =IF($A12="","",IF(OR($M12="Active",$M12="Contacting",$M12="On Hold"),MAX(0,TODAY()-$G12),"")) | V12: =IF($A12="","",IF(OR($M12="Scheduled",$M12="Removed"),"Closed",IF($M12="On Hold",IF($Q12="","Hold date missing",IF($Q12<TODAY(),"Hold expired","On hold")),IF($P12="","Follow-up date missing",IF($P12<TODAY(),"Overdue",IF($P12<=TODAY()+'Lists & Setup'!$B$3,"Due soon","Planned")))))) | W12: =IF($A12="","",IF(OR($M12="Scheduled",$M12="Removed"),"Closed",IF($I12="","Date missing",IF($I12<TODAY(),"Expired",IF($I12<=TODAY()+'Lists & Setup'!$B$4,"Closing soon","Open"))))) | X12: =IF($A12="","",IF(COUNTIF($A$5:$A$204,$A12)>1,"Duplicate Request ID",IF(OR($B12="",$C12="",$D12="",$E12="",$G12="",$H12="",$I12="",$L12="",$M12=""),"Missing required field",IF($I12<$H12,"Latest date precedes earliest date",IF(AND(OR($M12="Active",$M12="Contacting"),$P12=""),"Next follow-up date missing",IF(AND($M12="On Hold",$Q12=""),"Hold-through date missing",IF(AND($M12="Scheduled",$R12=""),"Scheduled date missing",IF(AND(OR($M12="Scheduled",$M12="Removed"),$S12=""),"Outcome reason missing",IF(AND($R12<>"",OR($R12<$H12,$R12>$I12)),"Scheduled date outside requested window","OK")))))))))
A13: AW-2026-009 | B13: Pine Harbor Clinic | C13: Dermatology | D13: Follow-up | E13: Waitlist Guest 009 | F13: Portal | G13: 46264 | H13: 46286 | I13: 46325 | J13: Any Time | K13: 3 | L13: Low | M13: Active | N13: 46268 | O13: 1 | P13: 46280 | T13: Flexible within the date window. | U13: =IF($A13="","",IF(OR($M13="Active",$M13="Contacting",$M13="On Hold"),MAX(0,TODAY()-$G13),"")) | V13: =IF($A13="","",IF(OR($M13="Scheduled",$M13="Removed"),"Closed",IF($M13="On Hold",IF($Q13="","Hold date missing",IF($Q13<TODAY(),"Hold expired","On hold")),IF($P13="","Follow-up date missing",IF($P13<TODAY(),"Overdue",IF($P13<=TODAY()+'Lists & Setup'!$B$3,"Due soon","Planned")))))) | W13: =IF($A13="","",IF(OR($M13="Scheduled",$M13="Removed"),"Closed",IF($I13="","Date missing",IF($I13<TODAY(),"Expired",IF($I13<=TODAY()+'Lists & Setup'!$B$4,"Closing soon","Open"))))) | X13: =IF($A13="","",IF(COUNTIF($A$5:$A$204,$A13)>1,"Duplicate Request ID",IF(OR($B13="",$C13="",$D13="",$E13="",$G13="",$H13="",$I13="",$L13="",$M13=""),"Missing required field",IF($I13<$H13,"Latest date precedes earliest date",IF(AND(OR($M13="Active",$M13="Contacting"),$P13=""),"Next follow-up date missing",IF(AND($M13="On Hold",$Q13=""),"Hold-through date missing",IF(AND($M13="Scheduled",$R13=""),"Scheduled date missing",IF(AND(OR($M13="Scheduled",$M13="Removed"),$S13=""),"Outcome reason missing",IF(AND($R13<>"",OR($R13<$H13,$R13>$I13)),"Scheduled date outside requested window","OK")))))))))
A14: AW-2026-010 | B14: Lakeview Medical Office | C14: Primary Care | D14: Annual Visit | E14: Waitlist Guest 010 | F14: Phone | G14: 46254 | H14: 46273 | I14: 46290 | J14: Early Morning | K14: 2 | L14: Standard | M14: Contacting | N14: 46270 | O14: 3 | P14: 46272 | T14: Awaiting response to the latest outreach. | U14: =IF($A14="","",IF(OR($M14="Active",$M14="Contacting",$M14="On Hold"),MAX(0,TODAY()-$G14),"")) | V14: =IF($A14="","",IF(OR($M14="Scheduled",$M14="Removed"),"Closed",IF($M14="On Hold",IF($Q14="","Hold date missing",IF($Q14<TODAY(),"Hold expired","On hold")),IF($P14="","Follow-up date missing",IF($P14<TODAY(),"Overdue",IF($P14<=TODAY()+'Lists & Setup'!$B$3,"Due soon","Planned")))))) | W14: =IF($A14="","",IF(OR($M14="Scheduled",$M14="Removed"),"Closed",IF($I14="","Date missing",IF($I14<TODAY(),"Expired",IF($I14<=TODAY()+'Lists & Setup'!$B$4,"Closing soon","Open"))))) | X14: =IF($A14="","",IF(COUNTIF($A$5:$A$204,$A14)>1,"Duplicate Request ID",IF(OR($B14="",$C14="",$D14="",$E14="",$G14="",$H14="",$I14="",$L14="",$M14=""),"Missing required field",IF($I14<$H14,"Latest date precedes earliest date",IF(AND(OR($M14="Active",$M14="Contacting"),$P14=""),"Next follow-up date missing",IF(AND($M14="On Hold",$Q14=""),"Hold-through date missing",IF(AND($M14="Scheduled",$R14=""),"Scheduled date missing",IF(AND(OR($M14="Scheduled",$M14="Removed"),$S14=""),"Outcome reason missing",IF(AND($R14<>"",OR($R14<$H14,$R14>$I14)),"Scheduled date outside requested window","OK")))))))))
U15: =IF($A15="","",IF(OR($M15="Active",$M15="Contacting",$M15="On Hold"),MAX(0,TODAY()-$G15),"")) | V15: =IF($A15="","",IF(OR($M15="Scheduled",$M15="Removed"),"Closed",IF($M15="On Hold",IF($Q15="","Hold date missing",IF($Q15<TODAY(),"Hold expired","On hold")),IF($P15="","Follow-up date missing",IF($P15<TODAY(),"Overdue",IF($P15<=TODAY()+'Lists & Setup'!$B$3,"Due soon","Planned")))))) | W15: =IF($A15="","",IF(OR($M15="Scheduled",$M15="Removed"),"Closed",IF($I15="","Date missing",IF($I15<TODAY(),"Expired",IF($I15<=TODAY()+'Lists & Setup'!$B$4,"Closing soon","Open"))))) | X15: =IF($A15="","",IF(COUNTIF($A$5:$A$204,$A15)>1,"Duplicate Request ID",IF(OR($B15="",$C15="",$D15="",$E15="",$G15="",$H15="",$I15="",$L15="",$M15=""),"Missing required field",IF($I15<$H15,"Latest date precedes earliest date",IF(AND(OR($M15="Active",$M15="Contacting"),$P15=""),"Next follow-up date missing",IF(AND($M15="On Hold",$Q15=""),"Hold-through date missing",IF(AND($M15="Scheduled",$R15=""),"Scheduled date missing",IF(AND(OR($M15="Scheduled",$M15="Removed"),$S15=""),"Outcome reason missing",IF(AND($R15<>"",OR($R15<$H15,$R15>$I15)),"Scheduled date outside requested window","OK")))))))))
U16: =IF($A16="","",IF(OR($M16="Active",$M16="Contacting",$M16="On Hold"),MAX(0,TODAY()-$G16),"")) | V16: =IF($A16="","",IF(OR($M16="Scheduled",$M16="Removed"),"Closed",IF($M16="On Hold",IF($Q16="","Hold date missing",IF($Q16<TODAY(),"Hold expired","On hold")),IF($P16="","Follow-up date missing",IF($P16<TODAY(),"Overdue",IF($P16<=TODAY()+'Lists & Setup'!$B$3,"Due soon","Planned")))))) | W16: =IF($A16="","",IF(OR($M16="Scheduled",$M16="Removed"),"Closed",IF($I16="","Date missing",IF($I16<TODAY(),"Expired",IF($I16<=TODAY()+'Lists & Setup'!$B$4,"Closing soon","Open"))))) | X16: =IF($A16="","",IF(COUNTIF($A$5:$A$204,$A16)>1,"Duplicate Request ID",IF(OR($B16="",$C16="",$D16="",$E16="",$G16="",$H16="",$I16="",$L16="",$M16=""),"Missing required field",IF($I16<$H16,"Latest date precedes earliest date",IF(AND(OR($M16="Active",$M16="Contacting"),$P16=""),"Next follow-up date missing",IF(AND($M16="On Hold",$Q16=""),"Hold-through date missing",IF(AND($M16="Scheduled",$R16=""),"Scheduled date missing",IF(AND(OR($M16="Scheduled",$M16="Removed"),$S16=""),"Outcome reason missing",IF(AND($R16<>"",OR($R16<$H16,$R16>$I16)),"Scheduled date outside requested window","OK")))))))))
U17: =IF($A17="","",IF(OR($M17="Active",$M17="Contacting",$M17="On Hold"),MAX(0,TODAY()-$G17),"")) | V17: =IF($A17="","",IF(OR($M17="Scheduled",$M17="Removed"),"Closed",IF($M17="On Hold",IF($Q17="","Hold date missing",IF($Q17<TODAY(),"Hold expired","On hold")),IF($P17="","Follow-up date missing",IF($P17<TODAY(),"Overdue",IF($P17<=TODAY()+'Lists & Setup'!$B$3,"Due soon","Planned")))))) | W17: =IF($A17="","",IF(OR($M17="Scheduled",$M17="Removed"),"Closed",IF($I17="","Date missing",IF($I17<TODAY(),"Expired",IF($I17<=TODAY()+'Lists & Setup'!$B$4,"Closing soon","Open"))))) | X17: =IF($A17="","",IF(COUNTIF($A$5:$A$204,$A17)>1,"Duplicate Request ID",IF(OR($B17="",$C17="",$D17="",$E17="",$G17="",$H17="",$I17="",$L17="",$M17=""),"Missing required field",IF($I17<$H17,"Latest date precedes earliest date",IF(AND(OR($M17="Active",$M17="Contacting"),$P17=""),"Next follow-up date missing",IF(AND($M17="On Hold",$Q17=""),"Hold-through date missing",IF(AND($M17="Scheduled",$R17=""),"Scheduled date missing",IF(AND(OR($M17="Scheduled",$M17="Removed"),$S17=""),"Outcome reason missing",IF(AND($R17<>"",OR($R17<$H17,$R17>$I17)),"Scheduled date outside requested window","OK")))))))))
U18: =IF($A18="","",IF(OR($M18="Active",$M18="Contacting",$M18="On Hold"),MAX(0,TODAY()-$G18),"")) | V18: =IF($A18="","",IF(OR($M18="Scheduled",$M18="Removed"),"Closed",IF($M18="On Hold",IF($Q18="","Hold date missing",IF($Q18<TODAY(),"Hold expired","On hold")),IF($P18="","Follow-up date missing",IF($P18<TODAY(),"Overdue",IF($P18<=TODAY()+'Lists & Setup'!$B$3,"Due soon","Planned")))))) | W18: =IF($A18="","",IF(OR($M18="Scheduled",$M18="Removed"),"Closed",IF($I18="","Date missing",IF($I18<TODAY(),"Expired",IF($I18<=TODAY()+'Lists & Setup'!$B$4,"Closing soon","Open"))))) | X18: =IF($A18="","",IF(COUNTIF($A$5:$A$204,$A18)>1,"Duplicate Request ID",IF(OR($B18="",$C18="",$D18="",$E18="",$G18="",$H18="",$I18="",$L18="",$M18=""),"Missing required field",IF($I18<$H18,"Latest date precedes earliest date",IF(AND(OR($M18="Active",$M18="Contacting"),$P18=""),"Next follow-up date missing",IF(AND($M18="On Hold",$Q18=""),"Hold-through date missing",IF(AND($M18="Scheduled",$R18=""),"Scheduled date missing",IF(AND(OR($M18="Scheduled",$M18="Removed"),$S18=""),"Outcome reason missing",IF(AND($R18<>"",OR($R18<$H18,$R18>$I18)),"Scheduled date outside requested window","OK")))))))))
U19: =IF($A19="","",IF(OR($M19="Active",$M19="Contacting",$M19="On Hold"),MAX(0,TODAY()-$G19),"")) | V19: =IF($A19="","",IF(OR($M19="Scheduled",$M19="Removed"),"Closed",IF($M19="On Hold",IF($Q19="","Hold date missing",IF($Q19<TODAY(),"Hold expired","On hold")),IF($P19="","Follow-up date missing",IF($P19<TODAY(),"Overdue",IF($P19<=TODAY()+'Lists & Setup'!$B$3,"Due soon","Planned")))))) | W19: =IF($A19="","",IF(OR($M19="Scheduled",$M19="Removed"),"Closed",IF($I19="","Date missing",IF($I19<TODAY(),"Expired",IF($I19<=TODAY()+'Lists & Setup'!$B$4,"Closing soon","Open"))))) | X19: =IF($A19="","",IF(COUNTIF($A$5:$A$204,$A19)>1,"Duplicate Request ID",IF(OR($B19="",$C19="",$D19="",$E19="",$G19="",$H19="",$I19="",$L19="",$M19=""),"Missing required field",IF($I19<$H19,"Latest date precedes earliest date",IF(AND(OR($M19="Active",$M19="Contacting"),$P19=""),"Next follow-up date missing",IF(AND($M19="On Hold",$Q19=""),"Hold-through date missing",IF(AND($M19="Scheduled",$R19=""),"Scheduled date missing",IF(AND(OR($M19="Scheduled",$M19="Removed"),$S19=""),"Outcome reason missing",IF(AND($R19<>"",OR($R19<$H19,$R19>$I19)),"Scheduled date outside requested window","OK")))))))))
U20: =IF($A20="","",IF(OR($M20="Active",$M20="Contacting",$M20="On Hold"),MAX(0,TODAY()-$G20),"")) | V20: =IF($A20="","",IF(OR($M20="Scheduled",$M20="Removed"),"Closed",IF($M20="On Hold",IF($Q20="","Hold date missing",IF($Q20<TODAY(),"Hold expired","On hold")),IF($P20="","Follow-up date missing",IF($P20<TODAY(),"Overdue",IF($P20<=TODAY()+'Lists & Setup'!$B$3,"Due soon","Planned")))))) | W20: =IF($A20="","",IF(OR($M20="Scheduled",$M20="Removed"),"Closed",IF($I20="","Date missing",IF($I20<TODAY(),"Expired",IF($I20<=TODAY()+'Lists & Setup'!$B$4,"Closing soon","Open"))))) | X20: =IF($A20="","",IF(COUNTIF($A$5:$A$204,$A20)>1,"Duplicate Request ID",IF(OR($B20="",$C20="",$D20="",$E20="",$G20="",$H20="",$I20="",$L20="",$M20=""),"Missing required field",IF($I20<$H20,"Latest date precedes earliest date",IF(AND(OR($M20="Active",$M20="Contacting"),$P20=""),"Next follow-up date missing",IF(AND($M20="On Hold",$Q20=""),"Hold-through date missing",IF(AND($M20="Scheduled",$R20=""),"Scheduled date missing",IF(AND(OR($M20="Scheduled",$M20="Removed"),$S20=""),"Outcome reason missing",IF(AND($R20<>"",OR($R20<$H20,$R20>$I20)),"Scheduled date outside requested window","OK")))))))))
U21: =IF($A21="","",IF(OR($M21="Active",$M21="Contacting",$M21="On Hold"),MAX(0,TODAY()-$G21),"")) | V21: =IF($A21="","",IF(OR($M21="Scheduled",$M21="Removed"),"Closed",IF($M21="On Hold",IF($Q21="","Hold date missing",IF($Q21<TODAY(),"Hold expired","On hold")),IF($P21="","Follow-up date missing",IF($P21<TODAY(),"Overdue",IF($P21<=TODAY()+'Lists & Setup'!$B$3,"Due soon","Planned")))))) | W21: =IF($A21="","",IF(OR($M21="Scheduled",$M21="Removed"),"Closed",IF($I21="","Date missing",IF($I21<TODAY(),"Expired",IF($I21<=TODAY()+'Lists & Setup'!$B$4,"Closing soon","Open"))))) | X21: =IF($A21="","",IF(COUNTIF($A$5:$A$204,$A21)>1,"Duplicate Request ID",IF(OR($B21="",$C21="",$D21="",$E21="",$G21="",$H21="",$I21="",$L21="",$M21=""),"Missing required field",IF($I21<$H21,"Latest date precedes earliest date",IF(AND(OR($M21="Active",$M21="Contacting"),$P21=""),"Next follow-up date missing",IF(AND($M21="On Hold",$Q21=""),"Hold-through date missing",IF(AND($M21="Scheduled",$R21=""),"Scheduled date missing",IF(AND(OR($M21="Scheduled",$M21="Removed"),$S21=""),"Outcome reason missing",IF(AND($R21<>"",OR($R21<$H21,$R21>$I21)),"Scheduled date outside requested window","OK")))))))))
U22: =IF($A22="","",IF(OR($M22="Active",$M22="Contacting",$M22="On Hold"),MAX(0,TODAY()-$G22),"")) | V22: =IF($A22="","",IF(OR($M22="Scheduled",$M22="Removed"),"Closed",IF($M22="On Hold",IF($Q22="","Hold date missing",IF($Q22<TODAY(),"Hold expired","On hold")),IF($P22="","Follow-up date missing",IF($P22<TODAY(),"Overdue",IF($P22<=TODAY()+'Lists & Setup'!$B$3,"Due soon","Planned")))))) | W22: =IF($A22="","",IF(OR($M22="Scheduled",$M22="Removed"),"Closed",IF($I22="","Date missing",IF($I22<TODAY(),"Expired",IF($I22<=TODAY()+'Lists & Setup'!$B$4,"Closing soon","Open"))))) | X22: =IF($A22="","",IF(COUNTIF($A$5:$A$204,$A22)>1,"Duplicate Request ID",IF(OR($B22="",$C22="",$D22="",$E22="",$G22="",$H22="",$I22="",$L22="",$M22=""),"Missing required field",IF($I22<$H22,"Latest date precedes earliest date",IF(AND(OR($M22="Active",$M22="Contacting"),$P22=""),"Next follow-up date missing",IF(AND($M22="On Hold",$Q22=""),"Hold-through date missing",IF(AND($M22="Scheduled",$R22=""),"Scheduled date missing",IF(AND(OR($M22="Scheduled",$M22="Removed"),$S22=""),"Outcome reason missing",IF(AND($R22<>"",OR($R22<$H22,$R22>$I22)),"Scheduled date outside requested window","OK")))))))))
U23: =IF($A23="","",IF(OR($M23="Active",$M23="Contacting",$M23="On Hold"),MAX(0,TODAY()-$G23),"")) | V23: =IF($A23="","",IF(OR($M23="Scheduled",$M23="Removed"),"Closed",IF($M23="On Hold",IF($Q23="","Hold date missing",IF($Q23<TODAY(),"Hold expired","On hold")),IF($P23="","Follow-up date missing",IF($P23<TODAY(),"Overdue",IF($P23<=TODAY()+'Lists & Setup'!$B$3,"Due soon","Planned")))))) | W23: =IF($A23="","",IF(OR($M23="Scheduled",$M23="Removed"),"Closed",IF($I23="","Date missing",IF($I23<TODAY(),"Expired",IF($I23<=TODAY()+'Lists & Setup'!$B$4,"Closing soon","Open"))))) | X23: =IF($A23="","",IF(COUNTIF($A$5:$A$204,$A23)>1,"Duplicate Request ID",IF(OR($B23="",$C23="",$D23="",$E23="",$G23="",$H23="",$I23="",$L23="",$M23=""),"Missing required field",IF($I23<$H23,"Latest date precedes earliest date",IF(AND(OR($M23="Active",$M23="Contacting"),$P23=""),"Next follow-up date missing",IF(AND($M23="On Hold",$Q23=""),"Hold-through date missing",IF(AND($M23="Scheduled",$R23=""),"Scheduled date missing",IF(AND(OR($M23="Scheduled",$M23="Removed"),$S23=""),"Outcome reason missing",IF(AND($R23<>"",OR($R23<$H23,$R23>$I23)),"Scheduled date outside requested window","OK")))))))))
U24: =IF($A24="","",IF(OR($M24="Active",$M24="Contacting",$M24="On Hold"),MAX(0,TODAY()-$G24),"")) | V24: =IF($A24="","",IF(OR($M24="Scheduled",$M24="Removed"),"Closed",IF($M24="On Hold",IF($Q24="","Hold date missing",IF($Q24<TODAY(),"Hold expired","On hold")),IF($P24="","Follow-up date missing",IF($P24<TODAY(),"Overdue",IF($P24<=TODAY()+'Lists & Setup'!$B$3,"Due soon","Planned")))))) | W24: =IF($A24="","",IF(OR($M24="Scheduled",$M24="Removed"),"Closed",IF($I24="","Date missing",IF($I24<TODAY(),"Expired",IF($I24<=TODAY()+'Lists & Setup'!$B$4,"Closing soon","Open"))))) | X24: =IF($A24="","",IF(COUNTIF($A$5:$A$204,$A24)>1,"Duplicate Request ID",IF(OR($B24="",$C24="",$D24="",$E24="",$G24="",$H24="",$I24="",$L24="",$M24=""),"Missing required field",IF($I24<$H24,"Latest date precedes earliest date",IF(AND(OR($M24="Active",$M24="Contacting"),$P24=""),"Next follow-up date missing",IF(AND($M24="On Hold",$Q24=""),"Hold-through date missing",IF(AND($M24="Scheduled",$R24=""),"Scheduled date missing",IF(AND(OR($M24="Scheduled",$M24="Removed"),$S24=""),"Outcome reason missing",IF(AND($R24<>"",OR($R24<$H24,$R24>$I24)),"Scheduled date outside requested window","OK")))))))))
U25: =IF($A25="","",IF(OR($M25="Active",$M25="Contacting",$M25="On Hold"),MAX(0,TODAY()-$G25),"")) | V25: =IF($A25="","",IF(OR($M25="Scheduled",$M25="Removed"),"Closed",IF($M25="On Hold",IF($Q25="","Hold date missing",IF($Q25<TODAY(),"Hold expired","On hold")),IF($P25="","Follow-up date missing",IF($P25<TODAY(),"Overdue",IF($P25<=TODAY()+'Lists & Setup'!$B$3,"Due soon","Planned")))))) | W25: =IF($A25="","",IF(OR($M25="Scheduled",$M25="Removed"),"Closed",IF($I25="","Date missing",IF($I25<TODAY(),"Expired",IF($I25<=TODAY()+'Lists & Setup'!$B$4,"Closing soon","Open"))))) | X25: =IF($A25="","",IF(COUNTIF($A$5:$A$204,$A25)>1,"Duplicate Request ID",IF(OR($B25="",$C25="",$D25="",$E25="",$G25="",$H25="",$I25="",$L25="",$M25=""),"Missing required field",IF($I25<$H25,"Latest date precedes earliest date",IF(AND(OR($M25="Active",$M25="Contacting"),$P25=""),"Next follow-up date missing",IF(AND($M25="On Hold",$Q25=""),"Hold-through date missing",IF(AND($M25="Scheduled",$R25=""),"Scheduled date missing",IF(AND(OR($M25="Scheduled",$M25="Removed"),$S25=""),"Outcome reason missing",IF(AND($R25<>"",OR($R25<$H25,$R25>$I25)),"Scheduled date outside requested window","OK")))))))))
U26: =IF($A26="","",IF(OR($M26="Active",$M26="Contacting",$M26="On Hold"),MAX(0,TODAY()-$G26),"")) | V26: =IF($A26="","",IF(OR($M26="Scheduled",$M26="Removed"),"Closed",IF($M26="On Hold",IF($Q26="","Hold date missing",IF($Q26<TODAY(),"Hold expired","On hold")),IF($P26="","Follow-up date missing",IF($P26<TODAY(),"Overdue",IF($P26<=TODAY()+'Lists & Setup'!$B$3,"Due soon","Planned")))))) | W26: =IF($A26="","",IF(OR($M26="Scheduled",$M26="Removed"),"Closed",IF($I26="","Date missing",IF($I26<TODAY(),"Expired",IF($I26<=TODAY()+'Lists & Setup'!$B$4,"Closing soon","Open"))))) | X26: =IF($A26="","",IF(COUNTIF($A$5:$A$204,$A26)>1,"Duplicate Request ID",IF(OR($B26="",$C26="",$D26="",$E26="",$G26="",$H26="",$I26="",$L26="",$M26=""),"Missing required field",IF($I26<$H26,"Latest date precedes earliest date",IF(AND(OR($M26="Active",$M26="Contacting"),$P26=""),"Next follow-up date missing",IF(AND($M26="On Hold",$Q26=""),"Hold-through date missing",IF(AND($M26="Scheduled",$R26=""),"Scheduled date missing",IF(AND(OR($M26="Scheduled",$M26="Removed"),$S26=""),"Outcome reason missing",IF(AND($R26<>"",OR($R26<$H26,$R26>$I26)),"Scheduled date outside requested window","OK")))))))))
... U204: =IF($A204="","",IF(OR($M204="Active",$M204="Contacting",$M204="On Hold"),MAX(0,TODAY()-$G204),"")) | V204: =IF($A204="","",IF(OR($M204="Scheduled",$M204="Removed"),"Closed",IF($M204="On Hold",IF($Q204="","Hold date missing",IF($Q204<TODAY(),"Hold expired","On hold")),IF($P204="","Follow-up date missing",IF($P204<TODAY(),"Overdue",IF($P204<=TODAY()+'Lists & Setup'!$B$3,"Due soon","Planned")))))) | W204: =IF($A204="","",IF(OR($M204="Scheduled",$M204="Removed"),"Closed",IF($I204="","Date missing",IF($I204<TODAY(),"Expired",IF($I204<=TODAY()+'Lists & Setup'!$B$4,"Closing soon","Open"))))) | X204: =IF($A204="","",IF(COUNTIF($A$5:$A$204,$A204)>1,"Duplicate Request ID",IF(OR($B204="",$C204="",$D204="",$E204="",$G204="",$H204="",$I204="",$L204="",$M204=""),"Missing required field",IF($I204<$H204,"Latest date precedes earliest date",IF(AND(OR($M204="Active",$M204="Contacting"),$P204=""),"Next follow-up date missing",IF(AND($M204="On Hold",$Q204=""),"Hold-through date missing",IF(AND($M204="Scheduled",$R204=""),"Scheduled date missing",IF(AND(OR($M204="Scheduled",$M204="Removed"),$S204=""),"Outcome reason missing",IF(AND($R204<>"",OR($R204<$H204,$R204>$I204)),"Scheduled date outside requested window","OK")))))))))

Sheet Lists & Setup
A1: Workbook Settings
A2: Dashboard Review Date | B2: =TODAY() | E2: Clinic | F2: Service | G2: Appointment Type | H2: Preferred Contact Method | I2: Time Preference | J2: Operational Priority | K2: Status | L2: Outcome Reason
A3: Follow-up Due Soon Days | B3: 3 | C3: Flags a planned follow-up as Due soon when it falls within this many days. | E3: Pine Harbor Clinic | F3: Primary Care | G3: New Visit | H3: Phone | I3: Early Morning | J3: High | K3: Active | L3: Appointment accepted
A4: Date Window Closing Soon Days | B4: 7 | C4: Flags an open date window as Closing soon when its latest acceptable date falls within this many days. | E4: Lakeview Medical Office | F4: Dermatology | G4: Follow-up | H4: Portal | I4: Morning | J4: Standard | K4: Contacting | L4: No longer needed
E5: Cedar Grove Clinic | F5: Cardiology | G5: Annual Visit | H5: Mail | I5: Midday | J5: Low | K5: On Hold | L5: Unable to reach
E6: Northstar Health Center | F6: Orthopedics | G6: Consultation | H6: No Preference | I6: Afternoon | K6: Scheduled | L6: Date range passed
F7: Physical Therapy | G7: Procedure | I7: Late Afternoon | K7: Removed | L7: Requested removal
F8: Imaging | I8: Any Time | L8: Scheduled elsewhere
F9: Nutrition | L9: Other operational reason
F10: Behavioral Health

Sheet Instructions
A1: Appointment Waitlist Template Instructions
A3: Purpose
A4: Use this workbook to organize non-identifying appointment waitlist requests, plan follow-up, and review open waitlist volume. It is an operational scheduling tool and does not provide clinical, legal, payer, or regulatory guidance.
A6: Getting Started
A7: 1. Review the timing settings and dropdown values on Lists & Setup.
A8: 2. Enter one waitlist request per row on the Waitlist sheet.
A9: 3. Assign a unique Request ID and a non-identifying Request Alias.
A10: 4. Complete all required fields and select a current Status.
A11: 5. Review Follow-up Flag, Date Window Flag, and Data Check each workday.
A12: 6. Update Status, Scheduled Date, and Outcome Reason when a request is closed.
A13: 7. Use Dashboard filters and summaries to prioritize scheduling work.
A15: Required Privacy-Minimizing Practice
... A24: Status Definitions
A25: Status | B25: Definition
A26: Active | B26: The request remains open and is waiting for an appointment opportunity.
A27: Contacting | B27: Staff are actively attempting to confirm an available appointment.
A28: On Hold | B28: The request is temporarily paused through the Hold Through Date.
A29: Scheduled | B29: An appointment was accepted and the Scheduled Date is recorded.
A30: Removed | B30: The request was closed without scheduling.
A32: Flag Definitions
A33: Flag | B33: Meaning
A34: Overdue | B34: The next follow-up date is before today.
A35: Due soon | B35: The next follow-up date falls within the configured number of days.
A36: Planned | B36: The follow-up date is beyond the due-soon period.
A37: Hold expired | B37: The Hold Through Date is before today.
A38: Closing soon | B38: The Latest Acceptable Date falls within the configured warning period.
A39: Expired | B39: The Latest Acceptable Date is before today.
A40: OK | B40: No configured record-level data issue was found.
A42: Daily Review Procedure
A43: 1. Filter Follow-up Flag for Overdue, Due soon, Follow-up date missing, and Hold expired.
A44: 2. Filter Date Window Flag for Expired and Closing soon.
A45: 3. Filter Data Check for all values other than OK.
A46: 4. Review High operational-priority requests.
A47: 5. Update contact dates, attempts, status, and next action after scheduling work is completed.
A48: 6. Confirm closed records have the required Scheduled Date or Outcome Reason.
A50: Blank-Row Behavior
A51: Unused prepared rows remain visually blank because formulas return blank until a Request ID is entered. Do not delete the prepared formula cells in columns U through X.
A53: Refresh Behavior
A54: The workbook uses TODAY(), so date-based flags update when the file is opened and recalculated. If results appear outdated, recalculate the workbook.
